BEGIN:VCALENDAR
VERSION:2.0
PRODID:https://www.kufer.de/kuferweb / DE
METHOD:PUBLISH
CALSCALE:GREGORIAN
X-WR-TIMEZONE:Europe/Berlin
BEGIN:VTIMEZONE
TZID:Europe/Berlin
X-LIC-LOCATION:Europe/Berlin
BEGIN:DAYLIGHT
TZOFFSETFROM:+0100
TZOFFSETTO:+0200
TZNAME:CEST
DTSTART:19700329T020000
RRULE:FREQ=YEARLY;INTERVAL=1;BYDAY=-1SU;BYMONTH=3
END:DAYLIGHT
BEGIN:STANDARD
TZOFFSETFROM:+0200
TZOFFSETTO:+0100
TZNAME:CET
DTSTART:19701025T030000
RRULE:FREQ=YEARLY;INTERVAL=1;BYDAY=-1SU;BYMONTH=10
END:STANDARD
END:VTIMEZONE
BEGIN:VEVENT
DTSTAMP:20260421T173128
DTSTART;TZID=Europe/Berlin:20260413T164500
DTEND;TZID=Europe/Berlin:20260413T173000
UID:261-84370-20260413T164500@VHSTÜBINGEN
SUMMARY:Aqua-Zumba® (261-84370) 
LOCATION:84 Schwimmhalle Kirchentellinsfurt, Kirchfeldstraße 15, 72138 Kirchentellinsfurt
END:VEVENT
BEGIN:VEVENT
DTSTAMP:20260421T173128
DTSTART;TZID=Europe/Berlin:20260420T164500
DTEND;TZID=Europe/Berlin:20260420T173000
UID:261-84370-20260420T164500@VHSTÜBINGEN
SUMMARY:Aqua-Zumba® (261-84370) 
LOCATION:84 Schwimmhalle Kirchentellinsfurt, Kirchfeldstraße 15, 72138 Kirchentellinsfurt
END:VEVENT
BEGIN:VEVENT
DTSTAMP:20260421T173128
DTSTART;TZID=Europe/Berlin:20260427T164500
DTEND;TZID=Europe/Berlin:20260427T173000
UID:261-84370-20260427T164500@VHSTÜBINGEN
SUMMARY:Aqua-Zumba® (261-84370) 
LOCATION:84 Schwimmhalle Kirchentellinsfurt, Kirchfeldstraße 15, 72138 Kirchentellinsfurt
END:VEVENT
BEGIN:VEVENT
DTSTAMP:20260421T173128
DTSTART;TZID=Europe/Berlin:20260504T164500
DTEND;TZID=Europe/Berlin:20260504T173000
UID:261-84370-20260504T164500@VHSTÜBINGEN
SUMMARY:Aqua-Zumba® (261-84370) 
LOCATION:84 Schwimmhalle Kirchentellinsfurt, Kirchfeldstraße 15, 72138 Kirchentellinsfurt
END:VEVENT
BEGIN:VEVENT
DTSTAMP:20260421T173128
DTSTART;TZID=Europe/Berlin:20260511T164500
DTEND;TZID=Europe/Berlin:20260511T173000
UID:261-84370-20260511T164500@VHSTÜBINGEN
SUMMARY:Aqua-Zumba® (261-84370) 
LOCATION:84 Schwimmhalle Kirchentellinsfurt, Kirchfeldstraße 15, 72138 Kirchentellinsfurt
END:VEVENT
BEGIN:VEVENT
DTSTAMP:20260421T173128
DTSTART;TZID=Europe/Berlin:20260518T164500
DTEND;TZID=Europe/Berlin:20260518T173000
UID:261-84370-20260518T164500@VHSTÜBINGEN
SUMMARY:Aqua-Zumba® (261-84370) 
LOCATION:84 Schwimmhalle Kirchentellinsfurt, Kirchfeldstraße 15, 72138 Kirchentellinsfurt
END:VEVENT
BEGIN:VEVENT
DTSTAMP:20260421T173128
DTSTART;TZID=Europe/Berlin:20260608T164500
DTEND;TZID=Europe/Berlin:20260608T173000
UID:261-84370-20260608T164500@VHSTÜBINGEN
SUMMARY:Aqua-Zumba® (261-84370) 
LOCATION:84 Schwimmhalle Kirchentellinsfurt, Kirchfeldstraße 15, 72138 Kirchentellinsfurt
END:VEVENT
BEGIN:VEVENT
DTSTAMP:20260421T173128
DTSTART;TZID=Europe/Berlin:20260615T164500
DTEND;TZID=Europe/Berlin:20260615T173000
UID:261-84370-20260615T164500@VHSTÜBINGEN
SUMMARY:Aqua-Zumba® (261-84370) 
LOCATION:84 Schwimmhalle Kirchentellinsfurt, Kirchfeldstraße 15, 72138 Kirchentellinsfurt
END:VEVENT
BEGIN:VEVENT
DTSTAMP:20260421T173128
DTSTART;TZID=Europe/Berlin:20260622T164500
DTEND;TZID=Europe/Berlin:20260622T173000
UID:261-84370-20260622T164500@VHSTÜBINGEN
SUMMARY:Aqua-Zumba® (261-84370) 
LOCATION:84 Schwimmhalle Kirchentellinsfurt, Kirchfeldstraße 15, 72138 Kirchentellinsfurt
END:VEVENT
BEGIN:VEVENT
DTSTAMP:20260421T173128
DTSTART;TZID=Europe/Berlin:20260629T164500
DTEND;TZID=Europe/Berlin:20260629T173000
UID:261-84370-20260629T164500@VHSTÜBINGEN
SUMMARY:Aqua-Zumba® (261-84370) 
LOCATION:84 Schwimmhalle Kirchentellinsfurt, Kirchfeldstraße 15, 72138 Kirchentellinsfurt
END:VEVENT
BEGIN:VEVENT
DTSTAMP:20260421T173128
DTSTART;TZID=Europe/Berlin:20260706T164500
DTEND;TZID=Europe/Berlin:20260706T173000
UID:261-84370-20260706T164500@VHSTÜBINGEN
SUMMARY:Aqua-Zumba® (261-84370) 
LOCATION:84 Schwimmhalle Kirchentellinsfurt, Kirchfeldstraße 15, 72138 Kirchentellinsfurt
END:VEVENT
BEGIN:VEVENT
DTSTAMP:20260421T173128
DTSTART;TZID=Europe/Berlin:20260713T164500
DTEND;TZID=Europe/Berlin:20260713T173000
UID:261-84370-20260713T164500@VHSTÜBINGEN
SUMMARY:Aqua-Zumba® (261-84370) 
LOCATION:84 Schwimmhalle Kirchentellinsfurt, Kirchfeldstraße 15, 72138 Kirchentellinsfurt
END:VEVENT
END:VCALENDAR