BEGIN:VCALENDAR
VERSION:2.0
PRODID:https://www.kufer.de/kuferweb / DE
METHOD:PUBLISH
CALSCALE:GREGORIAN
X-WR-TIMEZONE:Europe/Berlin
BEGIN:VTIMEZONE
TZID:Europe/Berlin
X-LIC-LOCATION:Europe/Berlin
BEGIN:DAYLIGHT
TZOFFSETFROM:+0100
TZOFFSETTO:+0200
TZNAME:CEST
DTSTART:19700329T020000
RRULE:FREQ=YEARLY;INTERVAL=1;BYDAY=-1SU;BYMONTH=3
END:DAYLIGHT
BEGIN:STANDARD
TZOFFSETFROM:+0200
TZOFFSETTO:+0100
TZNAME:CET
DTSTART:19701025T030000
RRULE:FREQ=YEARLY;INTERVAL=1;BYDAY=-1SU;BYMONTH=10
END:STANDARD
END:VTIMEZONE
BEGIN:VEVENT
DTSTAMP:20260421T174700
DTSTART;TZID=Europe/Berlin:20260227T201500
DTEND;TZID=Europe/Berlin:20260227T210000
UID:261-84371-20260227T201500@VHSTÜBINGEN
SUMMARY:Wassergymnastik (261-84371) 
LOCATION:84 Schwimmhalle Kirchentellinsfurt, Kirchfeldstraße 15, 72138 Kirchentellinsfurt
END:VEVENT
BEGIN:VEVENT
DTSTAMP:20260421T174700
DTSTART;TZID=Europe/Berlin:20260306T201500
DTEND;TZID=Europe/Berlin:20260306T210000
UID:261-84371-20260306T201500@VHSTÜBINGEN
SUMMARY:Wassergymnastik (261-84371) 
LOCATION:84 Schwimmhalle Kirchentellinsfurt, Kirchfeldstraße 15, 72138 Kirchentellinsfurt
END:VEVENT
BEGIN:VEVENT
DTSTAMP:20260421T174700
DTSTART;TZID=Europe/Berlin:20260320T201500
DTEND;TZID=Europe/Berlin:20260320T210000
UID:261-84371-20260320T201500@VHSTÜBINGEN
SUMMARY:Wassergymnastik (261-84371) 
LOCATION:84 Schwimmhalle Kirchentellinsfurt, Kirchfeldstraße 15, 72138 Kirchentellinsfurt
END:VEVENT
BEGIN:VEVENT
DTSTAMP:20260421T174700
DTSTART;TZID=Europe/Berlin:20260327T201500
DTEND;TZID=Europe/Berlin:20260327T210000
UID:261-84371-20260327T201500@VHSTÜBINGEN
SUMMARY:Wassergymnastik (261-84371) 
LOCATION:84 Schwimmhalle Kirchentellinsfurt, Kirchfeldstraße 15, 72138 Kirchentellinsfurt
END:VEVENT
BEGIN:VEVENT
DTSTAMP:20260421T174700
DTSTART;TZID=Europe/Berlin:20260417T201500
DTEND;TZID=Europe/Berlin:20260417T210000
UID:261-84371-20260417T201500@VHSTÜBINGEN
SUMMARY:Wassergymnastik (261-84371) 
LOCATION:84 Schwimmhalle Kirchentellinsfurt, Kirchfeldstraße 15, 72138 Kirchentellinsfurt
END:VEVENT
BEGIN:VEVENT
DTSTAMP:20260421T174700
DTSTART;TZID=Europe/Berlin:20260424T201500
DTEND;TZID=Europe/Berlin:20260424T210000
UID:261-84371-20260424T201500@VHSTÜBINGEN
SUMMARY:Wassergymnastik (261-84371) 
LOCATION:84 Schwimmhalle Kirchentellinsfurt, Kirchfeldstraße 15, 72138 Kirchentellinsfurt
END:VEVENT
BEGIN:VEVENT
DTSTAMP:20260421T174700
DTSTART;TZID=Europe/Berlin:20260508T201500
DTEND;TZID=Europe/Berlin:20260508T210000
UID:261-84371-20260508T201500@VHSTÜBINGEN
SUMMARY:Wassergymnastik (261-84371) 
LOCATION:84 Schwimmhalle Kirchentellinsfurt, Kirchfeldstraße 15, 72138 Kirchentellinsfurt
END:VEVENT
BEGIN:VEVENT
DTSTAMP:20260421T174700
DTSTART;TZID=Europe/Berlin:20260515T201500
DTEND;TZID=Europe/Berlin:20260515T210000
UID:261-84371-20260515T201500@VHSTÜBINGEN
SUMMARY:Wassergymnastik (261-84371) 
LOCATION:84 Schwimmhalle Kirchentellinsfurt, Kirchfeldstraße 15, 72138 Kirchentellinsfurt
END:VEVENT
BEGIN:VEVENT
DTSTAMP:20260421T174700
DTSTART;TZID=Europe/Berlin:20260612T201500
DTEND;TZID=Europe/Berlin:20260612T210000
UID:261-84371-20260612T201500@VHSTÜBINGEN
SUMMARY:Wassergymnastik (261-84371) 
LOCATION:84 Schwimmhalle Kirchentellinsfurt, Kirchfeldstraße 15, 72138 Kirchentellinsfurt
END:VEVENT
BEGIN:VEVENT
DTSTAMP:20260421T174700
DTSTART;TZID=Europe/Berlin:20260619T201500
DTEND;TZID=Europe/Berlin:20260619T210000
UID:261-84371-20260619T201500@VHSTÜBINGEN
SUMMARY:Wassergymnastik (261-84371) 
LOCATION:84 Schwimmhalle Kirchentellinsfurt, Kirchfeldstraße 15, 72138 Kirchentellinsfurt
END:VEVENT
BEGIN:VEVENT
DTSTAMP:20260421T174700
DTSTART;TZID=Europe/Berlin:20260626T201500
DTEND;TZID=Europe/Berlin:20260626T210000
UID:261-84371-20260626T201500@VHSTÜBINGEN
SUMMARY:Wassergymnastik (261-84371) 
LOCATION:84 Schwimmhalle Kirchentellinsfurt, Kirchfeldstraße 15, 72138 Kirchentellinsfurt
END:VEVENT
BEGIN:VEVENT
DTSTAMP:20260421T174700
DTSTART;TZID=Europe/Berlin:20260703T201500
DTEND;TZID=Europe/Berlin:20260703T210000
UID:261-84371-20260703T201500@VHSTÜBINGEN
SUMMARY:Wassergymnastik (261-84371) 
LOCATION:84 Schwimmhalle Kirchentellinsfurt, Kirchfeldstraße 15, 72138 Kirchentellinsfurt
END:VEVENT
END:VCALENDAR