BEGIN:VCALENDAR
VERSION:2.0
PRODID:https://www.kufer.de/kuferweb / DE
METHOD:PUBLISH
CALSCALE:GREGORIAN
X-WR-TIMEZONE:Europe/Berlin
BEGIN:VTIMEZONE
TZID:Europe/Berlin
X-LIC-LOCATION:Europe/Berlin
BEGIN:DAYLIGHT
TZOFFSETFROM:+0100
TZOFFSETTO:+0200
TZNAME:CEST
DTSTART:19700329T020000
RRULE:FREQ=YEARLY;INTERVAL=1;BYDAY=-1SU;BYMONTH=3
END:DAYLIGHT
BEGIN:STANDARD
TZOFFSETFROM:+0200
TZOFFSETTO:+0100
TZNAME:CET
DTSTART:19701025T030000
RRULE:FREQ=YEARLY;INTERVAL=1;BYDAY=-1SU;BYMONTH=10
END:STANDARD
END:VTIMEZONE
BEGIN:VEVENT
DTSTAMP:20260421T164822
DTSTART;TZID=Europe/Berlin:20260303T100000
DTEND;TZID=Europe/Berlin:20260303T110000
UID:261-85201-20260303T100000@VHSTÜBINGEN
SUMMARY:Trommeln 60 plus mit Vorkenntnissen (261-85201) 
LOCATION:85 Altes Schulhaus Kusterdingen, Hindenburgstr. 5, 72127 Kusterdingen
END:VEVENT
BEGIN:VEVENT
DTSTAMP:20260421T164822
DTSTART;TZID=Europe/Berlin:20260310T100000
DTEND;TZID=Europe/Berlin:20260310T110000
UID:261-85201-20260310T100000@VHSTÜBINGEN
SUMMARY:Trommeln 60 plus mit Vorkenntnissen (261-85201) 
LOCATION:85 Altes Schulhaus Kusterdingen, Hindenburgstr. 5, 72127 Kusterdingen
END:VEVENT
BEGIN:VEVENT
DTSTAMP:20260421T164822
DTSTART;TZID=Europe/Berlin:20260317T100000
DTEND;TZID=Europe/Berlin:20260317T110000
UID:261-85201-20260317T100000@VHSTÜBINGEN
SUMMARY:Trommeln 60 plus mit Vorkenntnissen (261-85201) 
LOCATION:85 Altes Schulhaus Kusterdingen, Hindenburgstr. 5, 72127 Kusterdingen
END:VEVENT
BEGIN:VEVENT
DTSTAMP:20260421T164822
DTSTART;TZID=Europe/Berlin:20260324T100000
DTEND;TZID=Europe/Berlin:20260324T110000
UID:261-85201-20260324T100000@VHSTÜBINGEN
SUMMARY:Trommeln 60 plus mit Vorkenntnissen (261-85201) 
LOCATION:85 Altes Schulhaus Kusterdingen, Hindenburgstr. 5, 72127 Kusterdingen
END:VEVENT
BEGIN:VEVENT
DTSTAMP:20260421T164822
DTSTART;TZID=Europe/Berlin:20260421T100000
DTEND;TZID=Europe/Berlin:20260421T110000
UID:261-85201-20260421T100000@VHSTÜBINGEN
SUMMARY:Trommeln 60 plus mit Vorkenntnissen (261-85201) 
LOCATION:85 Altes Schulhaus Kusterdingen, Hindenburgstr. 5, 72127 Kusterdingen
END:VEVENT
BEGIN:VEVENT
DTSTAMP:20260421T164822
DTSTART;TZID=Europe/Berlin:20260428T100000
DTEND;TZID=Europe/Berlin:20260428T110000
UID:261-85201-20260428T100000@VHSTÜBINGEN
SUMMARY:Trommeln 60 plus mit Vorkenntnissen (261-85201) 
LOCATION:85 Altes Schulhaus Kusterdingen, Hindenburgstr. 5, 72127 Kusterdingen
END:VEVENT
BEGIN:VEVENT
DTSTAMP:20260421T164822
DTSTART;TZID=Europe/Berlin:20260505T100000
DTEND;TZID=Europe/Berlin:20260505T110000
UID:261-85201-20260505T100000@VHSTÜBINGEN
SUMMARY:Trommeln 60 plus mit Vorkenntnissen (261-85201) 
LOCATION:85 Altes Schulhaus Kusterdingen, Hindenburgstr. 5, 72127 Kusterdingen
END:VEVENT
BEGIN:VEVENT
DTSTAMP:20260421T164822
DTSTART;TZID=Europe/Berlin:20260512T100000
DTEND;TZID=Europe/Berlin:20260512T110000
UID:261-85201-20260512T100000@VHSTÜBINGEN
SUMMARY:Trommeln 60 plus mit Vorkenntnissen (261-85201) 
LOCATION:85 Altes Schulhaus Kusterdingen, Hindenburgstr. 5, 72127 Kusterdingen
END:VEVENT
BEGIN:VEVENT
DTSTAMP:20260421T164822
DTSTART;TZID=Europe/Berlin:20260519T100000
DTEND;TZID=Europe/Berlin:20260519T110000
UID:261-85201-20260519T100000@VHSTÜBINGEN
SUMMARY:Trommeln 60 plus mit Vorkenntnissen (261-85201) 
LOCATION:85 Altes Schulhaus Kusterdingen, Hindenburgstr. 5, 72127 Kusterdingen
END:VEVENT
END:VCALENDAR