BEGIN:VCALENDAR
VERSION:2.0
PRODID:https://www.kufer.de/kuferweb / DE
METHOD:PUBLISH
CALSCALE:GREGORIAN
X-WR-TIMEZONE:Europe/Berlin
BEGIN:VTIMEZONE
TZID:Europe/Berlin
X-LIC-LOCATION:Europe/Berlin
BEGIN:DAYLIGHT
TZOFFSETFROM:+0100
TZOFFSETTO:+0200
TZNAME:CEST
DTSTART:19700329T020000
RRULE:FREQ=YEARLY;INTERVAL=1;BYDAY=-1SU;BYMONTH=3
END:DAYLIGHT
BEGIN:STANDARD
TZOFFSETFROM:+0200
TZOFFSETTO:+0100
TZNAME:CET
DTSTART:19701025T030000
RRULE:FREQ=YEARLY;INTERVAL=1;BYDAY=-1SU;BYMONTH=10
END:STANDARD
END:VTIMEZONE
BEGIN:VEVENT
DTSTAMP:20260421T174703
DTSTART;TZID=Europe/Berlin:20260418T140000
DTEND;TZID=Europe/Berlin:20260418T160000
UID:261-85203-20260418T140000@VHSTÜBINGEN
SUMMARY:Trommeln Schnupperkurs 60 plus (261-85203) 
LOCATION:85 Altes Schulhaus Kusterdingen, Hindenburgstr. 5, 72127 Kusterdingen
END:VEVENT
BEGIN:VEVENT
DTSTAMP:20260421T174703
DTSTART;TZID=Europe/Berlin:20260419T100000
DTEND;TZID=Europe/Berlin:20260419T120000
UID:261-85203-20260419T100000@VHSTÜBINGEN
SUMMARY:Trommeln Schnupperkurs 60 plus (261-85203) 
LOCATION:85 Altes Schulhaus Kusterdingen, Hindenburgstr. 5, 72127 Kusterdingen
END:VEVENT
END:VCALENDAR