BEGIN:VCALENDAR
VERSION:2.0
PRODID:https://www.kufer.de/kuferweb / DE
METHOD:PUBLISH
CALSCALE:GREGORIAN
X-WR-TIMEZONE:Europe/Berlin
BEGIN:VTIMEZONE
TZID:Europe/Berlin
X-LIC-LOCATION:Europe/Berlin
BEGIN:DAYLIGHT
TZOFFSETFROM:+0100
TZOFFSETTO:+0200
TZNAME:CEST
DTSTART:19700329T020000
RRULE:FREQ=YEARLY;INTERVAL=1;BYDAY=-1SU;BYMONTH=3
END:DAYLIGHT
BEGIN:STANDARD
TZOFFSETFROM:+0200
TZOFFSETTO:+0100
TZNAME:CET
DTSTART:19701025T030000
RRULE:FREQ=YEARLY;INTERVAL=1;BYDAY=-1SU;BYMONTH=10
END:STANDARD
END:VTIMEZONE
BEGIN:VEVENT
DTSTAMP:20260421T141004
DTSTART;TZID=Europe/Berlin:20260302T180000
DTEND;TZID=Europe/Berlin:20260302T190000
UID:261-85311-20260302T180000@VHSTÜBINGEN
SUMMARY:Jumping Fitness (261-85311) 
LOCATION:85 Turn- und Festhalle Kusterdingen, Jahnstraße 33, 72127 Kusterdingen
END:VEVENT
BEGIN:VEVENT
DTSTAMP:20260421T141004
DTSTART;TZID=Europe/Berlin:20260309T180000
DTEND;TZID=Europe/Berlin:20260309T190000
UID:261-85311-20260309T180000@VHSTÜBINGEN
SUMMARY:Jumping Fitness (261-85311) 
LOCATION:85 Turn- und Festhalle Kusterdingen, Jahnstraße 33, 72127 Kusterdingen
END:VEVENT
BEGIN:VEVENT
DTSTAMP:20260421T141004
DTSTART;TZID=Europe/Berlin:20260316T180000
DTEND;TZID=Europe/Berlin:20260316T190000
UID:261-85311-20260316T180000@VHSTÜBINGEN
SUMMARY:Jumping Fitness (261-85311) 
LOCATION:85 Turn- und Festhalle Kusterdingen, Jahnstraße 33, 72127 Kusterdingen
END:VEVENT
BEGIN:VEVENT
DTSTAMP:20260421T141004
DTSTART;TZID=Europe/Berlin:20260323T180000
DTEND;TZID=Europe/Berlin:20260323T190000
UID:261-85311-20260323T180000@VHSTÜBINGEN
SUMMARY:Jumping Fitness (261-85311) 
LOCATION:85 Turn- und Festhalle Kusterdingen, Jahnstraße 33, 72127 Kusterdingen
END:VEVENT
BEGIN:VEVENT
DTSTAMP:20260421T141004
DTSTART;TZID=Europe/Berlin:20260413T180000
DTEND;TZID=Europe/Berlin:20260413T190000
UID:261-85311-20260413T180000@VHSTÜBINGEN
SUMMARY:Jumping Fitness (261-85311) 
LOCATION:85 Turn- und Festhalle Kusterdingen, Jahnstraße 33, 72127 Kusterdingen
END:VEVENT
BEGIN:VEVENT
DTSTAMP:20260421T141004
DTSTART;TZID=Europe/Berlin:20260420T180000
DTEND;TZID=Europe/Berlin:20260420T190000
UID:261-85311-20260420T180000@VHSTÜBINGEN
SUMMARY:Jumping Fitness (261-85311) 
LOCATION:85 Turn- und Festhalle Kusterdingen, Jahnstraße 33, 72127 Kusterdingen
END:VEVENT
BEGIN:VEVENT
DTSTAMP:20260421T141004
DTSTART;TZID=Europe/Berlin:20260427T180000
DTEND;TZID=Europe/Berlin:20260427T190000
UID:261-85311-20260427T180000@VHSTÜBINGEN
SUMMARY:Jumping Fitness (261-85311) 
LOCATION:85 Turn- und Festhalle Kusterdingen, Jahnstraße 33, 72127 Kusterdingen
END:VEVENT
BEGIN:VEVENT
DTSTAMP:20260421T141004
DTSTART;TZID=Europe/Berlin:20260504T180000
DTEND;TZID=Europe/Berlin:20260504T190000
UID:261-85311-20260504T180000@VHSTÜBINGEN
SUMMARY:Jumping Fitness (261-85311) 
LOCATION:85 Turn- und Festhalle Kusterdingen, Jahnstraße 33, 72127 Kusterdingen
END:VEVENT
END:VCALENDAR