BEGIN:VCALENDAR
VERSION:2.0
PRODID:https://www.kufer.de/kuferweb / DE
METHOD:PUBLISH
CALSCALE:GREGORIAN
X-WR-TIMEZONE:Europe/Berlin
BEGIN:VTIMEZONE
TZID:Europe/Berlin
X-LIC-LOCATION:Europe/Berlin
BEGIN:DAYLIGHT
TZOFFSETFROM:+0100
TZOFFSETTO:+0200
TZNAME:CEST
DTSTART:19700329T020000
RRULE:FREQ=YEARLY;INTERVAL=1;BYDAY=-1SU;BYMONTH=3
END:DAYLIGHT
BEGIN:STANDARD
TZOFFSETFROM:+0200
TZOFFSETTO:+0100
TZNAME:CET
DTSTART:19701025T030000
RRULE:FREQ=YEARLY;INTERVAL=1;BYDAY=-1SU;BYMONTH=10
END:STANDARD
END:VTIMEZONE
BEGIN:VEVENT
DTSTAMP:20260421T174726
DTSTART;TZID=Europe/Berlin:20260415T171500
DTEND;TZID=Europe/Berlin:20260415T181500
UID:261-85330-20260415T171500@VHSTÜBINGEN
SUMMARY:Stretching und Faszientraining (261-85330) 
LOCATION:85 Altes Schulhaus Kusterdingen, Hindenburgstr. 5, 72127 Kusterdingen
END:VEVENT
BEGIN:VEVENT
DTSTAMP:20260421T174726
DTSTART;TZID=Europe/Berlin:20260422T171500
DTEND;TZID=Europe/Berlin:20260422T181500
UID:261-85330-20260422T171500@VHSTÜBINGEN
SUMMARY:Stretching und Faszientraining (261-85330) 
LOCATION:85 Altes Schulhaus Kusterdingen, Hindenburgstr. 5, 72127 Kusterdingen
END:VEVENT
BEGIN:VEVENT
DTSTAMP:20260421T174726
DTSTART;TZID=Europe/Berlin:20260429T171500
DTEND;TZID=Europe/Berlin:20260429T181500
UID:261-85330-20260429T171500@VHSTÜBINGEN
SUMMARY:Stretching und Faszientraining (261-85330) 
LOCATION:85 Altes Schulhaus Kusterdingen, Hindenburgstr. 5, 72127 Kusterdingen
END:VEVENT
BEGIN:VEVENT
DTSTAMP:20260421T174726
DTSTART;TZID=Europe/Berlin:20260506T171500
DTEND;TZID=Europe/Berlin:20260506T181500
UID:261-85330-20260506T171500@VHSTÜBINGEN
SUMMARY:Stretching und Faszientraining (261-85330) 
LOCATION:85 Altes Schulhaus Kusterdingen, Hindenburgstr. 5, 72127 Kusterdingen
END:VEVENT
BEGIN:VEVENT
DTSTAMP:20260421T174726
DTSTART;TZID=Europe/Berlin:20260513T171500
DTEND;TZID=Europe/Berlin:20260513T181500
UID:261-85330-20260513T171500@VHSTÜBINGEN
SUMMARY:Stretching und Faszientraining (261-85330) 
LOCATION:85 Altes Schulhaus Kusterdingen, Hindenburgstr. 5, 72127 Kusterdingen
END:VEVENT
BEGIN:VEVENT
DTSTAMP:20260421T174726
DTSTART;TZID=Europe/Berlin:20260520T171500
DTEND;TZID=Europe/Berlin:20260520T181500
UID:261-85330-20260520T171500@VHSTÜBINGEN
SUMMARY:Stretching und Faszientraining (261-85330) 
LOCATION:85 Altes Schulhaus Kusterdingen, Hindenburgstr. 5, 72127 Kusterdingen
END:VEVENT
BEGIN:VEVENT
DTSTAMP:20260421T174726
DTSTART;TZID=Europe/Berlin:20260610T171500
DTEND;TZID=Europe/Berlin:20260610T181500
UID:261-85330-20260610T171500@VHSTÜBINGEN
SUMMARY:Stretching und Faszientraining (261-85330) 
LOCATION:85 Altes Schulhaus Kusterdingen, Hindenburgstr. 5, 72127 Kusterdingen
END:VEVENT
BEGIN:VEVENT
DTSTAMP:20260421T174726
DTSTART;TZID=Europe/Berlin:20260617T171500
DTEND;TZID=Europe/Berlin:20260617T181500
UID:261-85330-20260617T171500@VHSTÜBINGEN
SUMMARY:Stretching und Faszientraining (261-85330) 
LOCATION:85 Altes Schulhaus Kusterdingen, Hindenburgstr. 5, 72127 Kusterdingen
END:VEVENT
BEGIN:VEVENT
DTSTAMP:20260421T174726
DTSTART;TZID=Europe/Berlin:20260624T171500
DTEND;TZID=Europe/Berlin:20260624T181500
UID:261-85330-20260624T171500@VHSTÜBINGEN
SUMMARY:Stretching und Faszientraining (261-85330) 
LOCATION:85 Altes Schulhaus Kusterdingen, Hindenburgstr. 5, 72127 Kusterdingen
END:VEVENT
BEGIN:VEVENT
DTSTAMP:20260421T174726
DTSTART;TZID=Europe/Berlin:20260701T171500
DTEND;TZID=Europe/Berlin:20260701T181500
UID:261-85330-20260701T171500@VHSTÜBINGEN
SUMMARY:Stretching und Faszientraining (261-85330) 
LOCATION:85 Altes Schulhaus Kusterdingen, Hindenburgstr. 5, 72127 Kusterdingen
END:VEVENT
BEGIN:VEVENT
DTSTAMP:20260421T174726
DTSTART;TZID=Europe/Berlin:20260708T171500
DTEND;TZID=Europe/Berlin:20260708T181500
UID:261-85330-20260708T171500@VHSTÜBINGEN
SUMMARY:Stretching und Faszientraining (261-85330) 
LOCATION:85 Altes Schulhaus Kusterdingen, Hindenburgstr. 5, 72127 Kusterdingen
END:VEVENT
BEGIN:VEVENT
DTSTAMP:20260421T174726
DTSTART;TZID=Europe/Berlin:20260715T171500
DTEND;TZID=Europe/Berlin:20260715T181500
UID:261-85330-20260715T171500@VHSTÜBINGEN
SUMMARY:Stretching und Faszientraining (261-85330) 
LOCATION:85 Altes Schulhaus Kusterdingen, Hindenburgstr. 5, 72127 Kusterdingen
END:VEVENT
BEGIN:VEVENT
DTSTAMP:20260421T174726
DTSTART;TZID=Europe/Berlin:20260722T171500
DTEND;TZID=Europe/Berlin:20260722T181500
UID:261-85330-20260722T171500@VHSTÜBINGEN
SUMMARY:Stretching und Faszientraining (261-85330) 
LOCATION:85 Altes Schulhaus Kusterdingen, Hindenburgstr. 5, 72127 Kusterdingen
END:VEVENT
BEGIN:VEVENT
DTSTAMP:20260421T174726
DTSTART;TZID=Europe/Berlin:20260729T171500
DTEND;TZID=Europe/Berlin:20260729T181500
UID:261-85330-20260729T171500@VHSTÜBINGEN
SUMMARY:Stretching und Faszientraining (261-85330) 
LOCATION:85 Altes Schulhaus Kusterdingen, Hindenburgstr. 5, 72127 Kusterdingen
END:VEVENT
END:VCALENDAR