BEGIN:VCALENDAR
VERSION:2.0
PRODID:https://www.kufer.de/kuferweb / DE
METHOD:PUBLISH
CALSCALE:GREGORIAN
X-WR-TIMEZONE:Europe/Berlin
BEGIN:VTIMEZONE
TZID:Europe/Berlin
X-LIC-LOCATION:Europe/Berlin
BEGIN:DAYLIGHT
TZOFFSETFROM:+0100
TZOFFSETTO:+0200
TZNAME:CEST
DTSTART:19700329T020000
RRULE:FREQ=YEARLY;INTERVAL=1;BYDAY=-1SU;BYMONTH=3
END:DAYLIGHT
BEGIN:STANDARD
TZOFFSETFROM:+0200
TZOFFSETTO:+0100
TZNAME:CET
DTSTART:19701025T030000
RRULE:FREQ=YEARLY;INTERVAL=1;BYDAY=-1SU;BYMONTH=10
END:STANDARD
END:VTIMEZONE
BEGIN:VEVENT
DTSTAMP:20260421T184639
DTSTART;TZID=Europe/Berlin:20260226T091500
DTEND;TZID=Europe/Berlin:20260226T103000
UID:261-85335-20260226T091500@VHSTÜBINGEN
SUMMARY:Qigong - für Einsteiger/-innen und Fortgeschrittene (261-85335) 
LOCATION:85 Altes Schulhaus Kusterdingen, Hindenburgstr. 5, 72127 Kusterdingen
END:VEVENT
BEGIN:VEVENT
DTSTAMP:20260421T184639
DTSTART;TZID=Europe/Berlin:20260305T091500
DTEND;TZID=Europe/Berlin:20260305T103000
UID:261-85335-20260305T091500@VHSTÜBINGEN
SUMMARY:Qigong - für Einsteiger/-innen und Fortgeschrittene (261-85335) 
LOCATION:85 Altes Schulhaus Kusterdingen, Hindenburgstr. 5, 72127 Kusterdingen
END:VEVENT
BEGIN:VEVENT
DTSTAMP:20260421T184639
DTSTART;TZID=Europe/Berlin:20260312T091500
DTEND;TZID=Europe/Berlin:20260312T103000
UID:261-85335-20260312T091500@VHSTÜBINGEN
SUMMARY:Qigong - für Einsteiger/-innen und Fortgeschrittene (261-85335) 
LOCATION:85 Altes Schulhaus Kusterdingen, Hindenburgstr. 5, 72127 Kusterdingen
END:VEVENT
BEGIN:VEVENT
DTSTAMP:20260421T184639
DTSTART;TZID=Europe/Berlin:20260319T091500
DTEND;TZID=Europe/Berlin:20260319T103000
UID:261-85335-20260319T091500@VHSTÜBINGEN
SUMMARY:Qigong - für Einsteiger/-innen und Fortgeschrittene (261-85335) 
LOCATION:85 Altes Schulhaus Kusterdingen, Hindenburgstr. 5, 72127 Kusterdingen
END:VEVENT
BEGIN:VEVENT
DTSTAMP:20260421T184639
DTSTART;TZID=Europe/Berlin:20260326T091500
DTEND;TZID=Europe/Berlin:20260326T103000
UID:261-85335-20260326T091500@VHSTÜBINGEN
SUMMARY:Qigong - für Einsteiger/-innen und Fortgeschrittene (261-85335) 
LOCATION:85 Altes Schulhaus Kusterdingen, Hindenburgstr. 5, 72127 Kusterdingen
END:VEVENT
BEGIN:VEVENT
DTSTAMP:20260421T184639
DTSTART;TZID=Europe/Berlin:20260416T091500
DTEND;TZID=Europe/Berlin:20260416T103000
UID:261-85335-20260416T091500@VHSTÜBINGEN
SUMMARY:Qigong - für Einsteiger/-innen und Fortgeschrittene (261-85335) 
LOCATION:85 Altes Schulhaus Kusterdingen, Hindenburgstr. 5, 72127 Kusterdingen
END:VEVENT
BEGIN:VEVENT
DTSTAMP:20260421T184639
DTSTART;TZID=Europe/Berlin:20260423T091500
DTEND;TZID=Europe/Berlin:20260423T103000
UID:261-85335-20260423T091500@VHSTÜBINGEN
SUMMARY:Qigong - für Einsteiger/-innen und Fortgeschrittene (261-85335) 
LOCATION:85 Altes Schulhaus Kusterdingen, Hindenburgstr. 5, 72127 Kusterdingen
END:VEVENT
BEGIN:VEVENT
DTSTAMP:20260421T184639
DTSTART;TZID=Europe/Berlin:20260430T091500
DTEND;TZID=Europe/Berlin:20260430T103000
UID:261-85335-20260430T091500@VHSTÜBINGEN
SUMMARY:Qigong - für Einsteiger/-innen und Fortgeschrittene (261-85335) 
LOCATION:85 Altes Schulhaus Kusterdingen, Hindenburgstr. 5, 72127 Kusterdingen
END:VEVENT
BEGIN:VEVENT
DTSTAMP:20260421T184639
DTSTART;TZID=Europe/Berlin:20260507T091500
DTEND;TZID=Europe/Berlin:20260507T103000
UID:261-85335-20260507T091500@VHSTÜBINGEN
SUMMARY:Qigong - für Einsteiger/-innen und Fortgeschrittene (261-85335) 
LOCATION:85 Altes Schulhaus Kusterdingen, Hindenburgstr. 5, 72127 Kusterdingen
END:VEVENT
BEGIN:VEVENT
DTSTAMP:20260421T184639
DTSTART;TZID=Europe/Berlin:20260611T091500
DTEND;TZID=Europe/Berlin:20260611T103000
UID:261-85335-20260611T091500@VHSTÜBINGEN
SUMMARY:Qigong - für Einsteiger/-innen und Fortgeschrittene (261-85335) 
LOCATION:85 Altes Schulhaus Kusterdingen, Hindenburgstr. 5, 72127 Kusterdingen
END:VEVENT
BEGIN:VEVENT
DTSTAMP:20260421T184639
DTSTART;TZID=Europe/Berlin:20260618T091500
DTEND;TZID=Europe/Berlin:20260618T103000
UID:261-85335-20260618T091500@VHSTÜBINGEN
SUMMARY:Qigong - für Einsteiger/-innen und Fortgeschrittene (261-85335) 
LOCATION:85 Altes Schulhaus Kusterdingen, Hindenburgstr. 5, 72127 Kusterdingen
END:VEVENT
BEGIN:VEVENT
DTSTAMP:20260421T184639
DTSTART;TZID=Europe/Berlin:20260625T091500
DTEND;TZID=Europe/Berlin:20260625T103000
UID:261-85335-20260625T091500@VHSTÜBINGEN
SUMMARY:Qigong - für Einsteiger/-innen und Fortgeschrittene (261-85335) 
LOCATION:85 Altes Schulhaus Kusterdingen, Hindenburgstr. 5, 72127 Kusterdingen
END:VEVENT
BEGIN:VEVENT
DTSTAMP:20260421T184639
DTSTART;TZID=Europe/Berlin:20260709T091500
DTEND;TZID=Europe/Berlin:20260709T103000
UID:261-85335-20260709T091500@VHSTÜBINGEN
SUMMARY:Qigong - für Einsteiger/-innen und Fortgeschrittene (261-85335) 
LOCATION:85 Altes Schulhaus Kusterdingen, Hindenburgstr. 5, 72127 Kusterdingen
END:VEVENT
BEGIN:VEVENT
DTSTAMP:20260421T184639
DTSTART;TZID=Europe/Berlin:20260716T091500
DTEND;TZID=Europe/Berlin:20260716T103000
UID:261-85335-20260716T091500@VHSTÜBINGEN
SUMMARY:Qigong - für Einsteiger/-innen und Fortgeschrittene (261-85335) 
LOCATION:85 Altes Schulhaus Kusterdingen, Hindenburgstr. 5, 72127 Kusterdingen
END:VEVENT
BEGIN:VEVENT
DTSTAMP:20260421T184639
DTSTART;TZID=Europe/Berlin:20260723T091500
DTEND;TZID=Europe/Berlin:20260723T103000
UID:261-85335-20260723T091500@VHSTÜBINGEN
SUMMARY:Qigong - für Einsteiger/-innen und Fortgeschrittene (261-85335) 
LOCATION:85 Altes Schulhaus Kusterdingen, Hindenburgstr. 5, 72127 Kusterdingen
END:VEVENT
END:VCALENDAR