BEGIN:VCALENDAR
VERSION:2.0
PRODID:https://www.kufer.de/kuferweb / DE
METHOD:PUBLISH
CALSCALE:GREGORIAN
X-WR-TIMEZONE:Europe/Berlin
BEGIN:VTIMEZONE
TZID:Europe/Berlin
X-LIC-LOCATION:Europe/Berlin
BEGIN:DAYLIGHT
TZOFFSETFROM:+0100
TZOFFSETTO:+0200
TZNAME:CEST
DTSTART:19700329T020000
RRULE:FREQ=YEARLY;INTERVAL=1;BYDAY=-1SU;BYMONTH=3
END:DAYLIGHT
BEGIN:STANDARD
TZOFFSETFROM:+0200
TZOFFSETTO:+0100
TZNAME:CET
DTSTART:19701025T030000
RRULE:FREQ=YEARLY;INTERVAL=1;BYDAY=-1SU;BYMONTH=10
END:STANDARD
END:VTIMEZONE
BEGIN:VEVENT
DTSTAMP:20260421T132107
DTSTART;TZID=Europe/Berlin:20260224T083000
DTEND;TZID=Europe/Berlin:20260224T093000
UID:261-85350-20260224T083000@VHSTÜBINGEN
SUMMARY:Gesundheits- und Ausgleichsgymnastik (261-85350) 
LOCATION:85 Turn- und Festhalle Kusterdingen, Jahnstraße 33, 72127 Kusterdingen
END:VEVENT
BEGIN:VEVENT
DTSTAMP:20260421T132107
DTSTART;TZID=Europe/Berlin:20260310T083000
DTEND;TZID=Europe/Berlin:20260310T093000
UID:261-85350-20260310T083000@VHSTÜBINGEN
SUMMARY:Gesundheits- und Ausgleichsgymnastik (261-85350) 
LOCATION:85 Turn- und Festhalle Kusterdingen, Jahnstraße 33, 72127 Kusterdingen
END:VEVENT
BEGIN:VEVENT
DTSTAMP:20260421T132107
DTSTART;TZID=Europe/Berlin:20260317T083000
DTEND;TZID=Europe/Berlin:20260317T093000
UID:261-85350-20260317T083000@VHSTÜBINGEN
SUMMARY:Gesundheits- und Ausgleichsgymnastik (261-85350) 
LOCATION:85 Turn- und Festhalle Kusterdingen, Jahnstraße 33, 72127 Kusterdingen
END:VEVENT
BEGIN:VEVENT
DTSTAMP:20260421T132107
DTSTART;TZID=Europe/Berlin:20260324T083000
DTEND;TZID=Europe/Berlin:20260324T093000
UID:261-85350-20260324T083000@VHSTÜBINGEN
SUMMARY:Gesundheits- und Ausgleichsgymnastik (261-85350) 
LOCATION:85 Turn- und Festhalle Kusterdingen, Jahnstraße 33, 72127 Kusterdingen
END:VEVENT
BEGIN:VEVENT
DTSTAMP:20260421T132107
DTSTART;TZID=Europe/Berlin:20260414T083000
DTEND;TZID=Europe/Berlin:20260414T093000
UID:261-85350-20260414T083000@VHSTÜBINGEN
SUMMARY:Gesundheits- und Ausgleichsgymnastik (261-85350) 
LOCATION:85 Turn- und Festhalle Kusterdingen, Jahnstraße 33, 72127 Kusterdingen
END:VEVENT
BEGIN:VEVENT
DTSTAMP:20260421T132107
DTSTART;TZID=Europe/Berlin:20260505T083000
DTEND;TZID=Europe/Berlin:20260505T093000
UID:261-85350-20260505T083000@VHSTÜBINGEN
SUMMARY:Gesundheits- und Ausgleichsgymnastik (261-85350) 
LOCATION:85 Turn- und Festhalle Kusterdingen, Jahnstraße 33, 72127 Kusterdingen
END:VEVENT
BEGIN:VEVENT
DTSTAMP:20260421T132107
DTSTART;TZID=Europe/Berlin:20260512T083000
DTEND;TZID=Europe/Berlin:20260512T093000
UID:261-85350-20260512T083000@VHSTÜBINGEN
SUMMARY:Gesundheits- und Ausgleichsgymnastik (261-85350) 
LOCATION:85 Turn- und Festhalle Kusterdingen, Jahnstraße 33, 72127 Kusterdingen
END:VEVENT
BEGIN:VEVENT
DTSTAMP:20260421T132107
DTSTART;TZID=Europe/Berlin:20260519T083000
DTEND;TZID=Europe/Berlin:20260519T093000
UID:261-85350-20260519T083000@VHSTÜBINGEN
SUMMARY:Gesundheits- und Ausgleichsgymnastik (261-85350) 
LOCATION:85 Turn- und Festhalle Kusterdingen, Jahnstraße 33, 72127 Kusterdingen
END:VEVENT
BEGIN:VEVENT
DTSTAMP:20260421T132107
DTSTART;TZID=Europe/Berlin:20260609T083000
DTEND;TZID=Europe/Berlin:20260609T093000
UID:261-85350-20260609T083000@VHSTÜBINGEN
SUMMARY:Gesundheits- und Ausgleichsgymnastik (261-85350) 
LOCATION:85 Turn- und Festhalle Kusterdingen, Jahnstraße 33, 72127 Kusterdingen
END:VEVENT
BEGIN:VEVENT
DTSTAMP:20260421T132107
DTSTART;TZID=Europe/Berlin:20260623T083000
DTEND;TZID=Europe/Berlin:20260623T093000
UID:261-85350-20260623T083000@VHSTÜBINGEN
SUMMARY:Gesundheits- und Ausgleichsgymnastik (261-85350) 
LOCATION:85 Turn- und Festhalle Kusterdingen, Jahnstraße 33, 72127 Kusterdingen
END:VEVENT
BEGIN:VEVENT
DTSTAMP:20260421T132107
DTSTART;TZID=Europe/Berlin:20260630T083000
DTEND;TZID=Europe/Berlin:20260630T093000
UID:261-85350-20260630T083000@VHSTÜBINGEN
SUMMARY:Gesundheits- und Ausgleichsgymnastik (261-85350) 
LOCATION:85 Turn- und Festhalle Kusterdingen, Jahnstraße 33, 72127 Kusterdingen
END:VEVENT
BEGIN:VEVENT
DTSTAMP:20260421T132107
DTSTART;TZID=Europe/Berlin:20260707T083000
DTEND;TZID=Europe/Berlin:20260707T093000
UID:261-85350-20260707T083000@VHSTÜBINGEN
SUMMARY:Gesundheits- und Ausgleichsgymnastik (261-85350) 
LOCATION:85 Turn- und Festhalle Kusterdingen, Jahnstraße 33, 72127 Kusterdingen
END:VEVENT
BEGIN:VEVENT
DTSTAMP:20260421T132107
DTSTART;TZID=Europe/Berlin:20260714T083000
DTEND;TZID=Europe/Berlin:20260714T093000
UID:261-85350-20260714T083000@VHSTÜBINGEN
SUMMARY:Gesundheits- und Ausgleichsgymnastik (261-85350) 
LOCATION:85 Turn- und Festhalle Kusterdingen, Jahnstraße 33, 72127 Kusterdingen
END:VEVENT
BEGIN:VEVENT
DTSTAMP:20260421T132107
DTSTART;TZID=Europe/Berlin:20260721T083000
DTEND;TZID=Europe/Berlin:20260721T093000
UID:261-85350-20260721T083000@VHSTÜBINGEN
SUMMARY:Gesundheits- und Ausgleichsgymnastik (261-85350) 
LOCATION:85 Turn- und Festhalle Kusterdingen, Jahnstraße 33, 72127 Kusterdingen
END:VEVENT
BEGIN:VEVENT
DTSTAMP:20260421T132107
DTSTART;TZID=Europe/Berlin:20260728T083000
DTEND;TZID=Europe/Berlin:20260728T093000
UID:261-85350-20260728T083000@VHSTÜBINGEN
SUMMARY:Gesundheits- und Ausgleichsgymnastik (261-85350) 
LOCATION:85 Turn- und Festhalle Kusterdingen, Jahnstraße 33, 72127 Kusterdingen
END:VEVENT
END:VCALENDAR