BEGIN:VCALENDAR
VERSION:2.0
PRODID:https://www.kufer.de/kuferweb / DE
METHOD:PUBLISH
CALSCALE:GREGORIAN
X-WR-TIMEZONE:Europe/Berlin
BEGIN:VTIMEZONE
TZID:Europe/Berlin
X-LIC-LOCATION:Europe/Berlin
BEGIN:DAYLIGHT
TZOFFSETFROM:+0100
TZOFFSETTO:+0200
TZNAME:CEST
DTSTART:19700329T020000
RRULE:FREQ=YEARLY;INTERVAL=1;BYDAY=-1SU;BYMONTH=3
END:DAYLIGHT
BEGIN:STANDARD
TZOFFSETFROM:+0200
TZOFFSETTO:+0100
TZNAME:CET
DTSTART:19701025T030000
RRULE:FREQ=YEARLY;INTERVAL=1;BYDAY=-1SU;BYMONTH=10
END:STANDARD
END:VTIMEZONE
BEGIN:VEVENT
DTSTAMP:20260421T132103
DTSTART;TZID=Europe/Berlin:20260225T161500
DTEND;TZID=Europe/Berlin:20260225T170000
UID:261-85361-20260225T161500@VHSTÜBINGEN
SUMMARY:Aquafitness (261-85361) 
LOCATION:85 Schwimmhalle Kusterdingen, Jahnstr. 26/1, 72127 Kusterdingen
END:VEVENT
BEGIN:VEVENT
DTSTAMP:20260421T132103
DTSTART;TZID=Europe/Berlin:20260304T161500
DTEND;TZID=Europe/Berlin:20260304T170000
UID:261-85361-20260304T161500@VHSTÜBINGEN
SUMMARY:Aquafitness (261-85361) 
LOCATION:85 Schwimmhalle Kusterdingen, Jahnstr. 26/1, 72127 Kusterdingen
END:VEVENT
BEGIN:VEVENT
DTSTAMP:20260421T132103
DTSTART;TZID=Europe/Berlin:20260311T161500
DTEND;TZID=Europe/Berlin:20260311T170000
UID:261-85361-20260311T161500@VHSTÜBINGEN
SUMMARY:Aquafitness (261-85361) 
LOCATION:85 Schwimmhalle Kusterdingen, Jahnstr. 26/1, 72127 Kusterdingen
END:VEVENT
BEGIN:VEVENT
DTSTAMP:20260421T132103
DTSTART;TZID=Europe/Berlin:20260318T161500
DTEND;TZID=Europe/Berlin:20260318T170000
UID:261-85361-20260318T161500@VHSTÜBINGEN
SUMMARY:Aquafitness (261-85361) 
LOCATION:85 Schwimmhalle Kusterdingen, Jahnstr. 26/1, 72127 Kusterdingen
END:VEVENT
BEGIN:VEVENT
DTSTAMP:20260421T132103
DTSTART;TZID=Europe/Berlin:20260325T161500
DTEND;TZID=Europe/Berlin:20260325T170000
UID:261-85361-20260325T161500@VHSTÜBINGEN
SUMMARY:Aquafitness (261-85361) 
LOCATION:85 Schwimmhalle Kusterdingen, Jahnstr. 26/1, 72127 Kusterdingen
END:VEVENT
BEGIN:VEVENT
DTSTAMP:20260421T132103
DTSTART;TZID=Europe/Berlin:20260415T161500
DTEND;TZID=Europe/Berlin:20260415T170000
UID:261-85361-20260415T161500@VHSTÜBINGEN
SUMMARY:Aquafitness (261-85361) 
LOCATION:85 Schwimmhalle Kusterdingen, Jahnstr. 26/1, 72127 Kusterdingen
END:VEVENT
BEGIN:VEVENT
DTSTAMP:20260421T132103
DTSTART;TZID=Europe/Berlin:20260422T161500
DTEND;TZID=Europe/Berlin:20260422T170000
UID:261-85361-20260422T161500@VHSTÜBINGEN
SUMMARY:Aquafitness (261-85361) 
LOCATION:85 Schwimmhalle Kusterdingen, Jahnstr. 26/1, 72127 Kusterdingen
END:VEVENT
BEGIN:VEVENT
DTSTAMP:20260421T132103
DTSTART;TZID=Europe/Berlin:20260429T161500
DTEND;TZID=Europe/Berlin:20260429T170000
UID:261-85361-20260429T161500@VHSTÜBINGEN
SUMMARY:Aquafitness (261-85361) 
LOCATION:85 Schwimmhalle Kusterdingen, Jahnstr. 26/1, 72127 Kusterdingen
END:VEVENT
BEGIN:VEVENT
DTSTAMP:20260421T132103
DTSTART;TZID=Europe/Berlin:20260506T161500
DTEND;TZID=Europe/Berlin:20260506T170000
UID:261-85361-20260506T161500@VHSTÜBINGEN
SUMMARY:Aquafitness (261-85361) 
LOCATION:85 Schwimmhalle Kusterdingen, Jahnstr. 26/1, 72127 Kusterdingen
END:VEVENT
BEGIN:VEVENT
DTSTAMP:20260421T132103
DTSTART;TZID=Europe/Berlin:20260513T161500
DTEND;TZID=Europe/Berlin:20260513T170000
UID:261-85361-20260513T161500@VHSTÜBINGEN
SUMMARY:Aquafitness (261-85361) 
LOCATION:85 Schwimmhalle Kusterdingen, Jahnstr. 26/1, 72127 Kusterdingen
END:VEVENT
BEGIN:VEVENT
DTSTAMP:20260421T132103
DTSTART;TZID=Europe/Berlin:20260610T161500
DTEND;TZID=Europe/Berlin:20260610T170000
UID:261-85361-20260610T161500@VHSTÜBINGEN
SUMMARY:Aquafitness (261-85361) 
LOCATION:85 Schwimmhalle Kusterdingen, Jahnstr. 26/1, 72127 Kusterdingen
END:VEVENT
BEGIN:VEVENT
DTSTAMP:20260421T132103
DTSTART;TZID=Europe/Berlin:20260624T161500
DTEND;TZID=Europe/Berlin:20260624T170000
UID:261-85361-20260624T161500@VHSTÜBINGEN
SUMMARY:Aquafitness (261-85361) 
LOCATION:85 Schwimmhalle Kusterdingen, Jahnstr. 26/1, 72127 Kusterdingen
END:VEVENT
BEGIN:VEVENT
DTSTAMP:20260421T132103
DTSTART;TZID=Europe/Berlin:20260701T161500
DTEND;TZID=Europe/Berlin:20260701T170000
UID:261-85361-20260701T161500@VHSTÜBINGEN
SUMMARY:Aquafitness (261-85361) 
LOCATION:85 Schwimmhalle Kusterdingen, Jahnstr. 26/1, 72127 Kusterdingen
END:VEVENT
BEGIN:VEVENT
DTSTAMP:20260421T132103
DTSTART;TZID=Europe/Berlin:20260708T161500
DTEND;TZID=Europe/Berlin:20260708T170000
UID:261-85361-20260708T161500@VHSTÜBINGEN
SUMMARY:Aquafitness (261-85361) 
LOCATION:85 Schwimmhalle Kusterdingen, Jahnstr. 26/1, 72127 Kusterdingen
END:VEVENT
END:VCALENDAR