BEGIN:VCALENDAR
VERSION:2.0
PRODID:https://www.kufer.de/kuferweb / DE
METHOD:PUBLISH
CALSCALE:GREGORIAN
X-WR-TIMEZONE:Europe/Berlin
BEGIN:VTIMEZONE
TZID:Europe/Berlin
X-LIC-LOCATION:Europe/Berlin
BEGIN:DAYLIGHT
TZOFFSETFROM:+0100
TZOFFSETTO:+0200
TZNAME:CEST
DTSTART:19700329T020000
RRULE:FREQ=YEARLY;INTERVAL=1;BYDAY=-1SU;BYMONTH=3
END:DAYLIGHT
BEGIN:STANDARD
TZOFFSETFROM:+0200
TZOFFSETTO:+0100
TZNAME:CET
DTSTART:19701025T030000
RRULE:FREQ=YEARLY;INTERVAL=1;BYDAY=-1SU;BYMONTH=10
END:STANDARD
END:VTIMEZONE
BEGIN:VEVENT
DTSTAMP:20260423T133545
DTSTART;TZID=Europe/Berlin:20260416T093000
DTEND;TZID=Europe/Berlin:20260416T110000
UID:261-86304-20260416T093000@VHSTÜBINGEN
SUMMARY:Taketina®  Eins werden mit Rhythmus, der fundamentalen Kraft des Lebens (261-86304) 
LOCATION:86 Containerraum 1, Mössingen, Goethestr. 15, 72116 Mössingen
END:VEVENT
BEGIN:VEVENT
DTSTAMP:20260423T133545
DTSTART;TZID=Europe/Berlin:20260423T093000
DTEND;TZID=Europe/Berlin:20260423T110000
UID:261-86304-20260423T093000@VHSTÜBINGEN
SUMMARY:Taketina®  Eins werden mit Rhythmus, der fundamentalen Kraft des Lebens (261-86304) 
LOCATION:86 Containerraum 1, Mössingen, Goethestr. 15, 72116 Mössingen
END:VEVENT
BEGIN:VEVENT
DTSTAMP:20260423T133545
DTSTART;TZID=Europe/Berlin:20260430T093000
DTEND;TZID=Europe/Berlin:20260430T110000
UID:261-86304-20260430T093000@VHSTÜBINGEN
SUMMARY:Taketina®  Eins werden mit Rhythmus, der fundamentalen Kraft des Lebens (261-86304) 
LOCATION:86 Containerraum 1, Mössingen, Goethestr. 15, 72116 Mössingen
END:VEVENT
BEGIN:VEVENT
DTSTAMP:20260423T133545
DTSTART;TZID=Europe/Berlin:20260507T093000
DTEND;TZID=Europe/Berlin:20260507T110000
UID:261-86304-20260507T093000@VHSTÜBINGEN
SUMMARY:Taketina®  Eins werden mit Rhythmus, der fundamentalen Kraft des Lebens (261-86304) 
LOCATION:86 Containerraum 1, Mössingen, Goethestr. 15, 72116 Mössingen
END:VEVENT
BEGIN:VEVENT
DTSTAMP:20260423T133545
DTSTART;TZID=Europe/Berlin:20260521T093000
DTEND;TZID=Europe/Berlin:20260521T110000
UID:261-86304-20260521T093000@VHSTÜBINGEN
SUMMARY:Taketina®  Eins werden mit Rhythmus, der fundamentalen Kraft des Lebens (261-86304) 
LOCATION:86 Containerraum 1, Mössingen, Goethestr. 15, 72116 Mössingen
END:VEVENT
END:VCALENDAR