BEGIN:VCALENDAR
VERSION:2.0
PRODID:https://www.kufer.de/kuferweb / DE
METHOD:PUBLISH
CALSCALE:GREGORIAN
X-WR-TIMEZONE:Europe/Berlin
BEGIN:VTIMEZONE
TZID:Europe/Berlin
X-LIC-LOCATION:Europe/Berlin
BEGIN:DAYLIGHT
TZOFFSETFROM:+0100
TZOFFSETTO:+0200
TZNAME:CEST
DTSTART:19700329T020000
RRULE:FREQ=YEARLY;INTERVAL=1;BYDAY=-1SU;BYMONTH=3
END:DAYLIGHT
BEGIN:STANDARD
TZOFFSETFROM:+0200
TZOFFSETTO:+0100
TZNAME:CET
DTSTART:19701025T030000
RRULE:FREQ=YEARLY;INTERVAL=1;BYDAY=-1SU;BYMONTH=10
END:STANDARD
END:VTIMEZONE
BEGIN:VEVENT
DTSTAMP:20260419T191336
DTSTART;TZID=Europe/Berlin:20260223T185000
DTEND;TZID=Europe/Berlin:20260223T195000
UID:261-86320-20260223T185000@VHSTÜBINGEN
SUMMARY:Bauch-Beine-Po Körpertraining und Bewegung mit Musik (261-86320) 
LOCATION:86 Jahnturnhalle Mössingen, Gymnastikraum, Goethestr. 29, 72116 Mössingen
END:VEVENT
BEGIN:VEVENT
DTSTAMP:20260419T191336
DTSTART;TZID=Europe/Berlin:20260302T185000
DTEND;TZID=Europe/Berlin:20260302T195000
UID:261-86320-20260302T185000@VHSTÜBINGEN
SUMMARY:Bauch-Beine-Po Körpertraining und Bewegung mit Musik (261-86320) 
LOCATION:86 Jahnturnhalle Mössingen, Gymnastikraum, Goethestr. 29, 72116 Mössingen
END:VEVENT
BEGIN:VEVENT
DTSTAMP:20260419T191336
DTSTART;TZID=Europe/Berlin:20260309T185000
DTEND;TZID=Europe/Berlin:20260309T195000
UID:261-86320-20260309T185000@VHSTÜBINGEN
SUMMARY:Bauch-Beine-Po Körpertraining und Bewegung mit Musik (261-86320) 
LOCATION:86 Jahnturnhalle Mössingen, Gymnastikraum, Goethestr. 29, 72116 Mössingen
END:VEVENT
BEGIN:VEVENT
DTSTAMP:20260419T191336
DTSTART;TZID=Europe/Berlin:20260316T185000
DTEND;TZID=Europe/Berlin:20260316T195000
UID:261-86320-20260316T185000@VHSTÜBINGEN
SUMMARY:Bauch-Beine-Po Körpertraining und Bewegung mit Musik (261-86320) 
LOCATION:86 Jahnturnhalle Mössingen, Gymnastikraum, Goethestr. 29, 72116 Mössingen
END:VEVENT
BEGIN:VEVENT
DTSTAMP:20260419T191336
DTSTART;TZID=Europe/Berlin:20260323T185000
DTEND;TZID=Europe/Berlin:20260323T195000
UID:261-86320-20260323T185000@VHSTÜBINGEN
SUMMARY:Bauch-Beine-Po Körpertraining und Bewegung mit Musik (261-86320) 
LOCATION:86 Jahnturnhalle Mössingen, Gymnastikraum, Goethestr. 29, 72116 Mössingen
END:VEVENT
BEGIN:VEVENT
DTSTAMP:20260419T191336
DTSTART;TZID=Europe/Berlin:20260413T185000
DTEND;TZID=Europe/Berlin:20260413T195000
UID:261-86320-20260413T185000@VHSTÜBINGEN
SUMMARY:Bauch-Beine-Po Körpertraining und Bewegung mit Musik (261-86320) 
LOCATION:86 Jahnturnhalle Mössingen, Gymnastikraum, Goethestr. 29, 72116 Mössingen
END:VEVENT
BEGIN:VEVENT
DTSTAMP:20260419T191336
DTSTART;TZID=Europe/Berlin:20260420T185000
DTEND;TZID=Europe/Berlin:20260420T195000
UID:261-86320-20260420T185000@VHSTÜBINGEN
SUMMARY:Bauch-Beine-Po Körpertraining und Bewegung mit Musik (261-86320) 
LOCATION:86 Jahnturnhalle Mössingen, Gymnastikraum, Goethestr. 29, 72116 Mössingen
END:VEVENT
BEGIN:VEVENT
DTSTAMP:20260419T191336
DTSTART;TZID=Europe/Berlin:20260427T185000
DTEND;TZID=Europe/Berlin:20260427T195000
UID:261-86320-20260427T185000@VHSTÜBINGEN
SUMMARY:Bauch-Beine-Po Körpertraining und Bewegung mit Musik (261-86320) 
LOCATION:86 Jahnturnhalle Mössingen, Gymnastikraum, Goethestr. 29, 72116 Mössingen
END:VEVENT
BEGIN:VEVENT
DTSTAMP:20260419T191336
DTSTART;TZID=Europe/Berlin:20260504T185000
DTEND;TZID=Europe/Berlin:20260504T195000
UID:261-86320-20260504T185000@VHSTÜBINGEN
SUMMARY:Bauch-Beine-Po Körpertraining und Bewegung mit Musik (261-86320) 
LOCATION:86 Jahnturnhalle Mössingen, Gymnastikraum, Goethestr. 29, 72116 Mössingen
END:VEVENT
BEGIN:VEVENT
DTSTAMP:20260419T191336
DTSTART;TZID=Europe/Berlin:20260511T185000
DTEND;TZID=Europe/Berlin:20260511T195000
UID:261-86320-20260511T185000@VHSTÜBINGEN
SUMMARY:Bauch-Beine-Po Körpertraining und Bewegung mit Musik (261-86320) 
LOCATION:86 Jahnturnhalle Mössingen, Gymnastikraum, Goethestr. 29, 72116 Mössingen
END:VEVENT
BEGIN:VEVENT
DTSTAMP:20260419T191336
DTSTART;TZID=Europe/Berlin:20260518T185000
DTEND;TZID=Europe/Berlin:20260518T195000
UID:261-86320-20260518T185000@VHSTÜBINGEN
SUMMARY:Bauch-Beine-Po Körpertraining und Bewegung mit Musik (261-86320) 
LOCATION:86 Jahnturnhalle Mössingen, Gymnastikraum, Goethestr. 29, 72116 Mössingen
END:VEVENT
BEGIN:VEVENT
DTSTAMP:20260419T191336
DTSTART;TZID=Europe/Berlin:20260608T185000
DTEND;TZID=Europe/Berlin:20260608T195000
UID:261-86320-20260608T185000@VHSTÜBINGEN
SUMMARY:Bauch-Beine-Po Körpertraining und Bewegung mit Musik (261-86320) 
LOCATION:86 Jahnturnhalle Mössingen, Gymnastikraum, Goethestr. 29, 72116 Mössingen
END:VEVENT
BEGIN:VEVENT
DTSTAMP:20260419T191336
DTSTART;TZID=Europe/Berlin:20260615T185000
DTEND;TZID=Europe/Berlin:20260615T195000
UID:261-86320-20260615T185000@VHSTÜBINGEN
SUMMARY:Bauch-Beine-Po Körpertraining und Bewegung mit Musik (261-86320) 
LOCATION:86 Jahnturnhalle Mössingen, Gymnastikraum, Goethestr. 29, 72116 Mössingen
END:VEVENT
BEGIN:VEVENT
DTSTAMP:20260419T191336
DTSTART;TZID=Europe/Berlin:20260622T185000
DTEND;TZID=Europe/Berlin:20260622T195000
UID:261-86320-20260622T185000@VHSTÜBINGEN
SUMMARY:Bauch-Beine-Po Körpertraining und Bewegung mit Musik (261-86320) 
LOCATION:86 Jahnturnhalle Mössingen, Gymnastikraum, Goethestr. 29, 72116 Mössingen
END:VEVENT
BEGIN:VEVENT
DTSTAMP:20260419T191336
DTSTART;TZID=Europe/Berlin:20260629T185000
DTEND;TZID=Europe/Berlin:20260629T195000
UID:261-86320-20260629T185000@VHSTÜBINGEN
SUMMARY:Bauch-Beine-Po Körpertraining und Bewegung mit Musik (261-86320) 
LOCATION:86 Jahnturnhalle Mössingen, Gymnastikraum, Goethestr. 29, 72116 Mössingen
END:VEVENT
END:VCALENDAR