BEGIN:VCALENDAR
VERSION:2.0
PRODID:https://www.kufer.de/kuferweb / DE
METHOD:PUBLISH
CALSCALE:GREGORIAN
X-WR-TIMEZONE:Europe/Berlin
BEGIN:VTIMEZONE
TZID:Europe/Berlin
X-LIC-LOCATION:Europe/Berlin
BEGIN:DAYLIGHT
TZOFFSETFROM:+0100
TZOFFSETTO:+0200
TZNAME:CEST
DTSTART:19700329T020000
RRULE:FREQ=YEARLY;INTERVAL=1;BYDAY=-1SU;BYMONTH=3
END:DAYLIGHT
BEGIN:STANDARD
TZOFFSETFROM:+0200
TZOFFSETTO:+0100
TZNAME:CET
DTSTART:19701025T030000
RRULE:FREQ=YEARLY;INTERVAL=1;BYDAY=-1SU;BYMONTH=10
END:STANDARD
END:VTIMEZONE
BEGIN:VEVENT
DTSTAMP:20260421T155530
DTSTART;TZID=Europe/Berlin:20260227T151500
DTEND;TZID=Europe/Berlin:20260227T161500
UID:261-86352-20260227T151500@VHSTÜBINGEN
SUMMARY:Fünf Esslinger und Gedächtnistraining (261-86352) 
LOCATION:86 Evangelisches Bildungshaus Goethestraße, Goethestr. 4, 72116 Mössingen
END:VEVENT
BEGIN:VEVENT
DTSTAMP:20260421T155530
DTSTART;TZID=Europe/Berlin:20260306T151500
DTEND;TZID=Europe/Berlin:20260306T161500
UID:261-86352-20260306T151500@VHSTÜBINGEN
SUMMARY:Fünf Esslinger und Gedächtnistraining (261-86352) 
LOCATION:86 Evangelisches Bildungshaus Goethestraße, Goethestr. 4, 72116 Mössingen
END:VEVENT
BEGIN:VEVENT
DTSTAMP:20260421T155530
DTSTART;TZID=Europe/Berlin:20260313T151500
DTEND;TZID=Europe/Berlin:20260313T161500
UID:261-86352-20260313T151500@VHSTÜBINGEN
SUMMARY:Fünf Esslinger und Gedächtnistraining (261-86352) 
LOCATION:86 Evangelisches Bildungshaus Goethestraße, Goethestr. 4, 72116 Mössingen
END:VEVENT
BEGIN:VEVENT
DTSTAMP:20260421T155530
DTSTART;TZID=Europe/Berlin:20260320T151500
DTEND;TZID=Europe/Berlin:20260320T161500
UID:261-86352-20260320T151500@VHSTÜBINGEN
SUMMARY:Fünf Esslinger und Gedächtnistraining (261-86352) 
LOCATION:86 Evangelisches Bildungshaus Goethestraße, Goethestr. 4, 72116 Mössingen
END:VEVENT
BEGIN:VEVENT
DTSTAMP:20260421T155530
DTSTART;TZID=Europe/Berlin:20260327T151500
DTEND;TZID=Europe/Berlin:20260327T161500
UID:261-86352-20260327T151500@VHSTÜBINGEN
SUMMARY:Fünf Esslinger und Gedächtnistraining (261-86352) 
LOCATION:86 Evangelisches Bildungshaus Goethestraße, Goethestr. 4, 72116 Mössingen
END:VEVENT
BEGIN:VEVENT
DTSTAMP:20260421T155530
DTSTART;TZID=Europe/Berlin:20260417T151500
DTEND;TZID=Europe/Berlin:20260417T161500
UID:261-86352-20260417T151500@VHSTÜBINGEN
SUMMARY:Fünf Esslinger und Gedächtnistraining (261-86352) 
LOCATION:86 Evangelisches Bildungshaus Goethestraße, Goethestr. 4, 72116 Mössingen
END:VEVENT
BEGIN:VEVENT
DTSTAMP:20260421T155530
DTSTART;TZID=Europe/Berlin:20260424T151500
DTEND;TZID=Europe/Berlin:20260424T161500
UID:261-86352-20260424T151500@VHSTÜBINGEN
SUMMARY:Fünf Esslinger und Gedächtnistraining (261-86352) 
LOCATION:86 Evangelisches Bildungshaus Goethestraße, Goethestr. 4, 72116 Mössingen
END:VEVENT
BEGIN:VEVENT
DTSTAMP:20260421T155530
DTSTART;TZID=Europe/Berlin:20260508T151500
DTEND;TZID=Europe/Berlin:20260508T161500
UID:261-86352-20260508T151500@VHSTÜBINGEN
SUMMARY:Fünf Esslinger und Gedächtnistraining (261-86352) 
LOCATION:86 Evangelisches Bildungshaus Goethestraße, Goethestr. 4, 72116 Mössingen
END:VEVENT
BEGIN:VEVENT
DTSTAMP:20260421T155530
DTSTART;TZID=Europe/Berlin:20260522T151500
DTEND;TZID=Europe/Berlin:20260522T161500
UID:261-86352-20260522T151500@VHSTÜBINGEN
SUMMARY:Fünf Esslinger und Gedächtnistraining (261-86352) 
LOCATION:86 Evangelisches Bildungshaus Goethestraße, Goethestr. 4, 72116 Mössingen
END:VEVENT
END:VCALENDAR