BEGIN:VCALENDAR
VERSION:2.0
PRODID:https://www.kufer.de/kuferweb / DE
METHOD:PUBLISH
CALSCALE:GREGORIAN
X-WR-TIMEZONE:Europe/Berlin
BEGIN:VTIMEZONE
TZID:Europe/Berlin
X-LIC-LOCATION:Europe/Berlin
BEGIN:DAYLIGHT
TZOFFSETFROM:+0100
TZOFFSETTO:+0200
TZNAME:CEST
DTSTART:19700329T020000
RRULE:FREQ=YEARLY;INTERVAL=1;BYDAY=-1SU;BYMONTH=3
END:DAYLIGHT
BEGIN:STANDARD
TZOFFSETFROM:+0200
TZOFFSETTO:+0100
TZNAME:CET
DTSTART:19701025T030000
RRULE:FREQ=YEARLY;INTERVAL=1;BYDAY=-1SU;BYMONTH=10
END:STANDARD
END:VTIMEZONE
BEGIN:VEVENT
DTSTAMP:20260421T132123
DTSTART;TZID=Europe/Berlin:20260731T151500
DTEND;TZID=Europe/Berlin:20260731T161500
UID:261-86354Z-20260731T151500@VHSTÜBINGEN
SUMMARY:Fünf Esslinger und Gedächtnistraining (261-86354Z) 
LOCATION:86 Evangelisches Bildungshaus Goethestraße, Goethestr. 4, 72116 Mössingen
END:VEVENT
BEGIN:VEVENT
DTSTAMP:20260421T132123
DTSTART;TZID=Europe/Berlin:20260807T151500
DTEND;TZID=Europe/Berlin:20260807T161500
UID:261-86354Z-20260807T151500@VHSTÜBINGEN
SUMMARY:Fünf Esslinger und Gedächtnistraining (261-86354Z) 
LOCATION:86 Evangelisches Bildungshaus Goethestraße, Goethestr. 4, 72116 Mössingen
END:VEVENT
BEGIN:VEVENT
DTSTAMP:20260421T132123
DTSTART;TZID=Europe/Berlin:20260814T151500
DTEND;TZID=Europe/Berlin:20260814T161500
UID:261-86354Z-20260814T151500@VHSTÜBINGEN
SUMMARY:Fünf Esslinger und Gedächtnistraining (261-86354Z) 
LOCATION:86 Evangelisches Bildungshaus Goethestraße, Goethestr. 4, 72116 Mössingen
END:VEVENT
BEGIN:VEVENT
DTSTAMP:20260421T132123
DTSTART;TZID=Europe/Berlin:20260821T151500
DTEND;TZID=Europe/Berlin:20260821T161500
UID:261-86354Z-20260821T151500@VHSTÜBINGEN
SUMMARY:Fünf Esslinger und Gedächtnistraining (261-86354Z) 
LOCATION:86 Evangelisches Bildungshaus Goethestraße, Goethestr. 4, 72116 Mössingen
END:VEVENT
BEGIN:VEVENT
DTSTAMP:20260421T132123
DTSTART;TZID=Europe/Berlin:20260828T151500
DTEND;TZID=Europe/Berlin:20260828T161500
UID:261-86354Z-20260828T151500@VHSTÜBINGEN
SUMMARY:Fünf Esslinger und Gedächtnistraining (261-86354Z) 
LOCATION:86 Evangelisches Bildungshaus Goethestraße, Goethestr. 4, 72116 Mössingen
END:VEVENT
END:VCALENDAR