BEGIN:VCALENDAR
VERSION:2.0
PRODID:https://www.kufer.de/kuferweb / DE
METHOD:PUBLISH
CALSCALE:GREGORIAN
X-WR-TIMEZONE:Europe/Berlin
BEGIN:VTIMEZONE
TZID:Europe/Berlin
X-LIC-LOCATION:Europe/Berlin
BEGIN:DAYLIGHT
TZOFFSETFROM:+0100
TZOFFSETTO:+0200
TZNAME:CEST
DTSTART:19700329T020000
RRULE:FREQ=YEARLY;INTERVAL=1;BYDAY=-1SU;BYMONTH=3
END:DAYLIGHT
BEGIN:STANDARD
TZOFFSETFROM:+0200
TZOFFSETTO:+0100
TZNAME:CET
DTSTART:19701025T030000
RRULE:FREQ=YEARLY;INTERVAL=1;BYDAY=-1SU;BYMONTH=10
END:STANDARD
END:VTIMEZONE
BEGIN:VEVENT
DTSTAMP:20260423T122323
DTSTART;TZID=Europe/Berlin:20260223T081500
DTEND;TZID=Europe/Berlin:20260223T094500
UID:261-86415-20260223T081500@VHSTÜBINGEN
SUMMARY:Let´s talk (B2) (261-86415) 
LOCATION:86 Containerraum 2, Mössingen, Goethestr. 15, 72116 Mössingen
END:VEVENT
BEGIN:VEVENT
DTSTAMP:20260423T122323
DTSTART;TZID=Europe/Berlin:20260302T081500
DTEND;TZID=Europe/Berlin:20260302T094500
UID:261-86415-20260302T081500@VHSTÜBINGEN
SUMMARY:Let´s talk (B2) (261-86415) 
LOCATION:86 Containerraum 2, Mössingen, Goethestr. 15, 72116 Mössingen
END:VEVENT
BEGIN:VEVENT
DTSTAMP:20260423T122323
DTSTART;TZID=Europe/Berlin:20260309T081500
DTEND;TZID=Europe/Berlin:20260309T094500
UID:261-86415-20260309T081500@VHSTÜBINGEN
SUMMARY:Let´s talk (B2) (261-86415) 
LOCATION:86 Containerraum 2, Mössingen, Goethestr. 15, 72116 Mössingen
END:VEVENT
BEGIN:VEVENT
DTSTAMP:20260423T122323
DTSTART;TZID=Europe/Berlin:20260316T081500
DTEND;TZID=Europe/Berlin:20260316T094500
UID:261-86415-20260316T081500@VHSTÜBINGEN
SUMMARY:Let´s talk (B2) (261-86415) 
LOCATION:86 Containerraum 2, Mössingen, Goethestr. 15, 72116 Mössingen
END:VEVENT
BEGIN:VEVENT
DTSTAMP:20260423T122323
DTSTART;TZID=Europe/Berlin:20260323T081500
DTEND;TZID=Europe/Berlin:20260323T094500
UID:261-86415-20260323T081500@VHSTÜBINGEN
SUMMARY:Let´s talk (B2) (261-86415) 
LOCATION:86 Containerraum 2, Mössingen, Goethestr. 15, 72116 Mössingen
END:VEVENT
BEGIN:VEVENT
DTSTAMP:20260423T122323
DTSTART;TZID=Europe/Berlin:20260330T081500
DTEND;TZID=Europe/Berlin:20260330T094500
UID:261-86415-20260330T081500@VHSTÜBINGEN
SUMMARY:Let´s talk (B2) (261-86415) 
LOCATION:86 Containerraum 2, Mössingen, Goethestr. 15, 72116 Mössingen
END:VEVENT
BEGIN:VEVENT
DTSTAMP:20260423T122323
DTSTART;TZID=Europe/Berlin:20260413T081500
DTEND;TZID=Europe/Berlin:20260413T094500
UID:261-86415-20260413T081500@VHSTÜBINGEN
SUMMARY:Let´s talk (B2) (261-86415) 
LOCATION:86 Containerraum 2, Mössingen, Goethestr. 15, 72116 Mössingen
END:VEVENT
BEGIN:VEVENT
DTSTAMP:20260423T122323
DTSTART;TZID=Europe/Berlin:20260420T081500
DTEND;TZID=Europe/Berlin:20260420T094500
UID:261-86415-20260420T081500@VHSTÜBINGEN
SUMMARY:Let´s talk (B2) (261-86415) 
LOCATION:86 Containerraum 2, Mössingen, Goethestr. 15, 72116 Mössingen
END:VEVENT
BEGIN:VEVENT
DTSTAMP:20260423T122323
DTSTART;TZID=Europe/Berlin:20260427T081500
DTEND;TZID=Europe/Berlin:20260427T094500
UID:261-86415-20260427T081500@VHSTÜBINGEN
SUMMARY:Let´s talk (B2) (261-86415) 
LOCATION:86 Containerraum 2, Mössingen, Goethestr. 15, 72116 Mössingen
END:VEVENT
BEGIN:VEVENT
DTSTAMP:20260423T122323
DTSTART;TZID=Europe/Berlin:20260504T081500
DTEND;TZID=Europe/Berlin:20260504T094500
UID:261-86415-20260504T081500@VHSTÜBINGEN
SUMMARY:Let´s talk (B2) (261-86415) 
LOCATION:86 Containerraum 2, Mössingen, Goethestr. 15, 72116 Mössingen
END:VEVENT
BEGIN:VEVENT
DTSTAMP:20260423T122323
DTSTART;TZID=Europe/Berlin:20260511T081500
DTEND;TZID=Europe/Berlin:20260511T094500
UID:261-86415-20260511T081500@VHSTÜBINGEN
SUMMARY:Let´s talk (B2) (261-86415) 
LOCATION:86 Containerraum 2, Mössingen, Goethestr. 15, 72116 Mössingen
END:VEVENT
BEGIN:VEVENT
DTSTAMP:20260423T122323
DTSTART;TZID=Europe/Berlin:20260518T081500
DTEND;TZID=Europe/Berlin:20260518T094500
UID:261-86415-20260518T081500@VHSTÜBINGEN
SUMMARY:Let´s talk (B2) (261-86415) 
LOCATION:86 Containerraum 2, Mössingen, Goethestr. 15, 72116 Mössingen
END:VEVENT
BEGIN:VEVENT
DTSTAMP:20260423T122323
DTSTART;TZID=Europe/Berlin:20260608T081500
DTEND;TZID=Europe/Berlin:20260608T094500
UID:261-86415-20260608T081500@VHSTÜBINGEN
SUMMARY:Let´s talk (B2) (261-86415) 
LOCATION:86 Containerraum 2, Mössingen, Goethestr. 15, 72116 Mössingen
END:VEVENT
BEGIN:VEVENT
DTSTAMP:20260423T122323
DTSTART;TZID=Europe/Berlin:20260615T081500
DTEND;TZID=Europe/Berlin:20260615T094500
UID:261-86415-20260615T081500@VHSTÜBINGEN
SUMMARY:Let´s talk (B2) (261-86415) 
LOCATION:86 Containerraum 2, Mössingen, Goethestr. 15, 72116 Mössingen
END:VEVENT
END:VCALENDAR