BEGIN:VCALENDAR
VERSION:2.0
PRODID:https://www.kufer.de/kuferweb / DE
METHOD:PUBLISH
CALSCALE:GREGORIAN
X-WR-TIMEZONE:Europe/Berlin
BEGIN:VTIMEZONE
TZID:Europe/Berlin
X-LIC-LOCATION:Europe/Berlin
BEGIN:DAYLIGHT
TZOFFSETFROM:+0100
TZOFFSETTO:+0200
TZNAME:CEST
DTSTART:19700329T020000
RRULE:FREQ=YEARLY;INTERVAL=1;BYDAY=-1SU;BYMONTH=3
END:DAYLIGHT
BEGIN:STANDARD
TZOFFSETFROM:+0200
TZOFFSETTO:+0100
TZNAME:CET
DTSTART:19701025T030000
RRULE:FREQ=YEARLY;INTERVAL=1;BYDAY=-1SU;BYMONTH=10
END:STANDARD
END:VTIMEZONE
BEGIN:VEVENT
DTSTAMP:20260421T155552
DTSTART;TZID=Europe/Berlin:20260227T104500
DTEND;TZID=Europe/Berlin:20260227T114500
UID:261-87327-20260227T104500@VHSTÜBINGEN
SUMMARY:Mama-fit mit Baby Fitnesskurs für Mütter mit Baby (261-87327) 
LOCATION:87 Bürgerhaus Nehren, Schwingbodenraum, Bohlstraße 2 und 4, 72147 Nehren
END:VEVENT
BEGIN:VEVENT
DTSTAMP:20260421T155552
DTSTART;TZID=Europe/Berlin:20260306T104500
DTEND;TZID=Europe/Berlin:20260306T114500
UID:261-87327-20260306T104500@VHSTÜBINGEN
SUMMARY:Mama-fit mit Baby Fitnesskurs für Mütter mit Baby (261-87327) 
LOCATION:87 Bürgerhaus Nehren, Schwingbodenraum, Bohlstraße 2 und 4, 72147 Nehren
END:VEVENT
BEGIN:VEVENT
DTSTAMP:20260421T155552
DTSTART;TZID=Europe/Berlin:20260313T104500
DTEND;TZID=Europe/Berlin:20260313T114500
UID:261-87327-20260313T104500@VHSTÜBINGEN
SUMMARY:Mama-fit mit Baby Fitnesskurs für Mütter mit Baby (261-87327) 
LOCATION:87 Bürgerhaus Nehren, Schwingbodenraum, Bohlstraße 2 und 4, 72147 Nehren
END:VEVENT
BEGIN:VEVENT
DTSTAMP:20260421T155552
DTSTART;TZID=Europe/Berlin:20260320T104500
DTEND;TZID=Europe/Berlin:20260320T114500
UID:261-87327-20260320T104500@VHSTÜBINGEN
SUMMARY:Mama-fit mit Baby Fitnesskurs für Mütter mit Baby (261-87327) 
LOCATION:87 Bürgerhaus Nehren, Schwingbodenraum, Bohlstraße 2 und 4, 72147 Nehren
END:VEVENT
BEGIN:VEVENT
DTSTAMP:20260421T155552
DTSTART;TZID=Europe/Berlin:20260327T104500
DTEND;TZID=Europe/Berlin:20260327T114500
UID:261-87327-20260327T104500@VHSTÜBINGEN
SUMMARY:Mama-fit mit Baby Fitnesskurs für Mütter mit Baby (261-87327) 
LOCATION:87 Bürgerhaus Nehren, Schwingbodenraum, Bohlstraße 2 und 4, 72147 Nehren
END:VEVENT
BEGIN:VEVENT
DTSTAMP:20260421T155552
DTSTART;TZID=Europe/Berlin:20260417T104500
DTEND;TZID=Europe/Berlin:20260417T114500
UID:261-87327-20260417T104500@VHSTÜBINGEN
SUMMARY:Mama-fit mit Baby Fitnesskurs für Mütter mit Baby (261-87327) 
LOCATION:87 Bürgerhaus Nehren, Schwingbodenraum, Bohlstraße 2 und 4, 72147 Nehren
END:VEVENT
BEGIN:VEVENT
DTSTAMP:20260421T155552
DTSTART;TZID=Europe/Berlin:20260424T104500
DTEND;TZID=Europe/Berlin:20260424T114500
UID:261-87327-20260424T104500@VHSTÜBINGEN
SUMMARY:Mama-fit mit Baby Fitnesskurs für Mütter mit Baby (261-87327) 
LOCATION:87 Bürgerhaus Nehren, Schwingbodenraum, Bohlstraße 2 und 4, 72147 Nehren
END:VEVENT
BEGIN:VEVENT
DTSTAMP:20260421T155552
DTSTART;TZID=Europe/Berlin:20260508T104500
DTEND;TZID=Europe/Berlin:20260508T114500
UID:261-87327-20260508T104500@VHSTÜBINGEN
SUMMARY:Mama-fit mit Baby Fitnesskurs für Mütter mit Baby (261-87327) 
LOCATION:87 Bürgerhaus Nehren, Schwingbodenraum, Bohlstraße 2 und 4, 72147 Nehren
END:VEVENT
END:VCALENDAR