BEGIN:VCALENDAR
VERSION:2.0
PRODID:https://www.kufer.de/kuferweb / DE
METHOD:PUBLISH
CALSCALE:GREGORIAN
X-WR-TIMEZONE:Europe/Berlin
BEGIN:VTIMEZONE
TZID:Europe/Berlin
X-LIC-LOCATION:Europe/Berlin
BEGIN:DAYLIGHT
TZOFFSETFROM:+0100
TZOFFSETTO:+0200
TZNAME:CEST
DTSTART:19700329T020000
RRULE:FREQ=YEARLY;INTERVAL=1;BYDAY=-1SU;BYMONTH=3
END:DAYLIGHT
BEGIN:STANDARD
TZOFFSETFROM:+0200
TZOFFSETTO:+0100
TZNAME:CET
DTSTART:19701025T030000
RRULE:FREQ=YEARLY;INTERVAL=1;BYDAY=-1SU;BYMONTH=10
END:STANDARD
END:VTIMEZONE
BEGIN:VEVENT
DTSTAMP:20260421T155534
DTSTART;TZID=Europe/Berlin:20260522T093000
DTEND;TZID=Europe/Berlin:20260522T103000
UID:261-87328-20260522T093000@VHSTÜBINGEN
SUMMARY:Mama-fit mit Baby Fitnesskurs für Mütter mit Baby (261-87328) 
LOCATION:87 Bürgerhaus Nehren, Schwingbodenraum, Bohlstraße 2 und 4, 72147 Nehren
END:VEVENT
BEGIN:VEVENT
DTSTAMP:20260421T155534
DTSTART;TZID=Europe/Berlin:20260612T093000
DTEND;TZID=Europe/Berlin:20260612T103000
UID:261-87328-20260612T093000@VHSTÜBINGEN
SUMMARY:Mama-fit mit Baby Fitnesskurs für Mütter mit Baby (261-87328) 
LOCATION:87 Bürgerhaus Nehren, Schwingbodenraum, Bohlstraße 2 und 4, 72147 Nehren
END:VEVENT
BEGIN:VEVENT
DTSTAMP:20260421T155534
DTSTART;TZID=Europe/Berlin:20260619T093000
DTEND;TZID=Europe/Berlin:20260619T103000
UID:261-87328-20260619T093000@VHSTÜBINGEN
SUMMARY:Mama-fit mit Baby Fitnesskurs für Mütter mit Baby (261-87328) 
LOCATION:87 Bürgerhaus Nehren, Schwingbodenraum, Bohlstraße 2 und 4, 72147 Nehren
END:VEVENT
BEGIN:VEVENT
DTSTAMP:20260421T155534
DTSTART;TZID=Europe/Berlin:20260626T093000
DTEND;TZID=Europe/Berlin:20260626T103000
UID:261-87328-20260626T093000@VHSTÜBINGEN
SUMMARY:Mama-fit mit Baby Fitnesskurs für Mütter mit Baby (261-87328) 
LOCATION:87 Bürgerhaus Nehren, Schwingbodenraum, Bohlstraße 2 und 4, 72147 Nehren
END:VEVENT
BEGIN:VEVENT
DTSTAMP:20260421T155534
DTSTART;TZID=Europe/Berlin:20260703T093000
DTEND;TZID=Europe/Berlin:20260703T103000
UID:261-87328-20260703T093000@VHSTÜBINGEN
SUMMARY:Mama-fit mit Baby Fitnesskurs für Mütter mit Baby (261-87328) 
LOCATION:87 Bürgerhaus Nehren, Schwingbodenraum, Bohlstraße 2 und 4, 72147 Nehren
END:VEVENT
BEGIN:VEVENT
DTSTAMP:20260421T155534
DTSTART;TZID=Europe/Berlin:20260710T093000
DTEND;TZID=Europe/Berlin:20260710T103000
UID:261-87328-20260710T093000@VHSTÜBINGEN
SUMMARY:Mama-fit mit Baby Fitnesskurs für Mütter mit Baby (261-87328) 
LOCATION:87 Bürgerhaus Nehren, Schwingbodenraum, Bohlstraße 2 und 4, 72147 Nehren
END:VEVENT
BEGIN:VEVENT
DTSTAMP:20260421T155534
DTSTART;TZID=Europe/Berlin:20260717T093000
DTEND;TZID=Europe/Berlin:20260717T103000
UID:261-87328-20260717T093000@VHSTÜBINGEN
SUMMARY:Mama-fit mit Baby Fitnesskurs für Mütter mit Baby (261-87328) 
LOCATION:87 Bürgerhaus Nehren, Schwingbodenraum, Bohlstraße 2 und 4, 72147 Nehren
END:VEVENT
BEGIN:VEVENT
DTSTAMP:20260421T155534
DTSTART;TZID=Europe/Berlin:20260724T093000
DTEND;TZID=Europe/Berlin:20260724T103000
UID:261-87328-20260724T093000@VHSTÜBINGEN
SUMMARY:Mama-fit mit Baby Fitnesskurs für Mütter mit Baby (261-87328) 
LOCATION:87 Bürgerhaus Nehren, Schwingbodenraum, Bohlstraße 2 und 4, 72147 Nehren
END:VEVENT
END:VCALENDAR