BEGIN:VCALENDAR
VERSION:2.0
PRODID:https://www.kufer.de/kuferweb / DE
METHOD:PUBLISH
CALSCALE:GREGORIAN
X-WR-TIMEZONE:Europe/Berlin
BEGIN:VTIMEZONE
TZID:Europe/Berlin
X-LIC-LOCATION:Europe/Berlin
BEGIN:DAYLIGHT
TZOFFSETFROM:+0100
TZOFFSETTO:+0200
TZNAME:CEST
DTSTART:19700329T020000
RRULE:FREQ=YEARLY;INTERVAL=1;BYDAY=-1SU;BYMONTH=3
END:DAYLIGHT
BEGIN:STANDARD
TZOFFSETFROM:+0200
TZOFFSETTO:+0100
TZNAME:CET
DTSTART:19701025T030000
RRULE:FREQ=YEARLY;INTERVAL=1;BYDAY=-1SU;BYMONTH=10
END:STANDARD
END:VTIMEZONE
BEGIN:VEVENT
DTSTAMP:20260421T173128
DTSTART;TZID=Europe/Berlin:20260429T184500
DTEND;TZID=Europe/Berlin:20260429T201500
UID:261-88307-20260429T184500@VHSTÜBINGEN
SUMMARY:Yoga - Ich bin in Bewegung für Frauen (261-88307) 
LOCATION:88 Burghof-Schule Ofterdingen, Musikraum, Schulstraße 5 , 72131 Ofterdingen
END:VEVENT
BEGIN:VEVENT
DTSTAMP:20260421T173128
DTSTART;TZID=Europe/Berlin:20260506T184500
DTEND;TZID=Europe/Berlin:20260506T201500
UID:261-88307-20260506T184500@VHSTÜBINGEN
SUMMARY:Yoga - Ich bin in Bewegung für Frauen (261-88307) 
LOCATION:88 Burghof-Schule Ofterdingen, Musikraum, Schulstraße 5 , 72131 Ofterdingen
END:VEVENT
BEGIN:VEVENT
DTSTAMP:20260421T173128
DTSTART;TZID=Europe/Berlin:20260513T184500
DTEND;TZID=Europe/Berlin:20260513T201500
UID:261-88307-20260513T184500@VHSTÜBINGEN
SUMMARY:Yoga - Ich bin in Bewegung für Frauen (261-88307) 
LOCATION:88 Burghof-Schule Ofterdingen, Musikraum, Schulstraße 5 , 72131 Ofterdingen
END:VEVENT
BEGIN:VEVENT
DTSTAMP:20260421T173128
DTSTART;TZID=Europe/Berlin:20260610T184500
DTEND;TZID=Europe/Berlin:20260610T201500
UID:261-88307-20260610T184500@VHSTÜBINGEN
SUMMARY:Yoga - Ich bin in Bewegung für Frauen (261-88307) 
LOCATION:88 Burghof-Schule Ofterdingen, Musikraum, Schulstraße 5 , 72131 Ofterdingen
END:VEVENT
BEGIN:VEVENT
DTSTAMP:20260421T173128
DTSTART;TZID=Europe/Berlin:20260617T184500
DTEND;TZID=Europe/Berlin:20260617T201500
UID:261-88307-20260617T184500@VHSTÜBINGEN
SUMMARY:Yoga - Ich bin in Bewegung für Frauen (261-88307) 
LOCATION:88 Burghof-Schule Ofterdingen, Musikraum, Schulstraße 5 , 72131 Ofterdingen
END:VEVENT
BEGIN:VEVENT
DTSTAMP:20260421T173128
DTSTART;TZID=Europe/Berlin:20260701T184500
DTEND;TZID=Europe/Berlin:20260701T201500
UID:261-88307-20260701T184500@VHSTÜBINGEN
SUMMARY:Yoga - Ich bin in Bewegung für Frauen (261-88307) 
LOCATION:88 Burghof-Schule Ofterdingen, Musikraum, Schulstraße 5 , 72131 Ofterdingen
END:VEVENT
BEGIN:VEVENT
DTSTAMP:20260421T173128
DTSTART;TZID=Europe/Berlin:20260708T184500
DTEND;TZID=Europe/Berlin:20260708T201500
UID:261-88307-20260708T184500@VHSTÜBINGEN
SUMMARY:Yoga - Ich bin in Bewegung für Frauen (261-88307) 
LOCATION:88 Burghof-Schule Ofterdingen, Musikraum, Schulstraße 5 , 72131 Ofterdingen
END:VEVENT
BEGIN:VEVENT
DTSTAMP:20260421T173128
DTSTART;TZID=Europe/Berlin:20260715T184500
DTEND;TZID=Europe/Berlin:20260715T201500
UID:261-88307-20260715T184500@VHSTÜBINGEN
SUMMARY:Yoga - Ich bin in Bewegung für Frauen (261-88307) 
LOCATION:88 Burghof-Schule Ofterdingen, Musikraum, Schulstraße 5 , 72131 Ofterdingen
END:VEVENT
BEGIN:VEVENT
DTSTAMP:20260421T173128
DTSTART;TZID=Europe/Berlin:20260722T184500
DTEND;TZID=Europe/Berlin:20260722T201500
UID:261-88307-20260722T184500@VHSTÜBINGEN
SUMMARY:Yoga - Ich bin in Bewegung für Frauen (261-88307) 
LOCATION:88 Burghof-Schule Ofterdingen, Musikraum, Schulstraße 5 , 72131 Ofterdingen
END:VEVENT
END:VCALENDAR