BEGIN:VCALENDAR
VERSION:2.0
PRODID:https://www.kufer.de/kuferweb / DE
METHOD:PUBLISH
CALSCALE:GREGORIAN
X-WR-TIMEZONE:Europe/Berlin
BEGIN:VTIMEZONE
TZID:Europe/Berlin
X-LIC-LOCATION:Europe/Berlin
BEGIN:DAYLIGHT
TZOFFSETFROM:+0100
TZOFFSETTO:+0200
TZNAME:CEST
DTSTART:19700329T020000
RRULE:FREQ=YEARLY;INTERVAL=1;BYDAY=-1SU;BYMONTH=3
END:DAYLIGHT
BEGIN:STANDARD
TZOFFSETFROM:+0200
TZOFFSETTO:+0100
TZNAME:CET
DTSTART:19701025T030000
RRULE:FREQ=YEARLY;INTERVAL=1;BYDAY=-1SU;BYMONTH=10
END:STANDARD
END:VTIMEZONE
BEGIN:VEVENT
DTSTAMP:20260421T173012
DTSTART;TZID=Europe/Berlin:20260225T202000
DTEND;TZID=Europe/Berlin:20260225T212000
UID:261-88320-20260225T202000@VHSTÜBINGEN
SUMMARY:Pilates (261-88320) 
LOCATION:88 Zehntscheuer Ofterdingen, Burggasse 3, 72131 Ofterdingen
END:VEVENT
BEGIN:VEVENT
DTSTAMP:20260421T173012
DTSTART;TZID=Europe/Berlin:20260304T202000
DTEND;TZID=Europe/Berlin:20260304T212000
UID:261-88320-20260304T202000@VHSTÜBINGEN
SUMMARY:Pilates (261-88320) 
LOCATION:88 Zehntscheuer Ofterdingen, Burggasse 3, 72131 Ofterdingen
END:VEVENT
BEGIN:VEVENT
DTSTAMP:20260421T173012
DTSTART;TZID=Europe/Berlin:20260311T202000
DTEND;TZID=Europe/Berlin:20260311T212000
UID:261-88320-20260311T202000@VHSTÜBINGEN
SUMMARY:Pilates (261-88320) 
LOCATION:88 Zehntscheuer Ofterdingen, Burggasse 3, 72131 Ofterdingen
END:VEVENT
BEGIN:VEVENT
DTSTAMP:20260421T173012
DTSTART;TZID=Europe/Berlin:20260318T202000
DTEND;TZID=Europe/Berlin:20260318T212000
UID:261-88320-20260318T202000@VHSTÜBINGEN
SUMMARY:Pilates (261-88320) 
LOCATION:88 Zehntscheuer Ofterdingen, Burggasse 3, 72131 Ofterdingen
END:VEVENT
BEGIN:VEVENT
DTSTAMP:20260421T173012
DTSTART;TZID=Europe/Berlin:20260325T202000
DTEND;TZID=Europe/Berlin:20260325T212000
UID:261-88320-20260325T202000@VHSTÜBINGEN
SUMMARY:Pilates (261-88320) 
LOCATION:88 Zehntscheuer Ofterdingen, Burggasse 3, 72131 Ofterdingen
END:VEVENT
BEGIN:VEVENT
DTSTAMP:20260421T173012
DTSTART;TZID=Europe/Berlin:20260415T202000
DTEND;TZID=Europe/Berlin:20260415T212000
UID:261-88320-20260415T202000@VHSTÜBINGEN
SUMMARY:Pilates (261-88320) 
LOCATION:88 Zehntscheuer Ofterdingen, Burggasse 3, 72131 Ofterdingen
END:VEVENT
BEGIN:VEVENT
DTSTAMP:20260421T173012
DTSTART;TZID=Europe/Berlin:20260422T202000
DTEND;TZID=Europe/Berlin:20260422T212000
UID:261-88320-20260422T202000@VHSTÜBINGEN
SUMMARY:Pilates (261-88320) 
LOCATION:88 Zehntscheuer Ofterdingen, Burggasse 3, 72131 Ofterdingen
END:VEVENT
BEGIN:VEVENT
DTSTAMP:20260421T173012
DTSTART;TZID=Europe/Berlin:20260429T202000
DTEND;TZID=Europe/Berlin:20260429T212000
UID:261-88320-20260429T202000@VHSTÜBINGEN
SUMMARY:Pilates (261-88320) 
LOCATION:88 Zehntscheuer Ofterdingen, Burggasse 3, 72131 Ofterdingen
END:VEVENT
BEGIN:VEVENT
DTSTAMP:20260421T173012
DTSTART;TZID=Europe/Berlin:20260506T202000
DTEND;TZID=Europe/Berlin:20260506T212000
UID:261-88320-20260506T202000@VHSTÜBINGEN
SUMMARY:Pilates (261-88320) 
LOCATION:88 Zehntscheuer Ofterdingen, Burggasse 3, 72131 Ofterdingen
END:VEVENT
BEGIN:VEVENT
DTSTAMP:20260421T173012
DTSTART;TZID=Europe/Berlin:20260513T202000
DTEND;TZID=Europe/Berlin:20260513T212000
UID:261-88320-20260513T202000@VHSTÜBINGEN
SUMMARY:Pilates (261-88320) 
LOCATION:88 Zehntscheuer Ofterdingen, Burggasse 3, 72131 Ofterdingen
END:VEVENT
END:VCALENDAR