BEGIN:VCALENDAR
VERSION:2.0
PRODID:https://www.kufer.de/kuferweb / DE
METHOD:PUBLISH
CALSCALE:GREGORIAN
X-WR-TIMEZONE:Europe/Berlin
BEGIN:VTIMEZONE
TZID:Europe/Berlin
X-LIC-LOCATION:Europe/Berlin
BEGIN:DAYLIGHT
TZOFFSETFROM:+0100
TZOFFSETTO:+0200
TZNAME:CEST
DTSTART:19700329T020000
RRULE:FREQ=YEARLY;INTERVAL=1;BYDAY=-1SU;BYMONTH=3
END:DAYLIGHT
BEGIN:STANDARD
TZOFFSETFROM:+0200
TZOFFSETTO:+0100
TZNAME:CET
DTSTART:19701025T030000
RRULE:FREQ=YEARLY;INTERVAL=1;BYDAY=-1SU;BYMONTH=10
END:STANDARD
END:VTIMEZONE
BEGIN:VEVENT
DTSTAMP:20260421T133039
DTSTART;TZID=Europe/Berlin:20260225T080000
DTEND;TZID=Europe/Berlin:20260225T090000
UID:261-88353-20260225T080000@VHSTÜBINGEN
SUMMARY:Fitness-Gymnastik (261-88353) 
LOCATION:88 Evangelisches Gemeindehaus Ofterdingen, Rohrgasse 4 , 72131 Ofterdingen  
END:VEVENT
BEGIN:VEVENT
DTSTAMP:20260421T133039
DTSTART;TZID=Europe/Berlin:20260304T080000
DTEND;TZID=Europe/Berlin:20260304T090000
UID:261-88353-20260304T080000@VHSTÜBINGEN
SUMMARY:Fitness-Gymnastik (261-88353) 
LOCATION:88 Evangelisches Gemeindehaus Ofterdingen, Rohrgasse 4 , 72131 Ofterdingen  
END:VEVENT
BEGIN:VEVENT
DTSTAMP:20260421T133039
DTSTART;TZID=Europe/Berlin:20260311T080000
DTEND;TZID=Europe/Berlin:20260311T090000
UID:261-88353-20260311T080000@VHSTÜBINGEN
SUMMARY:Fitness-Gymnastik (261-88353) 
LOCATION:88 Evangelisches Gemeindehaus Ofterdingen, Rohrgasse 4 , 72131 Ofterdingen  
END:VEVENT
BEGIN:VEVENT
DTSTAMP:20260421T133039
DTSTART;TZID=Europe/Berlin:20260318T080000
DTEND;TZID=Europe/Berlin:20260318T090000
UID:261-88353-20260318T080000@VHSTÜBINGEN
SUMMARY:Fitness-Gymnastik (261-88353) 
LOCATION:88 Evangelisches Gemeindehaus Ofterdingen, Rohrgasse 4 , 72131 Ofterdingen  
END:VEVENT
BEGIN:VEVENT
DTSTAMP:20260421T133039
DTSTART;TZID=Europe/Berlin:20260325T080000
DTEND;TZID=Europe/Berlin:20260325T090000
UID:261-88353-20260325T080000@VHSTÜBINGEN
SUMMARY:Fitness-Gymnastik (261-88353) 
LOCATION:88 Evangelisches Gemeindehaus Ofterdingen, Rohrgasse 4 , 72131 Ofterdingen  
END:VEVENT
BEGIN:VEVENT
DTSTAMP:20260421T133039
DTSTART;TZID=Europe/Berlin:20260415T080000
DTEND;TZID=Europe/Berlin:20260415T090000
UID:261-88353-20260415T080000@VHSTÜBINGEN
SUMMARY:Fitness-Gymnastik (261-88353) 
LOCATION:88 Evangelisches Gemeindehaus Ofterdingen, Rohrgasse 4 , 72131 Ofterdingen  
END:VEVENT
BEGIN:VEVENT
DTSTAMP:20260421T133039
DTSTART;TZID=Europe/Berlin:20260422T080000
DTEND;TZID=Europe/Berlin:20260422T090000
UID:261-88353-20260422T080000@VHSTÜBINGEN
SUMMARY:Fitness-Gymnastik (261-88353) 
LOCATION:88 Evangelisches Gemeindehaus Ofterdingen, Rohrgasse 4 , 72131 Ofterdingen  
END:VEVENT
BEGIN:VEVENT
DTSTAMP:20260421T133039
DTSTART;TZID=Europe/Berlin:20260429T080000
DTEND;TZID=Europe/Berlin:20260429T090000
UID:261-88353-20260429T080000@VHSTÜBINGEN
SUMMARY:Fitness-Gymnastik (261-88353) 
LOCATION:88 Evangelisches Gemeindehaus Ofterdingen, Rohrgasse 4 , 72131 Ofterdingen  
END:VEVENT
BEGIN:VEVENT
DTSTAMP:20260421T133039
DTSTART;TZID=Europe/Berlin:20260506T080000
DTEND;TZID=Europe/Berlin:20260506T090000
UID:261-88353-20260506T080000@VHSTÜBINGEN
SUMMARY:Fitness-Gymnastik (261-88353) 
LOCATION:88 Evangelisches Gemeindehaus Ofterdingen, Rohrgasse 4 , 72131 Ofterdingen  
END:VEVENT
BEGIN:VEVENT
DTSTAMP:20260421T133039
DTSTART;TZID=Europe/Berlin:20260513T080000
DTEND;TZID=Europe/Berlin:20260513T090000
UID:261-88353-20260513T080000@VHSTÜBINGEN
SUMMARY:Fitness-Gymnastik (261-88353) 
LOCATION:88 Evangelisches Gemeindehaus Ofterdingen, Rohrgasse 4 , 72131 Ofterdingen  
END:VEVENT
BEGIN:VEVENT
DTSTAMP:20260421T133039
DTSTART;TZID=Europe/Berlin:20260520T080000
DTEND;TZID=Europe/Berlin:20260520T090000
UID:261-88353-20260520T080000@VHSTÜBINGEN
SUMMARY:Fitness-Gymnastik (261-88353) 
LOCATION:88 Evangelisches Gemeindehaus Ofterdingen, Rohrgasse 4 , 72131 Ofterdingen  
END:VEVENT
BEGIN:VEVENT
DTSTAMP:20260421T133039
DTSTART;TZID=Europe/Berlin:20260610T080000
DTEND;TZID=Europe/Berlin:20260610T090000
UID:261-88353-20260610T080000@VHSTÜBINGEN
SUMMARY:Fitness-Gymnastik (261-88353) 
LOCATION:88 Evangelisches Gemeindehaus Ofterdingen, Rohrgasse 4 , 72131 Ofterdingen  
END:VEVENT
BEGIN:VEVENT
DTSTAMP:20260421T133039
DTSTART;TZID=Europe/Berlin:20260617T080000
DTEND;TZID=Europe/Berlin:20260617T090000
UID:261-88353-20260617T080000@VHSTÜBINGEN
SUMMARY:Fitness-Gymnastik (261-88353) 
LOCATION:88 Evangelisches Gemeindehaus Ofterdingen, Rohrgasse 4 , 72131 Ofterdingen  
END:VEVENT
END:VCALENDAR