BEGIN:VCALENDAR
VERSION:2.0
PRODID:https://www.kufer.de/kuferweb / DE
METHOD:PUBLISH
CALSCALE:GREGORIAN
X-WR-TIMEZONE:Europe/Berlin
BEGIN:VTIMEZONE
TZID:Europe/Berlin
X-LIC-LOCATION:Europe/Berlin
BEGIN:DAYLIGHT
TZOFFSETFROM:+0100
TZOFFSETTO:+0200
TZNAME:CEST
DTSTART:19700329T020000
RRULE:FREQ=YEARLY;INTERVAL=1;BYDAY=-1SU;BYMONTH=3
END:DAYLIGHT
BEGIN:STANDARD
TZOFFSETFROM:+0200
TZOFFSETTO:+0100
TZNAME:CET
DTSTART:19701025T030000
RRULE:FREQ=YEARLY;INTERVAL=1;BYDAY=-1SU;BYMONTH=10
END:STANDARD
END:VTIMEZONE
BEGIN:VEVENT
DTSTAMP:20260421T133036
DTSTART;TZID=Europe/Berlin:20260223T201000
DTEND;TZID=Europe/Berlin:20260223T214000
UID:261-88363-20260223T201000@VHSTÜBINGEN
SUMMARY:Tai Chi  für Fortgeschrittene (261-88363) 
LOCATION:88 Burghof-Schule Ofterdingen, Musikraum, Schulstraße 5 , 72131 Ofterdingen
END:VEVENT
BEGIN:VEVENT
DTSTAMP:20260421T133036
DTSTART;TZID=Europe/Berlin:20260302T201000
DTEND;TZID=Europe/Berlin:20260302T214000
UID:261-88363-20260302T201000@VHSTÜBINGEN
SUMMARY:Tai Chi  für Fortgeschrittene (261-88363) 
LOCATION:88 Burghof-Schule Ofterdingen, Musikraum, Schulstraße 5 , 72131 Ofterdingen
END:VEVENT
BEGIN:VEVENT
DTSTAMP:20260421T133036
DTSTART;TZID=Europe/Berlin:20260309T201000
DTEND;TZID=Europe/Berlin:20260309T214000
UID:261-88363-20260309T201000@VHSTÜBINGEN
SUMMARY:Tai Chi  für Fortgeschrittene (261-88363) 
LOCATION:88 Burghof-Schule Ofterdingen, Musikraum, Schulstraße 5 , 72131 Ofterdingen
END:VEVENT
BEGIN:VEVENT
DTSTAMP:20260421T133036
DTSTART;TZID=Europe/Berlin:20260316T201000
DTEND;TZID=Europe/Berlin:20260316T214000
UID:261-88363-20260316T201000@VHSTÜBINGEN
SUMMARY:Tai Chi  für Fortgeschrittene (261-88363) 
LOCATION:88 Burghof-Schule Ofterdingen, Musikraum, Schulstraße 5 , 72131 Ofterdingen
END:VEVENT
BEGIN:VEVENT
DTSTAMP:20260421T133036
DTSTART;TZID=Europe/Berlin:20260323T201000
DTEND;TZID=Europe/Berlin:20260323T214000
UID:261-88363-20260323T201000@VHSTÜBINGEN
SUMMARY:Tai Chi  für Fortgeschrittene (261-88363) 
LOCATION:88 Burghof-Schule Ofterdingen, Musikraum, Schulstraße 5 , 72131 Ofterdingen
END:VEVENT
BEGIN:VEVENT
DTSTAMP:20260421T133036
DTSTART;TZID=Europe/Berlin:20260413T201000
DTEND;TZID=Europe/Berlin:20260413T214000
UID:261-88363-20260413T201000@VHSTÜBINGEN
SUMMARY:Tai Chi  für Fortgeschrittene (261-88363) 
LOCATION:88 Burghof-Schule Ofterdingen, Musikraum, Schulstraße 5 , 72131 Ofterdingen
END:VEVENT
BEGIN:VEVENT
DTSTAMP:20260421T133036
DTSTART;TZID=Europe/Berlin:20260420T201000
DTEND;TZID=Europe/Berlin:20260420T214000
UID:261-88363-20260420T201000@VHSTÜBINGEN
SUMMARY:Tai Chi  für Fortgeschrittene (261-88363) 
LOCATION:88 Burghof-Schule Ofterdingen, Musikraum, Schulstraße 5 , 72131 Ofterdingen
END:VEVENT
BEGIN:VEVENT
DTSTAMP:20260421T133036
DTSTART;TZID=Europe/Berlin:20260427T201000
DTEND;TZID=Europe/Berlin:20260427T214000
UID:261-88363-20260427T201000@VHSTÜBINGEN
SUMMARY:Tai Chi  für Fortgeschrittene (261-88363) 
LOCATION:88 Burghof-Schule Ofterdingen, Musikraum, Schulstraße 5 , 72131 Ofterdingen
END:VEVENT
BEGIN:VEVENT
DTSTAMP:20260421T133036
DTSTART;TZID=Europe/Berlin:20260504T201000
DTEND;TZID=Europe/Berlin:20260504T214000
UID:261-88363-20260504T201000@VHSTÜBINGEN
SUMMARY:Tai Chi  für Fortgeschrittene (261-88363) 
LOCATION:88 Burghof-Schule Ofterdingen, Musikraum, Schulstraße 5 , 72131 Ofterdingen
END:VEVENT
BEGIN:VEVENT
DTSTAMP:20260421T133036
DTSTART;TZID=Europe/Berlin:20260511T201000
DTEND;TZID=Europe/Berlin:20260511T214000
UID:261-88363-20260511T201000@VHSTÜBINGEN
SUMMARY:Tai Chi  für Fortgeschrittene (261-88363) 
LOCATION:88 Burghof-Schule Ofterdingen, Musikraum, Schulstraße 5 , 72131 Ofterdingen
END:VEVENT
BEGIN:VEVENT
DTSTAMP:20260421T133036
DTSTART;TZID=Europe/Berlin:20260518T201000
DTEND;TZID=Europe/Berlin:20260518T214000
UID:261-88363-20260518T201000@VHSTÜBINGEN
SUMMARY:Tai Chi  für Fortgeschrittene (261-88363) 
LOCATION:88 Burghof-Schule Ofterdingen, Musikraum, Schulstraße 5 , 72131 Ofterdingen
END:VEVENT
BEGIN:VEVENT
DTSTAMP:20260421T133036
DTSTART;TZID=Europe/Berlin:20260608T201000
DTEND;TZID=Europe/Berlin:20260608T214000
UID:261-88363-20260608T201000@VHSTÜBINGEN
SUMMARY:Tai Chi  für Fortgeschrittene (261-88363) 
LOCATION:88 Burghof-Schule Ofterdingen, Musikraum, Schulstraße 5 , 72131 Ofterdingen
END:VEVENT
END:VCALENDAR