BEGIN:VCALENDAR
VERSION:2.0
PRODID:https://www.kufer.de/kuferweb / DE
METHOD:PUBLISH
CALSCALE:GREGORIAN
X-WR-TIMEZONE:Europe/Berlin
BEGIN:VTIMEZONE
TZID:Europe/Berlin
X-LIC-LOCATION:Europe/Berlin
BEGIN:DAYLIGHT
TZOFFSETFROM:+0100
TZOFFSETTO:+0200
TZNAME:CEST
DTSTART:19700329T020000
RRULE:FREQ=YEARLY;INTERVAL=1;BYDAY=-1SU;BYMONTH=3
END:DAYLIGHT
BEGIN:STANDARD
TZOFFSETFROM:+0200
TZOFFSETTO:+0100
TZNAME:CET
DTSTART:19701025T030000
RRULE:FREQ=YEARLY;INTERVAL=1;BYDAY=-1SU;BYMONTH=10
END:STANDARD
END:VTIMEZONE
BEGIN:VEVENT
DTSTAMP:20260421T132054
DTSTART;TZID=Europe/Berlin:20260226T101500
DTEND;TZID=Europe/Berlin:20260226T111500
UID:261-89309-20260226T101500@VHSTÜBINGEN
SUMMARY:Qigong (261-89309) 
LOCATION:89 Bürgersaal Dörnach, Mörsbergstraße 3, 72124 Pliezhausen
END:VEVENT
BEGIN:VEVENT
DTSTAMP:20260421T132054
DTSTART;TZID=Europe/Berlin:20260305T101500
DTEND;TZID=Europe/Berlin:20260305T111500
UID:261-89309-20260305T101500@VHSTÜBINGEN
SUMMARY:Qigong (261-89309) 
LOCATION:89 Bürgersaal Dörnach, Mörsbergstraße 3, 72124 Pliezhausen
END:VEVENT
BEGIN:VEVENT
DTSTAMP:20260421T132054
DTSTART;TZID=Europe/Berlin:20260312T101500
DTEND;TZID=Europe/Berlin:20260312T111500
UID:261-89309-20260312T101500@VHSTÜBINGEN
SUMMARY:Qigong (261-89309) 
LOCATION:89 Bürgersaal Dörnach, Mörsbergstraße 3, 72124 Pliezhausen
END:VEVENT
BEGIN:VEVENT
DTSTAMP:20260421T132054
DTSTART;TZID=Europe/Berlin:20260319T101500
DTEND;TZID=Europe/Berlin:20260319T111500
UID:261-89309-20260319T101500@VHSTÜBINGEN
SUMMARY:Qigong (261-89309) 
LOCATION:89 Bürgersaal Dörnach, Mörsbergstraße 3, 72124 Pliezhausen
END:VEVENT
BEGIN:VEVENT
DTSTAMP:20260421T132054
DTSTART;TZID=Europe/Berlin:20260326T101500
DTEND;TZID=Europe/Berlin:20260326T111500
UID:261-89309-20260326T101500@VHSTÜBINGEN
SUMMARY:Qigong (261-89309) 
LOCATION:89 Bürgersaal Dörnach, Mörsbergstraße 3, 72124 Pliezhausen
END:VEVENT
BEGIN:VEVENT
DTSTAMP:20260421T132054
DTSTART;TZID=Europe/Berlin:20260416T101500
DTEND;TZID=Europe/Berlin:20260416T111500
UID:261-89309-20260416T101500@VHSTÜBINGEN
SUMMARY:Qigong (261-89309) 
LOCATION:89 Bürgersaal Dörnach, Mörsbergstraße 3, 72124 Pliezhausen
END:VEVENT
BEGIN:VEVENT
DTSTAMP:20260421T132054
DTSTART;TZID=Europe/Berlin:20260423T101500
DTEND;TZID=Europe/Berlin:20260423T111500
UID:261-89309-20260423T101500@VHSTÜBINGEN
SUMMARY:Qigong (261-89309) 
LOCATION:89 Bürgersaal Dörnach, Mörsbergstraße 3, 72124 Pliezhausen
END:VEVENT
BEGIN:VEVENT
DTSTAMP:20260421T132054
DTSTART;TZID=Europe/Berlin:20260430T101500
DTEND;TZID=Europe/Berlin:20260430T111500
UID:261-89309-20260430T101500@VHSTÜBINGEN
SUMMARY:Qigong (261-89309) 
LOCATION:89 Bürgersaal Dörnach, Mörsbergstraße 3, 72124 Pliezhausen
END:VEVENT
BEGIN:VEVENT
DTSTAMP:20260421T132054
DTSTART;TZID=Europe/Berlin:20260507T101500
DTEND;TZID=Europe/Berlin:20260507T111500
UID:261-89309-20260507T101500@VHSTÜBINGEN
SUMMARY:Qigong (261-89309) 
LOCATION:89 Bürgersaal Dörnach, Mörsbergstraße 3, 72124 Pliezhausen
END:VEVENT
BEGIN:VEVENT
DTSTAMP:20260421T132054
DTSTART;TZID=Europe/Berlin:20260521T101500
DTEND;TZID=Europe/Berlin:20260521T111500
UID:261-89309-20260521T101500@VHSTÜBINGEN
SUMMARY:Qigong (261-89309) 
LOCATION:89 Bürgersaal Dörnach, Mörsbergstraße 3, 72124 Pliezhausen
END:VEVENT
END:VCALENDAR