BEGIN:VCALENDAR
VERSION:2.0
PRODID:https://www.kufer.de/kuferweb / DE
METHOD:PUBLISH
CALSCALE:GREGORIAN
X-WR-TIMEZONE:Europe/Berlin
BEGIN:VTIMEZONE
TZID:Europe/Berlin
X-LIC-LOCATION:Europe/Berlin
BEGIN:DAYLIGHT
TZOFFSETFROM:+0100
TZOFFSETTO:+0200
TZNAME:CEST
DTSTART:19700329T020000
RRULE:FREQ=YEARLY;INTERVAL=1;BYDAY=-1SU;BYMONTH=3
END:DAYLIGHT
BEGIN:STANDARD
TZOFFSETFROM:+0200
TZOFFSETTO:+0100
TZNAME:CET
DTSTART:19701025T030000
RRULE:FREQ=YEARLY;INTERVAL=1;BYDAY=-1SU;BYMONTH=10
END:STANDARD
END:VTIMEZONE
BEGIN:VEVENT
DTSTAMP:20260421T174703
DTSTART;TZID=Europe/Berlin:20260226T185000
DTEND;TZID=Europe/Berlin:20260226T192000
UID:261-89328-20260226T185000@VHSTÜBINGEN
SUMMARY:Body Fitness H.I.I.T. - High Intensiv Intervall Training (261-89328) 
LOCATION:89 Bürgersaal Dörnach, Mörsbergstraße 3, 72124 Pliezhausen
END:VEVENT
BEGIN:VEVENT
DTSTAMP:20260421T174703
DTSTART;TZID=Europe/Berlin:20260305T185000
DTEND;TZID=Europe/Berlin:20260305T192000
UID:261-89328-20260305T185000@VHSTÜBINGEN
SUMMARY:Body Fitness H.I.I.T. - High Intensiv Intervall Training (261-89328) 
LOCATION:89 Bürgersaal Dörnach, Mörsbergstraße 3, 72124 Pliezhausen
END:VEVENT
BEGIN:VEVENT
DTSTAMP:20260421T174703
DTSTART;TZID=Europe/Berlin:20260312T185000
DTEND;TZID=Europe/Berlin:20260312T192000
UID:261-89328-20260312T185000@VHSTÜBINGEN
SUMMARY:Body Fitness H.I.I.T. - High Intensiv Intervall Training (261-89328) 
LOCATION:89 Bürgersaal Dörnach, Mörsbergstraße 3, 72124 Pliezhausen
END:VEVENT
BEGIN:VEVENT
DTSTAMP:20260421T174703
DTSTART;TZID=Europe/Berlin:20260319T185000
DTEND;TZID=Europe/Berlin:20260319T192000
UID:261-89328-20260319T185000@VHSTÜBINGEN
SUMMARY:Body Fitness H.I.I.T. - High Intensiv Intervall Training (261-89328) 
LOCATION:89 Bürgersaal Dörnach, Mörsbergstraße 3, 72124 Pliezhausen
END:VEVENT
BEGIN:VEVENT
DTSTAMP:20260421T174703
DTSTART;TZID=Europe/Berlin:20260326T185000
DTEND;TZID=Europe/Berlin:20260326T192000
UID:261-89328-20260326T185000@VHSTÜBINGEN
SUMMARY:Body Fitness H.I.I.T. - High Intensiv Intervall Training (261-89328) 
LOCATION:89 Bürgersaal Dörnach, Mörsbergstraße 3, 72124 Pliezhausen
END:VEVENT
BEGIN:VEVENT
DTSTAMP:20260421T174703
DTSTART;TZID=Europe/Berlin:20260416T185000
DTEND;TZID=Europe/Berlin:20260416T192000
UID:261-89328-20260416T185000@VHSTÜBINGEN
SUMMARY:Body Fitness H.I.I.T. - High Intensiv Intervall Training (261-89328) 
LOCATION:89 Bürgersaal Dörnach, Mörsbergstraße 3, 72124 Pliezhausen
END:VEVENT
BEGIN:VEVENT
DTSTAMP:20260421T174703
DTSTART;TZID=Europe/Berlin:20260423T185000
DTEND;TZID=Europe/Berlin:20260423T192000
UID:261-89328-20260423T185000@VHSTÜBINGEN
SUMMARY:Body Fitness H.I.I.T. - High Intensiv Intervall Training (261-89328) 
LOCATION:89 Bürgersaal Dörnach, Mörsbergstraße 3, 72124 Pliezhausen
END:VEVENT
BEGIN:VEVENT
DTSTAMP:20260421T174703
DTSTART;TZID=Europe/Berlin:20260430T185000
DTEND;TZID=Europe/Berlin:20260430T192000
UID:261-89328-20260430T185000@VHSTÜBINGEN
SUMMARY:Body Fitness H.I.I.T. - High Intensiv Intervall Training (261-89328) 
LOCATION:89 Bürgersaal Dörnach, Mörsbergstraße 3, 72124 Pliezhausen
END:VEVENT
BEGIN:VEVENT
DTSTAMP:20260421T174703
DTSTART;TZID=Europe/Berlin:20260507T185000
DTEND;TZID=Europe/Berlin:20260507T192000
UID:261-89328-20260507T185000@VHSTÜBINGEN
SUMMARY:Body Fitness H.I.I.T. - High Intensiv Intervall Training (261-89328) 
LOCATION:89 Bürgersaal Dörnach, Mörsbergstraße 3, 72124 Pliezhausen
END:VEVENT
BEGIN:VEVENT
DTSTAMP:20260421T174703
DTSTART;TZID=Europe/Berlin:20260521T185000
DTEND;TZID=Europe/Berlin:20260521T192000
UID:261-89328-20260521T185000@VHSTÜBINGEN
SUMMARY:Body Fitness H.I.I.T. - High Intensiv Intervall Training (261-89328) 
LOCATION:89 Bürgersaal Dörnach, Mörsbergstraße 3, 72124 Pliezhausen
END:VEVENT
BEGIN:VEVENT
DTSTAMP:20260421T174703
DTSTART;TZID=Europe/Berlin:20260611T185000
DTEND;TZID=Europe/Berlin:20260611T192000
UID:261-89328-20260611T185000@VHSTÜBINGEN
SUMMARY:Body Fitness H.I.I.T. - High Intensiv Intervall Training (261-89328) 
LOCATION:89 Bürgersaal Dörnach, Mörsbergstraße 3, 72124 Pliezhausen
END:VEVENT
BEGIN:VEVENT
DTSTAMP:20260421T174703
DTSTART;TZID=Europe/Berlin:20260625T185000
DTEND;TZID=Europe/Berlin:20260625T192000
UID:261-89328-20260625T185000@VHSTÜBINGEN
SUMMARY:Body Fitness H.I.I.T. - High Intensiv Intervall Training (261-89328) 
LOCATION:89 Bürgersaal Dörnach, Mörsbergstraße 3, 72124 Pliezhausen
END:VEVENT
BEGIN:VEVENT
DTSTAMP:20260421T174703
DTSTART;TZID=Europe/Berlin:20260702T185000
DTEND;TZID=Europe/Berlin:20260702T192000
UID:261-89328-20260702T185000@VHSTÜBINGEN
SUMMARY:Body Fitness H.I.I.T. - High Intensiv Intervall Training (261-89328) 
LOCATION:89 Bürgersaal Dörnach, Mörsbergstraße 3, 72124 Pliezhausen
END:VEVENT
BEGIN:VEVENT
DTSTAMP:20260421T174703
DTSTART;TZID=Europe/Berlin:20260709T185000
DTEND;TZID=Europe/Berlin:20260709T192000
UID:261-89328-20260709T185000@VHSTÜBINGEN
SUMMARY:Body Fitness H.I.I.T. - High Intensiv Intervall Training (261-89328) 
LOCATION:89 Bürgersaal Dörnach, Mörsbergstraße 3, 72124 Pliezhausen
END:VEVENT
BEGIN:VEVENT
DTSTAMP:20260421T174703
DTSTART;TZID=Europe/Berlin:20260716T185000
DTEND;TZID=Europe/Berlin:20260716T192000
UID:261-89328-20260716T185000@VHSTÜBINGEN
SUMMARY:Body Fitness H.I.I.T. - High Intensiv Intervall Training (261-89328) 
LOCATION:89 Bürgersaal Dörnach, Mörsbergstraße 3, 72124 Pliezhausen
END:VEVENT
END:VCALENDAR