BEGIN:VCALENDAR
VERSION:2.0
PRODID:https://www.kufer.de/kuferweb / DE
METHOD:PUBLISH
CALSCALE:GREGORIAN
X-WR-TIMEZONE:Europe/Berlin
BEGIN:VTIMEZONE
TZID:Europe/Berlin
X-LIC-LOCATION:Europe/Berlin
BEGIN:DAYLIGHT
TZOFFSETFROM:+0100
TZOFFSETTO:+0200
TZNAME:CEST
DTSTART:19700329T020000
RRULE:FREQ=YEARLY;INTERVAL=1;BYDAY=-1SU;BYMONTH=3
END:DAYLIGHT
BEGIN:STANDARD
TZOFFSETFROM:+0200
TZOFFSETTO:+0100
TZNAME:CET
DTSTART:19701025T030000
RRULE:FREQ=YEARLY;INTERVAL=1;BYDAY=-1SU;BYMONTH=10
END:STANDARD
END:VTIMEZONE
BEGIN:VEVENT
DTSTAMP:20260421T174703
DTSTART;TZID=Europe/Berlin:20260226T091500
DTEND;TZID=Europe/Berlin:20260226T101500
UID:261-89343-20260226T091500@VHSTÜBINGEN
SUMMARY:Wirbelsäulengymnastik (261-89343) 
LOCATION:89 Gemeindehalle Pliezhausen, Friedrichstraße 50, 72124 Pliezhausen
END:VEVENT
BEGIN:VEVENT
DTSTAMP:20260421T174703
DTSTART;TZID=Europe/Berlin:20260305T091500
DTEND;TZID=Europe/Berlin:20260305T101500
UID:261-89343-20260305T091500@VHSTÜBINGEN
SUMMARY:Wirbelsäulengymnastik (261-89343) 
LOCATION:89 Gemeindehalle Pliezhausen, Friedrichstraße 50, 72124 Pliezhausen
END:VEVENT
BEGIN:VEVENT
DTSTAMP:20260421T174703
DTSTART;TZID=Europe/Berlin:20260312T091500
DTEND;TZID=Europe/Berlin:20260312T101500
UID:261-89343-20260312T091500@VHSTÜBINGEN
SUMMARY:Wirbelsäulengymnastik (261-89343) 
LOCATION:89 Gemeindehalle Pliezhausen, Friedrichstraße 50, 72124 Pliezhausen
END:VEVENT
BEGIN:VEVENT
DTSTAMP:20260421T174703
DTSTART;TZID=Europe/Berlin:20260319T091500
DTEND;TZID=Europe/Berlin:20260319T101500
UID:261-89343-20260319T091500@VHSTÜBINGEN
SUMMARY:Wirbelsäulengymnastik (261-89343) 
LOCATION:89 Gemeindehalle Pliezhausen, Friedrichstraße 50, 72124 Pliezhausen
END:VEVENT
BEGIN:VEVENT
DTSTAMP:20260421T174703
DTSTART;TZID=Europe/Berlin:20260326T091500
DTEND;TZID=Europe/Berlin:20260326T101500
UID:261-89343-20260326T091500@VHSTÜBINGEN
SUMMARY:Wirbelsäulengymnastik (261-89343) 
LOCATION:89 Gemeindehalle Pliezhausen, Friedrichstraße 50, 72124 Pliezhausen
END:VEVENT
BEGIN:VEVENT
DTSTAMP:20260421T174703
DTSTART;TZID=Europe/Berlin:20260416T091500
DTEND;TZID=Europe/Berlin:20260416T101500
UID:261-89343-20260416T091500@VHSTÜBINGEN
SUMMARY:Wirbelsäulengymnastik (261-89343) 
LOCATION:89 Gemeindehalle Pliezhausen, Friedrichstraße 50, 72124 Pliezhausen
END:VEVENT
BEGIN:VEVENT
DTSTAMP:20260421T174703
DTSTART;TZID=Europe/Berlin:20260423T091500
DTEND;TZID=Europe/Berlin:20260423T101500
UID:261-89343-20260423T091500@VHSTÜBINGEN
SUMMARY:Wirbelsäulengymnastik (261-89343) 
LOCATION:89 Gemeindehalle Pliezhausen, Friedrichstraße 50, 72124 Pliezhausen
END:VEVENT
BEGIN:VEVENT
DTSTAMP:20260421T174703
DTSTART;TZID=Europe/Berlin:20260430T091500
DTEND;TZID=Europe/Berlin:20260430T101500
UID:261-89343-20260430T091500@VHSTÜBINGEN
SUMMARY:Wirbelsäulengymnastik (261-89343) 
LOCATION:89 Gemeindehalle Pliezhausen, Friedrichstraße 50, 72124 Pliezhausen
END:VEVENT
BEGIN:VEVENT
DTSTAMP:20260421T174703
DTSTART;TZID=Europe/Berlin:20260507T091500
DTEND;TZID=Europe/Berlin:20260507T101500
UID:261-89343-20260507T091500@VHSTÜBINGEN
SUMMARY:Wirbelsäulengymnastik (261-89343) 
LOCATION:89 Gemeindehalle Pliezhausen, Friedrichstraße 50, 72124 Pliezhausen
END:VEVENT
BEGIN:VEVENT
DTSTAMP:20260421T174703
DTSTART;TZID=Europe/Berlin:20260521T091500
DTEND;TZID=Europe/Berlin:20260521T101500
UID:261-89343-20260521T091500@VHSTÜBINGEN
SUMMARY:Wirbelsäulengymnastik (261-89343) 
LOCATION:89 Gemeindehalle Pliezhausen, Friedrichstraße 50, 72124 Pliezhausen
END:VEVENT
BEGIN:VEVENT
DTSTAMP:20260421T174703
DTSTART;TZID=Europe/Berlin:20260611T091500
DTEND;TZID=Europe/Berlin:20260611T101500
UID:261-89343-20260611T091500@VHSTÜBINGEN
DESCRIPTION:09.04., vorgeholt
SUMMARY:Wirbelsäulengymnastik (261-89343) 
LOCATION:89 Gemeindehalle Pliezhausen, Friedrichstraße 50, 72124 Pliezhausen
END:VEVENT
BEGIN:VEVENT
DTSTAMP:20260421T174703
DTSTART;TZID=Europe/Berlin:20260618T091500
DTEND;TZID=Europe/Berlin:20260618T101500
UID:261-89343-20260618T091500@VHSTÜBINGEN
DESCRIPTION:02.04., vorgeholt
SUMMARY:Wirbelsäulengymnastik (261-89343) 
LOCATION:89 Gemeindehalle Pliezhausen, Friedrichstraße 50, 72124 Pliezhausen
END:VEVENT
BEGIN:VEVENT
DTSTAMP:20260421T174703
DTSTART;TZID=Europe/Berlin:20260625T091500
DTEND;TZID=Europe/Berlin:20260625T101500
UID:261-89343-20260625T091500@VHSTÜBINGEN
DESCRIPTION:19.02., vorgehot
SUMMARY:Wirbelsäulengymnastik (261-89343) 
LOCATION:89 Gemeindehalle Pliezhausen, Friedrichstraße 50, 72124 Pliezhausen
END:VEVENT
BEGIN:VEVENT
DTSTAMP:20260421T174703
DTSTART;TZID=Europe/Berlin:20260702T091500
DTEND;TZID=Europe/Berlin:20260702T101500
UID:261-89343-20260702T091500@VHSTÜBINGEN
DESCRIPTION:12.02., vorgeholt
SUMMARY:Wirbelsäulengymnastik (261-89343) 
LOCATION:89 Gemeindehalle Pliezhausen, Friedrichstraße 50, 72124 Pliezhausen
END:VEVENT
BEGIN:VEVENT
DTSTAMP:20260421T174703
DTSTART;TZID=Europe/Berlin:20260709T091500
DTEND;TZID=Europe/Berlin:20260709T101500
UID:261-89343-20260709T091500@VHSTÜBINGEN
DESCRIPTION:05.02., vorgeholt
SUMMARY:Wirbelsäulengymnastik (261-89343) 
LOCATION:89 Gemeindehalle Pliezhausen, Friedrichstraße 50, 72124 Pliezhausen
END:VEVENT
END:VCALENDAR