BEGIN:VCALENDAR
VERSION:2.0
PRODID:https://www.kufer.de/kuferweb / DE
METHOD:PUBLISH
CALSCALE:GREGORIAN
X-WR-TIMEZONE:Europe/Berlin
BEGIN:VTIMEZONE
TZID:Europe/Berlin
X-LIC-LOCATION:Europe/Berlin
BEGIN:DAYLIGHT
TZOFFSETFROM:+0100
TZOFFSETTO:+0200
TZNAME:CEST
DTSTART:19700329T020000
RRULE:FREQ=YEARLY;INTERVAL=1;BYDAY=-1SU;BYMONTH=3
END:DAYLIGHT
BEGIN:STANDARD
TZOFFSETFROM:+0200
TZOFFSETTO:+0100
TZNAME:CET
DTSTART:19701025T030000
RRULE:FREQ=YEARLY;INTERVAL=1;BYDAY=-1SU;BYMONTH=10
END:STANDARD
END:VTIMEZONE
BEGIN:VEVENT
DTSTAMP:20260423T121432
DTSTART;TZID=Europe/Berlin:20260225T143000
DTEND;TZID=Europe/Berlin:20260225T151500
UID:261-89363-20260225T143000@VHSTÜBINGEN
SUMMARY:Aquafitness auch für Männer moderates Tempo (261-89363) 
LOCATION:891 Otwin Brucker Schulzentrum, Schwimmhalle, Friedrichstraße 50, 72124 Pliezhausen
END:VEVENT
BEGIN:VEVENT
DTSTAMP:20260423T121432
DTSTART;TZID=Europe/Berlin:20260304T143000
DTEND;TZID=Europe/Berlin:20260304T151500
UID:261-89363-20260304T143000@VHSTÜBINGEN
SUMMARY:Aquafitness auch für Männer moderates Tempo (261-89363) 
LOCATION:891 Otwin Brucker Schulzentrum, Schwimmhalle, Friedrichstraße 50, 72124 Pliezhausen
END:VEVENT
BEGIN:VEVENT
DTSTAMP:20260423T121432
DTSTART;TZID=Europe/Berlin:20260311T143000
DTEND;TZID=Europe/Berlin:20260311T151500
UID:261-89363-20260311T143000@VHSTÜBINGEN
SUMMARY:Aquafitness auch für Männer moderates Tempo (261-89363) 
LOCATION:891 Otwin Brucker Schulzentrum, Schwimmhalle, Friedrichstraße 50, 72124 Pliezhausen
END:VEVENT
BEGIN:VEVENT
DTSTAMP:20260423T121432
DTSTART;TZID=Europe/Berlin:20260318T143000
DTEND;TZID=Europe/Berlin:20260318T151500
UID:261-89363-20260318T143000@VHSTÜBINGEN
SUMMARY:Aquafitness auch für Männer moderates Tempo (261-89363) 
LOCATION:891 Otwin Brucker Schulzentrum, Schwimmhalle, Friedrichstraße 50, 72124 Pliezhausen
END:VEVENT
BEGIN:VEVENT
DTSTAMP:20260423T121432
DTSTART;TZID=Europe/Berlin:20260325T143000
DTEND;TZID=Europe/Berlin:20260325T151500
UID:261-89363-20260325T143000@VHSTÜBINGEN
SUMMARY:Aquafitness auch für Männer moderates Tempo (261-89363) 
LOCATION:891 Otwin Brucker Schulzentrum, Schwimmhalle, Friedrichstraße 50, 72124 Pliezhausen
END:VEVENT
BEGIN:VEVENT
DTSTAMP:20260423T121432
DTSTART;TZID=Europe/Berlin:20260415T143000
DTEND;TZID=Europe/Berlin:20260415T151500
UID:261-89363-20260415T143000@VHSTÜBINGEN
SUMMARY:Aquafitness auch für Männer moderates Tempo (261-89363) 
LOCATION:891 Otwin Brucker Schulzentrum, Schwimmhalle, Friedrichstraße 50, 72124 Pliezhausen
END:VEVENT
BEGIN:VEVENT
DTSTAMP:20260423T121432
DTSTART;TZID=Europe/Berlin:20260422T143000
DTEND;TZID=Europe/Berlin:20260422T151500
UID:261-89363-20260422T143000@VHSTÜBINGEN
SUMMARY:Aquafitness auch für Männer moderates Tempo (261-89363) 
LOCATION:891 Otwin Brucker Schulzentrum, Schwimmhalle, Friedrichstraße 50, 72124 Pliezhausen
END:VEVENT
BEGIN:VEVENT
DTSTAMP:20260423T121432
DTSTART;TZID=Europe/Berlin:20260429T143000
DTEND;TZID=Europe/Berlin:20260429T151500
UID:261-89363-20260429T143000@VHSTÜBINGEN
SUMMARY:Aquafitness auch für Männer moderates Tempo (261-89363) 
LOCATION:891 Otwin Brucker Schulzentrum, Schwimmhalle, Friedrichstraße 50, 72124 Pliezhausen
END:VEVENT
BEGIN:VEVENT
DTSTAMP:20260423T121432
DTSTART;TZID=Europe/Berlin:20260506T143000
DTEND;TZID=Europe/Berlin:20260506T151500
UID:261-89363-20260506T143000@VHSTÜBINGEN
SUMMARY:Aquafitness auch für Männer moderates Tempo (261-89363) 
LOCATION:891 Otwin Brucker Schulzentrum, Schwimmhalle, Friedrichstraße 50, 72124 Pliezhausen
END:VEVENT
BEGIN:VEVENT
DTSTAMP:20260423T121432
DTSTART;TZID=Europe/Berlin:20260513T143000
DTEND;TZID=Europe/Berlin:20260513T151500
UID:261-89363-20260513T143000@VHSTÜBINGEN
SUMMARY:Aquafitness auch für Männer moderates Tempo (261-89363) 
LOCATION:891 Otwin Brucker Schulzentrum, Schwimmhalle, Friedrichstraße 50, 72124 Pliezhausen
END:VEVENT
BEGIN:VEVENT
DTSTAMP:20260423T121432
DTSTART;TZID=Europe/Berlin:20260520T143000
DTEND;TZID=Europe/Berlin:20260520T151500
UID:261-89363-20260520T143000@VHSTÜBINGEN
SUMMARY:Aquafitness auch für Männer moderates Tempo (261-89363) 
LOCATION:891 Otwin Brucker Schulzentrum, Schwimmhalle, Friedrichstraße 50, 72124 Pliezhausen
END:VEVENT
BEGIN:VEVENT
DTSTAMP:20260423T121432
DTSTART;TZID=Europe/Berlin:20260610T143000
DTEND;TZID=Europe/Berlin:20260610T151500
UID:261-89363-20260610T143000@VHSTÜBINGEN
SUMMARY:Aquafitness auch für Männer moderates Tempo (261-89363) 
LOCATION:891 Otwin Brucker Schulzentrum, Schwimmhalle, Friedrichstraße 50, 72124 Pliezhausen
END:VEVENT
END:VCALENDAR