BEGIN:VCALENDAR
VERSION:2.0
PRODID:https://www.kufer.de/kuferweb / DE
METHOD:PUBLISH
CALSCALE:GREGORIAN
X-WR-TIMEZONE:Europe/Berlin
BEGIN:VTIMEZONE
TZID:Europe/Berlin
X-LIC-LOCATION:Europe/Berlin
BEGIN:DAYLIGHT
TZOFFSETFROM:+0100
TZOFFSETTO:+0200
TZNAME:CEST
DTSTART:19700329T020000
RRULE:FREQ=YEARLY;INTERVAL=1;BYDAY=-1SU;BYMONTH=3
END:DAYLIGHT
BEGIN:STANDARD
TZOFFSETFROM:+0200
TZOFFSETTO:+0100
TZNAME:CET
DTSTART:19701025T030000
RRULE:FREQ=YEARLY;INTERVAL=1;BYDAY=-1SU;BYMONTH=10
END:STANDARD
END:VTIMEZONE
BEGIN:VEVENT
DTSTAMP:20260421T155550
DTSTART;TZID=Europe/Berlin:20260223T195000
DTEND;TZID=Europe/Berlin:20260223T203500
UID:261-89364-20260223T195000@VHSTÜBINGEN
SUMMARY:Aquafitness für Frauen (261-89364) 
LOCATION:891 Otwin Brucker Schulzentrum, Schwimmhalle, Friedrichstraße 50, 72124 Pliezhausen
END:VEVENT
BEGIN:VEVENT
DTSTAMP:20260421T155550
DTSTART;TZID=Europe/Berlin:20260302T195000
DTEND;TZID=Europe/Berlin:20260302T203500
UID:261-89364-20260302T195000@VHSTÜBINGEN
SUMMARY:Aquafitness für Frauen (261-89364) 
LOCATION:891 Otwin Brucker Schulzentrum, Schwimmhalle, Friedrichstraße 50, 72124 Pliezhausen
END:VEVENT
BEGIN:VEVENT
DTSTAMP:20260421T155550
DTSTART;TZID=Europe/Berlin:20260309T195000
DTEND;TZID=Europe/Berlin:20260309T203500
UID:261-89364-20260309T195000@VHSTÜBINGEN
SUMMARY:Aquafitness für Frauen (261-89364) 
LOCATION:891 Otwin Brucker Schulzentrum, Schwimmhalle, Friedrichstraße 50, 72124 Pliezhausen
END:VEVENT
BEGIN:VEVENT
DTSTAMP:20260421T155550
DTSTART;TZID=Europe/Berlin:20260316T195000
DTEND;TZID=Europe/Berlin:20260316T203500
UID:261-89364-20260316T195000@VHSTÜBINGEN
SUMMARY:Aquafitness für Frauen (261-89364) 
LOCATION:891 Otwin Brucker Schulzentrum, Schwimmhalle, Friedrichstraße 50, 72124 Pliezhausen
END:VEVENT
BEGIN:VEVENT
DTSTAMP:20260421T155550
DTSTART;TZID=Europe/Berlin:20260323T195000
DTEND;TZID=Europe/Berlin:20260323T203500
UID:261-89364-20260323T195000@VHSTÜBINGEN
SUMMARY:Aquafitness für Frauen (261-89364) 
LOCATION:891 Otwin Brucker Schulzentrum, Schwimmhalle, Friedrichstraße 50, 72124 Pliezhausen
END:VEVENT
BEGIN:VEVENT
DTSTAMP:20260421T155550
DTSTART;TZID=Europe/Berlin:20260413T195000
DTEND;TZID=Europe/Berlin:20260413T203500
UID:261-89364-20260413T195000@VHSTÜBINGEN
SUMMARY:Aquafitness für Frauen (261-89364) 
LOCATION:891 Otwin Brucker Schulzentrum, Schwimmhalle, Friedrichstraße 50, 72124 Pliezhausen
END:VEVENT
BEGIN:VEVENT
DTSTAMP:20260421T155550
DTSTART;TZID=Europe/Berlin:20260420T195000
DTEND;TZID=Europe/Berlin:20260420T203500
UID:261-89364-20260420T195000@VHSTÜBINGEN
SUMMARY:Aquafitness für Frauen (261-89364) 
LOCATION:891 Otwin Brucker Schulzentrum, Schwimmhalle, Friedrichstraße 50, 72124 Pliezhausen
END:VEVENT
BEGIN:VEVENT
DTSTAMP:20260421T155550
DTSTART;TZID=Europe/Berlin:20260427T195000
DTEND;TZID=Europe/Berlin:20260427T203500
UID:261-89364-20260427T195000@VHSTÜBINGEN
SUMMARY:Aquafitness für Frauen (261-89364) 
LOCATION:891 Otwin Brucker Schulzentrum, Schwimmhalle, Friedrichstraße 50, 72124 Pliezhausen
END:VEVENT
BEGIN:VEVENT
DTSTAMP:20260421T155550
DTSTART;TZID=Europe/Berlin:20260504T195000
DTEND;TZID=Europe/Berlin:20260504T203500
UID:261-89364-20260504T195000@VHSTÜBINGEN
SUMMARY:Aquafitness für Frauen (261-89364) 
LOCATION:891 Otwin Brucker Schulzentrum, Schwimmhalle, Friedrichstraße 50, 72124 Pliezhausen
END:VEVENT
BEGIN:VEVENT
DTSTAMP:20260421T155550
DTSTART;TZID=Europe/Berlin:20260511T195000
DTEND;TZID=Europe/Berlin:20260511T203500
UID:261-89364-20260511T195000@VHSTÜBINGEN
SUMMARY:Aquafitness für Frauen (261-89364) 
LOCATION:891 Otwin Brucker Schulzentrum, Schwimmhalle, Friedrichstraße 50, 72124 Pliezhausen
END:VEVENT
BEGIN:VEVENT
DTSTAMP:20260421T155550
DTSTART;TZID=Europe/Berlin:20260518T195000
DTEND;TZID=Europe/Berlin:20260518T203500
UID:261-89364-20260518T195000@VHSTÜBINGEN
SUMMARY:Aquafitness für Frauen (261-89364) 
LOCATION:891 Otwin Brucker Schulzentrum, Schwimmhalle, Friedrichstraße 50, 72124 Pliezhausen
END:VEVENT
BEGIN:VEVENT
DTSTAMP:20260421T155550
DTSTART;TZID=Europe/Berlin:20260608T195000
DTEND;TZID=Europe/Berlin:20260608T203500
UID:261-89364-20260608T195000@VHSTÜBINGEN
SUMMARY:Aquafitness für Frauen (261-89364) 
LOCATION:891 Otwin Brucker Schulzentrum, Schwimmhalle, Friedrichstraße 50, 72124 Pliezhausen
END:VEVENT
END:VCALENDAR