BEGIN:VCALENDAR
VERSION:2.0
PRODID:https://www.kufer.de/kuferweb / DE
METHOD:PUBLISH
CALSCALE:GREGORIAN
X-WR-TIMEZONE:Europe/Berlin
BEGIN:VTIMEZONE
TZID:Europe/Berlin
X-LIC-LOCATION:Europe/Berlin
BEGIN:DAYLIGHT
TZOFFSETFROM:+0100
TZOFFSETTO:+0200
TZNAME:CEST
DTSTART:19700329T020000
RRULE:FREQ=YEARLY;INTERVAL=1;BYDAY=-1SU;BYMONTH=3
END:DAYLIGHT
BEGIN:STANDARD
TZOFFSETFROM:+0200
TZOFFSETTO:+0100
TZNAME:CET
DTSTART:19701025T030000
RRULE:FREQ=YEARLY;INTERVAL=1;BYDAY=-1SU;BYMONTH=10
END:STANDARD
END:VTIMEZONE
BEGIN:VEVENT
DTSTAMP:20260423T134326
DTSTART;TZID=Europe/Berlin:20260302T154000
DTEND;TZID=Europe/Berlin:20260302T162500
UID:261-89371-20260302T154000@VHSTÜBINGEN
SUMMARY:Schwimmkurs I für Anfänger/-innen ab 5 Jahren (261-89371) 
LOCATION:891 Otwin Brucker Schulzentrum, Schwimmhalle, Friedrichstraße 50, 72124 Pliezhausen
END:VEVENT
BEGIN:VEVENT
DTSTAMP:20260423T134326
DTSTART;TZID=Europe/Berlin:20260309T154000
DTEND;TZID=Europe/Berlin:20260309T162500
UID:261-89371-20260309T154000@VHSTÜBINGEN
SUMMARY:Schwimmkurs I für Anfänger/-innen ab 5 Jahren (261-89371) 
LOCATION:891 Otwin Brucker Schulzentrum, Schwimmhalle, Friedrichstraße 50, 72124 Pliezhausen
END:VEVENT
BEGIN:VEVENT
DTSTAMP:20260423T134326
DTSTART;TZID=Europe/Berlin:20260316T154000
DTEND;TZID=Europe/Berlin:20260316T162500
UID:261-89371-20260316T154000@VHSTÜBINGEN
SUMMARY:Schwimmkurs I für Anfänger/-innen ab 5 Jahren (261-89371) 
LOCATION:891 Otwin Brucker Schulzentrum, Schwimmhalle, Friedrichstraße 50, 72124 Pliezhausen
END:VEVENT
BEGIN:VEVENT
DTSTAMP:20260423T134326
DTSTART;TZID=Europe/Berlin:20260323T154000
DTEND;TZID=Europe/Berlin:20260323T162500
UID:261-89371-20260323T154000@VHSTÜBINGEN
SUMMARY:Schwimmkurs I für Anfänger/-innen ab 5 Jahren (261-89371) 
LOCATION:891 Otwin Brucker Schulzentrum, Schwimmhalle, Friedrichstraße 50, 72124 Pliezhausen
END:VEVENT
BEGIN:VEVENT
DTSTAMP:20260423T134326
DTSTART;TZID=Europe/Berlin:20260413T154000
DTEND;TZID=Europe/Berlin:20260413T162500
UID:261-89371-20260413T154000@VHSTÜBINGEN
SUMMARY:Schwimmkurs I für Anfänger/-innen ab 5 Jahren (261-89371) 
LOCATION:891 Otwin Brucker Schulzentrum, Schwimmhalle, Friedrichstraße 50, 72124 Pliezhausen
END:VEVENT
BEGIN:VEVENT
DTSTAMP:20260423T134326
DTSTART;TZID=Europe/Berlin:20260420T154000
DTEND;TZID=Europe/Berlin:20260420T162500
UID:261-89371-20260420T154000@VHSTÜBINGEN
SUMMARY:Schwimmkurs I für Anfänger/-innen ab 5 Jahren (261-89371) 
LOCATION:891 Otwin Brucker Schulzentrum, Schwimmhalle, Friedrichstraße 50, 72124 Pliezhausen
END:VEVENT
BEGIN:VEVENT
DTSTAMP:20260423T134326
DTSTART;TZID=Europe/Berlin:20260427T154000
DTEND;TZID=Europe/Berlin:20260427T162500
UID:261-89371-20260427T154000@VHSTÜBINGEN
SUMMARY:Schwimmkurs I für Anfänger/-innen ab 5 Jahren (261-89371) 
LOCATION:891 Otwin Brucker Schulzentrum, Schwimmhalle, Friedrichstraße 50, 72124 Pliezhausen
END:VEVENT
BEGIN:VEVENT
DTSTAMP:20260423T134326
DTSTART;TZID=Europe/Berlin:20260504T154000
DTEND;TZID=Europe/Berlin:20260504T162500
UID:261-89371-20260504T154000@VHSTÜBINGEN
SUMMARY:Schwimmkurs I für Anfänger/-innen ab 5 Jahren (261-89371) 
LOCATION:891 Otwin Brucker Schulzentrum, Schwimmhalle, Friedrichstraße 50, 72124 Pliezhausen
END:VEVENT
BEGIN:VEVENT
DTSTAMP:20260423T134326
DTSTART;TZID=Europe/Berlin:20260511T154000
DTEND;TZID=Europe/Berlin:20260511T162500
UID:261-89371-20260511T154000@VHSTÜBINGEN
SUMMARY:Schwimmkurs I für Anfänger/-innen ab 5 Jahren (261-89371) 
LOCATION:891 Otwin Brucker Schulzentrum, Schwimmhalle, Friedrichstraße 50, 72124 Pliezhausen
END:VEVENT
BEGIN:VEVENT
DTSTAMP:20260423T134326
DTSTART;TZID=Europe/Berlin:20260518T154000
DTEND;TZID=Europe/Berlin:20260518T162500
UID:261-89371-20260518T154000@VHSTÜBINGEN
SUMMARY:Schwimmkurs I für Anfänger/-innen ab 5 Jahren (261-89371) 
LOCATION:891 Otwin Brucker Schulzentrum, Schwimmhalle, Friedrichstraße 50, 72124 Pliezhausen
END:VEVENT
BEGIN:VEVENT
DTSTAMP:20260423T134326
DTSTART;TZID=Europe/Berlin:20260608T154000
DTEND;TZID=Europe/Berlin:20260608T162500
UID:261-89371-20260608T154000@VHSTÜBINGEN
SUMMARY:Schwimmkurs I für Anfänger/-innen ab 5 Jahren (261-89371) 
LOCATION:891 Otwin Brucker Schulzentrum, Schwimmhalle, Friedrichstraße 50, 72124 Pliezhausen
END:VEVENT
BEGIN:VEVENT
DTSTAMP:20260423T134326
DTSTART;TZID=Europe/Berlin:20260615T154000
DTEND;TZID=Europe/Berlin:20260615T162500
UID:261-89371-20260615T154000@VHSTÜBINGEN
SUMMARY:Schwimmkurs I für Anfänger/-innen ab 5 Jahren (261-89371) 
LOCATION:891 Otwin Brucker Schulzentrum, Schwimmhalle, Friedrichstraße 50, 72124 Pliezhausen
END:VEVENT
BEGIN:VEVENT
DTSTAMP:20260423T134326
DTSTART;TZID=Europe/Berlin:20260622T154000
DTEND;TZID=Europe/Berlin:20260622T162500
UID:261-89371-20260622T154000@VHSTÜBINGEN
SUMMARY:Schwimmkurs I für Anfänger/-innen ab 5 Jahren (261-89371) 
LOCATION:891 Otwin Brucker Schulzentrum, Schwimmhalle, Friedrichstraße 50, 72124 Pliezhausen
END:VEVENT
BEGIN:VEVENT
DTSTAMP:20260423T134326
DTSTART;TZID=Europe/Berlin:20260629T154000
DTEND;TZID=Europe/Berlin:20260629T162500
UID:261-89371-20260629T154000@VHSTÜBINGEN
SUMMARY:Schwimmkurs I für Anfänger/-innen ab 5 Jahren (261-89371) 
LOCATION:891 Otwin Brucker Schulzentrum, Schwimmhalle, Friedrichstraße 50, 72124 Pliezhausen
END:VEVENT
END:VCALENDAR