BEGIN:VCALENDAR
VERSION:2.0
PRODID:https://www.kufer.de/kuferweb / DE
METHOD:PUBLISH
CALSCALE:GREGORIAN
X-WR-TIMEZONE:Europe/Berlin
BEGIN:VTIMEZONE
TZID:Europe/Berlin
X-LIC-LOCATION:Europe/Berlin
BEGIN:DAYLIGHT
TZOFFSETFROM:+0100
TZOFFSETTO:+0200
TZNAME:CEST
DTSTART:19700329T020000
RRULE:FREQ=YEARLY;INTERVAL=1;BYDAY=-1SU;BYMONTH=3
END:DAYLIGHT
BEGIN:STANDARD
TZOFFSETFROM:+0200
TZOFFSETTO:+0100
TZNAME:CET
DTSTART:19701025T030000
RRULE:FREQ=YEARLY;INTERVAL=1;BYDAY=-1SU;BYMONTH=10
END:STANDARD
END:VTIMEZONE
BEGIN:VEVENT
DTSTAMP:20260421T170639
DTSTART;TZID=Europe/Berlin:20260302T171000
DTEND;TZID=Europe/Berlin:20260302T175500
UID:261-89373-20260302T171000@VHSTÜBINGEN
SUMMARY:Schwimmkurs III für Geübte mit Seepferdchen (261-89373) 
LOCATION:891 Otwin Brucker Schulzentrum, Schwimmhalle, Friedrichstraße 50, 72124 Pliezhausen
END:VEVENT
BEGIN:VEVENT
DTSTAMP:20260421T170639
DTSTART;TZID=Europe/Berlin:20260309T171000
DTEND;TZID=Europe/Berlin:20260309T175500
UID:261-89373-20260309T171000@VHSTÜBINGEN
SUMMARY:Schwimmkurs III für Geübte mit Seepferdchen (261-89373) 
LOCATION:891 Otwin Brucker Schulzentrum, Schwimmhalle, Friedrichstraße 50, 72124 Pliezhausen
END:VEVENT
BEGIN:VEVENT
DTSTAMP:20260421T170639
DTSTART;TZID=Europe/Berlin:20260316T171000
DTEND;TZID=Europe/Berlin:20260316T175500
UID:261-89373-20260316T171000@VHSTÜBINGEN
SUMMARY:Schwimmkurs III für Geübte mit Seepferdchen (261-89373) 
LOCATION:891 Otwin Brucker Schulzentrum, Schwimmhalle, Friedrichstraße 50, 72124 Pliezhausen
END:VEVENT
BEGIN:VEVENT
DTSTAMP:20260421T170639
DTSTART;TZID=Europe/Berlin:20260323T171000
DTEND;TZID=Europe/Berlin:20260323T175500
UID:261-89373-20260323T171000@VHSTÜBINGEN
SUMMARY:Schwimmkurs III für Geübte mit Seepferdchen (261-89373) 
LOCATION:891 Otwin Brucker Schulzentrum, Schwimmhalle, Friedrichstraße 50, 72124 Pliezhausen
END:VEVENT
BEGIN:VEVENT
DTSTAMP:20260421T170639
DTSTART;TZID=Europe/Berlin:20260413T171000
DTEND;TZID=Europe/Berlin:20260413T175500
UID:261-89373-20260413T171000@VHSTÜBINGEN
SUMMARY:Schwimmkurs III für Geübte mit Seepferdchen (261-89373) 
LOCATION:891 Otwin Brucker Schulzentrum, Schwimmhalle, Friedrichstraße 50, 72124 Pliezhausen
END:VEVENT
BEGIN:VEVENT
DTSTAMP:20260421T170639
DTSTART;TZID=Europe/Berlin:20260420T171000
DTEND;TZID=Europe/Berlin:20260420T175500
UID:261-89373-20260420T171000@VHSTÜBINGEN
SUMMARY:Schwimmkurs III für Geübte mit Seepferdchen (261-89373) 
LOCATION:891 Otwin Brucker Schulzentrum, Schwimmhalle, Friedrichstraße 50, 72124 Pliezhausen
END:VEVENT
BEGIN:VEVENT
DTSTAMP:20260421T170639
DTSTART;TZID=Europe/Berlin:20260427T171000
DTEND;TZID=Europe/Berlin:20260427T175500
UID:261-89373-20260427T171000@VHSTÜBINGEN
SUMMARY:Schwimmkurs III für Geübte mit Seepferdchen (261-89373) 
LOCATION:891 Otwin Brucker Schulzentrum, Schwimmhalle, Friedrichstraße 50, 72124 Pliezhausen
END:VEVENT
BEGIN:VEVENT
DTSTAMP:20260421T170639
DTSTART;TZID=Europe/Berlin:20260504T171000
DTEND;TZID=Europe/Berlin:20260504T175500
UID:261-89373-20260504T171000@VHSTÜBINGEN
SUMMARY:Schwimmkurs III für Geübte mit Seepferdchen (261-89373) 
LOCATION:891 Otwin Brucker Schulzentrum, Schwimmhalle, Friedrichstraße 50, 72124 Pliezhausen
END:VEVENT
BEGIN:VEVENT
DTSTAMP:20260421T170639
DTSTART;TZID=Europe/Berlin:20260511T171000
DTEND;TZID=Europe/Berlin:20260511T175500
UID:261-89373-20260511T171000@VHSTÜBINGEN
SUMMARY:Schwimmkurs III für Geübte mit Seepferdchen (261-89373) 
LOCATION:891 Otwin Brucker Schulzentrum, Schwimmhalle, Friedrichstraße 50, 72124 Pliezhausen
END:VEVENT
BEGIN:VEVENT
DTSTAMP:20260421T170639
DTSTART;TZID=Europe/Berlin:20260518T171000
DTEND;TZID=Europe/Berlin:20260518T175500
UID:261-89373-20260518T171000@VHSTÜBINGEN
SUMMARY:Schwimmkurs III für Geübte mit Seepferdchen (261-89373) 
LOCATION:891 Otwin Brucker Schulzentrum, Schwimmhalle, Friedrichstraße 50, 72124 Pliezhausen
END:VEVENT
BEGIN:VEVENT
DTSTAMP:20260421T170639
DTSTART;TZID=Europe/Berlin:20260608T171000
DTEND;TZID=Europe/Berlin:20260608T175500
UID:261-89373-20260608T171000@VHSTÜBINGEN
SUMMARY:Schwimmkurs III für Geübte mit Seepferdchen (261-89373) 
LOCATION:891 Otwin Brucker Schulzentrum, Schwimmhalle, Friedrichstraße 50, 72124 Pliezhausen
END:VEVENT
BEGIN:VEVENT
DTSTAMP:20260421T170639
DTSTART;TZID=Europe/Berlin:20260615T171000
DTEND;TZID=Europe/Berlin:20260615T175500
UID:261-89373-20260615T171000@VHSTÜBINGEN
SUMMARY:Schwimmkurs III für Geübte mit Seepferdchen (261-89373) 
LOCATION:891 Otwin Brucker Schulzentrum, Schwimmhalle, Friedrichstraße 50, 72124 Pliezhausen
END:VEVENT
BEGIN:VEVENT
DTSTAMP:20260421T170639
DTSTART;TZID=Europe/Berlin:20260622T171000
DTEND;TZID=Europe/Berlin:20260622T175500
UID:261-89373-20260622T171000@VHSTÜBINGEN
SUMMARY:Schwimmkurs III für Geübte mit Seepferdchen (261-89373) 
LOCATION:891 Otwin Brucker Schulzentrum, Schwimmhalle, Friedrichstraße 50, 72124 Pliezhausen
END:VEVENT
BEGIN:VEVENT
DTSTAMP:20260421T170639
DTSTART;TZID=Europe/Berlin:20260629T171000
DTEND;TZID=Europe/Berlin:20260629T175500
UID:261-89373-20260629T171000@VHSTÜBINGEN
SUMMARY:Schwimmkurs III für Geübte mit Seepferdchen (261-89373) 
LOCATION:891 Otwin Brucker Schulzentrum, Schwimmhalle, Friedrichstraße 50, 72124 Pliezhausen
END:VEVENT
END:VCALENDAR