BEGIN:VCALENDAR
VERSION:2.0
PRODID:https://www.kufer.de/kuferweb / DE
METHOD:PUBLISH
CALSCALE:GREGORIAN
X-WR-TIMEZONE:Europe/Berlin
BEGIN:VTIMEZONE
TZID:Europe/Berlin
X-LIC-LOCATION:Europe/Berlin
BEGIN:DAYLIGHT
TZOFFSETFROM:+0100
TZOFFSETTO:+0200
TZNAME:CEST
DTSTART:19700329T020000
RRULE:FREQ=YEARLY;INTERVAL=1;BYDAY=-1SU;BYMONTH=3
END:DAYLIGHT
BEGIN:STANDARD
TZOFFSETFROM:+0200
TZOFFSETTO:+0100
TZNAME:CET
DTSTART:19701025T030000
RRULE:FREQ=YEARLY;INTERVAL=1;BYDAY=-1SU;BYMONTH=10
END:STANDARD
END:VTIMEZONE
BEGIN:VEVENT
DTSTAMP:20260421T160454
DTSTART;TZID=Europe/Berlin:20261012T164500
DTEND;TZID=Europe/Berlin:20261012T191500
UID:262-20655-20261012T164500@VHSTÜBINGEN
SUMMARY:Keramik-Tonwerkstatt am Nachmittag (262-20655) 
LOCATION:vhs, Fachraum Tonen U 013, Katharinenstraße 18, 72072 Tübingen
END:VEVENT
BEGIN:VEVENT
DTSTAMP:20260421T160454
DTSTART;TZID=Europe/Berlin:20261019T164500
DTEND;TZID=Europe/Berlin:20261019T191500
UID:262-20655-20261019T164500@VHSTÜBINGEN
SUMMARY:Keramik-Tonwerkstatt am Nachmittag (262-20655) 
LOCATION:vhs, Fachraum Tonen U 013, Katharinenstraße 18, 72072 Tübingen
END:VEVENT
BEGIN:VEVENT
DTSTAMP:20260421T160454
DTSTART;TZID=Europe/Berlin:20261102T164500
DTEND;TZID=Europe/Berlin:20261102T191500
UID:262-20655-20261102T164500@VHSTÜBINGEN
SUMMARY:Keramik-Tonwerkstatt am Nachmittag (262-20655) 
LOCATION:vhs, Fachraum Tonen U 013, Katharinenstraße 18, 72072 Tübingen
END:VEVENT
BEGIN:VEVENT
DTSTAMP:20260421T160454
DTSTART;TZID=Europe/Berlin:20261109T164500
DTEND;TZID=Europe/Berlin:20261109T191500
UID:262-20655-20261109T164500@VHSTÜBINGEN
SUMMARY:Keramik-Tonwerkstatt am Nachmittag (262-20655) 
LOCATION:vhs, Fachraum Tonen U 013, Katharinenstraße 18, 72072 Tübingen
END:VEVENT
BEGIN:VEVENT
DTSTAMP:20260421T160454
DTSTART;TZID=Europe/Berlin:20261116T164500
DTEND;TZID=Europe/Berlin:20261116T191500
UID:262-20655-20261116T164500@VHSTÜBINGEN
SUMMARY:Keramik-Tonwerkstatt am Nachmittag (262-20655) 
LOCATION:vhs, Fachraum Tonen U 013, Katharinenstraße 18, 72072 Tübingen
END:VEVENT
BEGIN:VEVENT
DTSTAMP:20260421T160454
DTSTART;TZID=Europe/Berlin:20261123T164500
DTEND;TZID=Europe/Berlin:20261123T191500
UID:262-20655-20261123T164500@VHSTÜBINGEN
SUMMARY:Keramik-Tonwerkstatt am Nachmittag (262-20655) 
LOCATION:vhs, Fachraum Tonen U 013, Katharinenstraße 18, 72072 Tübingen
END:VEVENT
BEGIN:VEVENT
DTSTAMP:20260421T160454
DTSTART;TZID=Europe/Berlin:20261130T164500
DTEND;TZID=Europe/Berlin:20261130T191500
UID:262-20655-20261130T164500@VHSTÜBINGEN
SUMMARY:Keramik-Tonwerkstatt am Nachmittag (262-20655) 
LOCATION:vhs, Fachraum Tonen U 013, Katharinenstraße 18, 72072 Tübingen
END:VEVENT
END:VCALENDAR