BEGIN:VCALENDAR
VERSION:2.0
PRODID:https://www.kufer.de/kuferweb / DE
METHOD:PUBLISH
CALSCALE:GREGORIAN
X-WR-TIMEZONE:Europe/Berlin
BEGIN:VTIMEZONE
TZID:Europe/Berlin
X-LIC-LOCATION:Europe/Berlin
BEGIN:DAYLIGHT
TZOFFSETFROM:+0100
TZOFFSETTO:+0200
TZNAME:CEST
DTSTART:19700329T020000
RRULE:FREQ=YEARLY;INTERVAL=1;BYDAY=-1SU;BYMONTH=3
END:DAYLIGHT
BEGIN:STANDARD
TZOFFSETFROM:+0200
TZOFFSETTO:+0100
TZNAME:CET
DTSTART:19701025T030000
RRULE:FREQ=YEARLY;INTERVAL=1;BYDAY=-1SU;BYMONTH=10
END:STANDARD
END:VTIMEZONE
BEGIN:VEVENT
DTSTAMP:20260421T105813
DTSTART;TZID=Europe/Berlin:20261008T181500
DTEND;TZID=Europe/Berlin:20261008T194500
UID:262-31134-20261008T181500@VHSTÜBINGEN
SUMMARY:Progressive Muskelentspannung Schwerpunkt Migräne, Kopfschmerzen und Nacken-, Schulter- sowie Rückenbeschwerden (262-31134) 
LOCATION:vhs, Gesundheitsraum 313, Katharinenstraße 18, 72072 Tübingen
END:VEVENT
BEGIN:VEVENT
DTSTAMP:20260421T105813
DTSTART;TZID=Europe/Berlin:20261015T181500
DTEND;TZID=Europe/Berlin:20261015T194500
UID:262-31134-20261015T181500@VHSTÜBINGEN
SUMMARY:Progressive Muskelentspannung Schwerpunkt Migräne, Kopfschmerzen und Nacken-, Schulter- sowie Rückenbeschwerden (262-31134) 
LOCATION:vhs, Gesundheitsraum 313, Katharinenstraße 18, 72072 Tübingen
END:VEVENT
BEGIN:VEVENT
DTSTAMP:20260421T105813
DTSTART;TZID=Europe/Berlin:20261022T181500
DTEND;TZID=Europe/Berlin:20261022T194500
UID:262-31134-20261022T181500@VHSTÜBINGEN
SUMMARY:Progressive Muskelentspannung Schwerpunkt Migräne, Kopfschmerzen und Nacken-, Schulter- sowie Rückenbeschwerden (262-31134) 
LOCATION:vhs, Gesundheitsraum 313, Katharinenstraße 18, 72072 Tübingen
END:VEVENT
BEGIN:VEVENT
DTSTAMP:20260421T105813
DTSTART;TZID=Europe/Berlin:20261029T181500
DTEND;TZID=Europe/Berlin:20261029T194500
UID:262-31134-20261029T181500@VHSTÜBINGEN
SUMMARY:Progressive Muskelentspannung Schwerpunkt Migräne, Kopfschmerzen und Nacken-, Schulter- sowie Rückenbeschwerden (262-31134) 
LOCATION:vhs, Gesundheitsraum 313, Katharinenstraße 18, 72072 Tübingen
END:VEVENT
BEGIN:VEVENT
DTSTAMP:20260421T105813
DTSTART;TZID=Europe/Berlin:20261105T181500
DTEND;TZID=Europe/Berlin:20261105T194500
UID:262-31134-20261105T181500@VHSTÜBINGEN
SUMMARY:Progressive Muskelentspannung Schwerpunkt Migräne, Kopfschmerzen und Nacken-, Schulter- sowie Rückenbeschwerden (262-31134) 
LOCATION:vhs, Gesundheitsraum 313, Katharinenstraße 18, 72072 Tübingen
END:VEVENT
BEGIN:VEVENT
DTSTAMP:20260421T105813
DTSTART;TZID=Europe/Berlin:20261112T181500
DTEND;TZID=Europe/Berlin:20261112T194500
UID:262-31134-20261112T181500@VHSTÜBINGEN
SUMMARY:Progressive Muskelentspannung Schwerpunkt Migräne, Kopfschmerzen und Nacken-, Schulter- sowie Rückenbeschwerden (262-31134) 
LOCATION:vhs, Gesundheitsraum 313, Katharinenstraße 18, 72072 Tübingen
END:VEVENT
BEGIN:VEVENT
DTSTAMP:20260421T105813
DTSTART;TZID=Europe/Berlin:20261119T181500
DTEND;TZID=Europe/Berlin:20261119T194500
UID:262-31134-20261119T181500@VHSTÜBINGEN
SUMMARY:Progressive Muskelentspannung Schwerpunkt Migräne, Kopfschmerzen und Nacken-, Schulter- sowie Rückenbeschwerden (262-31134) 
LOCATION:vhs, Gesundheitsraum 313, Katharinenstraße 18, 72072 Tübingen
END:VEVENT
END:VCALENDAR