BEGIN:VCALENDAR
VERSION:2.0
PRODID:https://www.kufer.de/kuferweb / DE
METHOD:PUBLISH
CALSCALE:GREGORIAN
X-WR-TIMEZONE:Europe/Berlin
BEGIN:VTIMEZONE
TZID:Europe/Berlin
X-LIC-LOCATION:Europe/Berlin
BEGIN:DAYLIGHT
TZOFFSETFROM:+0100
TZOFFSETTO:+0200
TZNAME:CEST
DTSTART:19700329T020000
RRULE:FREQ=YEARLY;INTERVAL=1;BYDAY=-1SU;BYMONTH=3
END:DAYLIGHT
BEGIN:STANDARD
TZOFFSETFROM:+0200
TZOFFSETTO:+0100
TZNAME:CET
DTSTART:19701025T030000
RRULE:FREQ=YEARLY;INTERVAL=1;BYDAY=-1SU;BYMONTH=10
END:STANDARD
END:VTIMEZONE
BEGIN:VEVENT
DTSTAMP:20260421T111151
DTSTART;TZID=Europe/Berlin:20260928T100000
DTEND;TZID=Europe/Berlin:20260928T113000
UID:262-31439-20260928T100000@VHSTÜBINGEN
SUMMARY:Vinyasa  Yoga - Yoga auf Spanisch mit deutscher Sprachhilfe für Anfänger/-innen und Fortgeschrittene (262-31439) 
LOCATION:vhs, Gesundheitsraum 313, Katharinenstraße 18, 72072 Tübingen
END:VEVENT
BEGIN:VEVENT
DTSTAMP:20260421T111151
DTSTART;TZID=Europe/Berlin:20261005T100000
DTEND;TZID=Europe/Berlin:20261005T113000
UID:262-31439-20261005T100000@VHSTÜBINGEN
SUMMARY:Vinyasa  Yoga - Yoga auf Spanisch mit deutscher Sprachhilfe für Anfänger/-innen und Fortgeschrittene (262-31439) 
LOCATION:vhs, Gesundheitsraum 313, Katharinenstraße 18, 72072 Tübingen
END:VEVENT
BEGIN:VEVENT
DTSTAMP:20260421T111151
DTSTART;TZID=Europe/Berlin:20261012T100000
DTEND;TZID=Europe/Berlin:20261012T113000
UID:262-31439-20261012T100000@VHSTÜBINGEN
SUMMARY:Vinyasa  Yoga - Yoga auf Spanisch mit deutscher Sprachhilfe für Anfänger/-innen und Fortgeschrittene (262-31439) 
LOCATION:vhs, Gesundheitsraum 313, Katharinenstraße 18, 72072 Tübingen
END:VEVENT
BEGIN:VEVENT
DTSTAMP:20260421T111151
DTSTART;TZID=Europe/Berlin:20261019T100000
DTEND;TZID=Europe/Berlin:20261019T113000
UID:262-31439-20261019T100000@VHSTÜBINGEN
SUMMARY:Vinyasa  Yoga - Yoga auf Spanisch mit deutscher Sprachhilfe für Anfänger/-innen und Fortgeschrittene (262-31439) 
LOCATION:vhs, Gesundheitsraum 313, Katharinenstraße 18, 72072 Tübingen
END:VEVENT
BEGIN:VEVENT
DTSTAMP:20260421T111151
DTSTART;TZID=Europe/Berlin:20261102T100000
DTEND;TZID=Europe/Berlin:20261102T113000
UID:262-31439-20261102T100000@VHSTÜBINGEN
SUMMARY:Vinyasa  Yoga - Yoga auf Spanisch mit deutscher Sprachhilfe für Anfänger/-innen und Fortgeschrittene (262-31439) 
LOCATION:vhs, Gesundheitsraum 313, Katharinenstraße 18, 72072 Tübingen
END:VEVENT
BEGIN:VEVENT
DTSTAMP:20260421T111151
DTSTART;TZID=Europe/Berlin:20261109T100000
DTEND;TZID=Europe/Berlin:20261109T113000
UID:262-31439-20261109T100000@VHSTÜBINGEN
SUMMARY:Vinyasa  Yoga - Yoga auf Spanisch mit deutscher Sprachhilfe für Anfänger/-innen und Fortgeschrittene (262-31439) 
LOCATION:vhs, Gesundheitsraum 313, Katharinenstraße 18, 72072 Tübingen
END:VEVENT
BEGIN:VEVENT
DTSTAMP:20260421T111151
DTSTART;TZID=Europe/Berlin:20261116T100000
DTEND;TZID=Europe/Berlin:20261116T113000
UID:262-31439-20261116T100000@VHSTÜBINGEN
SUMMARY:Vinyasa  Yoga - Yoga auf Spanisch mit deutscher Sprachhilfe für Anfänger/-innen und Fortgeschrittene (262-31439) 
LOCATION:vhs, Gesundheitsraum 313, Katharinenstraße 18, 72072 Tübingen
END:VEVENT
BEGIN:VEVENT
DTSTAMP:20260421T111151
DTSTART;TZID=Europe/Berlin:20261123T100000
DTEND;TZID=Europe/Berlin:20261123T113000
UID:262-31439-20261123T100000@VHSTÜBINGEN
SUMMARY:Vinyasa  Yoga - Yoga auf Spanisch mit deutscher Sprachhilfe für Anfänger/-innen und Fortgeschrittene (262-31439) 
LOCATION:vhs, Gesundheitsraum 313, Katharinenstraße 18, 72072 Tübingen
END:VEVENT
BEGIN:VEVENT
DTSTAMP:20260421T111151
DTSTART;TZID=Europe/Berlin:20261130T100000
DTEND;TZID=Europe/Berlin:20261130T113000
UID:262-31439-20261130T100000@VHSTÜBINGEN
SUMMARY:Vinyasa  Yoga - Yoga auf Spanisch mit deutscher Sprachhilfe für Anfänger/-innen und Fortgeschrittene (262-31439) 
LOCATION:vhs, Gesundheitsraum 313, Katharinenstraße 18, 72072 Tübingen
END:VEVENT
END:VCALENDAR