BEGIN:VCALENDAR
VERSION:2.0
PRODID:https://www.kufer.de/kuferweb / DE
METHOD:PUBLISH
CALSCALE:GREGORIAN
X-WR-TIMEZONE:Europe/Berlin
BEGIN:VTIMEZONE
TZID:Europe/Berlin
X-LIC-LOCATION:Europe/Berlin
BEGIN:DAYLIGHT
TZOFFSETFROM:+0100
TZOFFSETTO:+0200
TZNAME:CEST
DTSTART:19700329T020000
RRULE:FREQ=YEARLY;INTERVAL=1;BYDAY=-1SU;BYMONTH=3
END:DAYLIGHT
BEGIN:STANDARD
TZOFFSETFROM:+0200
TZOFFSETTO:+0100
TZNAME:CET
DTSTART:19701025T030000
RRULE:FREQ=YEARLY;INTERVAL=1;BYDAY=-1SU;BYMONTH=10
END:STANDARD
END:VTIMEZONE
BEGIN:VEVENT
DTSTAMP:20260421T175809
DTSTART;TZID=Europe/Berlin:20261019T083000
DTEND;TZID=Europe/Berlin:20261019T120000
UID:262-47025-20261019T083000@VHSTÜBINGEN
SUMMARY:Deutsch intensiv B2.2 (262-47025) 
LOCATION:vhs, Schulungsraum 109, Katharinenstraße 18, 72072 Tübingen
END:VEVENT
BEGIN:VEVENT
DTSTAMP:20260421T175809
DTSTART;TZID=Europe/Berlin:20261020T083000
DTEND;TZID=Europe/Berlin:20261020T120000
UID:262-47025-20261020T083000@VHSTÜBINGEN
SUMMARY:Deutsch intensiv B2.2 (262-47025) 
LOCATION:vhs, Schulungsraum 109, Katharinenstraße 18, 72072 Tübingen
END:VEVENT
BEGIN:VEVENT
DTSTAMP:20260421T175809
DTSTART;TZID=Europe/Berlin:20261021T083000
DTEND;TZID=Europe/Berlin:20261021T120000
UID:262-47025-20261021T083000@VHSTÜBINGEN
SUMMARY:Deutsch intensiv B2.2 (262-47025) 
LOCATION:vhs, Schulungsraum 109, Katharinenstraße 18, 72072 Tübingen
END:VEVENT
BEGIN:VEVENT
DTSTAMP:20260421T175809
DTSTART;TZID=Europe/Berlin:20261022T083000
DTEND;TZID=Europe/Berlin:20261022T120000
UID:262-47025-20261022T083000@VHSTÜBINGEN
SUMMARY:Deutsch intensiv B2.2 (262-47025) 
LOCATION:vhs, Schulungsraum 109, Katharinenstraße 18, 72072 Tübingen
END:VEVENT
BEGIN:VEVENT
DTSTAMP:20260421T175809
DTSTART;TZID=Europe/Berlin:20261023T083000
DTEND;TZID=Europe/Berlin:20261023T120000
UID:262-47025-20261023T083000@VHSTÜBINGEN
SUMMARY:Deutsch intensiv B2.2 (262-47025) 
LOCATION:vhs, Schulungsraum 109, Katharinenstraße 18, 72072 Tübingen
END:VEVENT
BEGIN:VEVENT
DTSTAMP:20260421T175809
DTSTART;TZID=Europe/Berlin:20261102T083000
DTEND;TZID=Europe/Berlin:20261102T120000
UID:262-47025-20261102T083000@VHSTÜBINGEN
SUMMARY:Deutsch intensiv B2.2 (262-47025) 
LOCATION:vhs, Schulungsraum 109, Katharinenstraße 18, 72072 Tübingen
END:VEVENT
BEGIN:VEVENT
DTSTAMP:20260421T175809
DTSTART;TZID=Europe/Berlin:20261103T083000
DTEND;TZID=Europe/Berlin:20261103T120000
UID:262-47025-20261103T083000@VHSTÜBINGEN
SUMMARY:Deutsch intensiv B2.2 (262-47025) 
LOCATION:vhs, Schulungsraum 109, Katharinenstraße 18, 72072 Tübingen
END:VEVENT
BEGIN:VEVENT
DTSTAMP:20260421T175809
DTSTART;TZID=Europe/Berlin:20261104T083000
DTEND;TZID=Europe/Berlin:20261104T120000
UID:262-47025-20261104T083000@VHSTÜBINGEN
SUMMARY:Deutsch intensiv B2.2 (262-47025) 
LOCATION:vhs, Schulungsraum 109, Katharinenstraße 18, 72072 Tübingen
END:VEVENT
BEGIN:VEVENT
DTSTAMP:20260421T175809
DTSTART;TZID=Europe/Berlin:20261105T083000
DTEND;TZID=Europe/Berlin:20261105T120000
UID:262-47025-20261105T083000@VHSTÜBINGEN
SUMMARY:Deutsch intensiv B2.2 (262-47025) 
LOCATION:vhs, Schulungsraum 109, Katharinenstraße 18, 72072 Tübingen
END:VEVENT
BEGIN:VEVENT
DTSTAMP:20260421T175809
DTSTART;TZID=Europe/Berlin:20261106T083000
DTEND;TZID=Europe/Berlin:20261106T120000
UID:262-47025-20261106T083000@VHSTÜBINGEN
SUMMARY:Deutsch intensiv B2.2 (262-47025) 
LOCATION:vhs, Schulungsraum 109, Katharinenstraße 18, 72072 Tübingen
END:VEVENT
BEGIN:VEVENT
DTSTAMP:20260421T175809
DTSTART;TZID=Europe/Berlin:20261109T083000
DTEND;TZID=Europe/Berlin:20261109T120000
UID:262-47025-20261109T083000@VHSTÜBINGEN
SUMMARY:Deutsch intensiv B2.2 (262-47025) 
LOCATION:vhs, Schulungsraum 109, Katharinenstraße 18, 72072 Tübingen
END:VEVENT
BEGIN:VEVENT
DTSTAMP:20260421T175809
DTSTART;TZID=Europe/Berlin:20261110T083000
DTEND;TZID=Europe/Berlin:20261110T120000
UID:262-47025-20261110T083000@VHSTÜBINGEN
SUMMARY:Deutsch intensiv B2.2 (262-47025) 
LOCATION:vhs, Schulungsraum 109, Katharinenstraße 18, 72072 Tübingen
END:VEVENT
BEGIN:VEVENT
DTSTAMP:20260421T175809
DTSTART;TZID=Europe/Berlin:20261111T083000
DTEND;TZID=Europe/Berlin:20261111T120000
UID:262-47025-20261111T083000@VHSTÜBINGEN
SUMMARY:Deutsch intensiv B2.2 (262-47025) 
LOCATION:vhs, Schulungsraum 109, Katharinenstraße 18, 72072 Tübingen
END:VEVENT
BEGIN:VEVENT
DTSTAMP:20260421T175809
DTSTART;TZID=Europe/Berlin:20261112T083000
DTEND;TZID=Europe/Berlin:20261112T120000
UID:262-47025-20261112T083000@VHSTÜBINGEN
SUMMARY:Deutsch intensiv B2.2 (262-47025) 
LOCATION:vhs, Schulungsraum 109, Katharinenstraße 18, 72072 Tübingen
END:VEVENT
BEGIN:VEVENT
DTSTAMP:20260421T175809
DTSTART;TZID=Europe/Berlin:20261113T083000
DTEND;TZID=Europe/Berlin:20261113T120000
UID:262-47025-20261113T083000@VHSTÜBINGEN
SUMMARY:Deutsch intensiv B2.2 (262-47025) 
LOCATION:vhs, Schulungsraum 109, Katharinenstraße 18, 72072 Tübingen
END:VEVENT
BEGIN:VEVENT
DTSTAMP:20260421T175809
DTSTART;TZID=Europe/Berlin:20261116T083000
DTEND;TZID=Europe/Berlin:20261116T120000
UID:262-47025-20261116T083000@VHSTÜBINGEN
SUMMARY:Deutsch intensiv B2.2 (262-47025) 
LOCATION:vhs, Schulungsraum 109, Katharinenstraße 18, 72072 Tübingen
END:VEVENT
BEGIN:VEVENT
DTSTAMP:20260421T175809
DTSTART;TZID=Europe/Berlin:20261117T083000
DTEND;TZID=Europe/Berlin:20261117T120000
UID:262-47025-20261117T083000@VHSTÜBINGEN
SUMMARY:Deutsch intensiv B2.2 (262-47025) 
LOCATION:vhs, Schulungsraum 109, Katharinenstraße 18, 72072 Tübingen
END:VEVENT
BEGIN:VEVENT
DTSTAMP:20260421T175809
DTSTART;TZID=Europe/Berlin:20261118T083000
DTEND;TZID=Europe/Berlin:20261118T120000
UID:262-47025-20261118T083000@VHSTÜBINGEN
SUMMARY:Deutsch intensiv B2.2 (262-47025) 
LOCATION:vhs, Schulungsraum 109, Katharinenstraße 18, 72072 Tübingen
END:VEVENT
BEGIN:VEVENT
DTSTAMP:20260421T175809
DTSTART;TZID=Europe/Berlin:20261119T083000
DTEND;TZID=Europe/Berlin:20261119T120000
UID:262-47025-20261119T083000@VHSTÜBINGEN
SUMMARY:Deutsch intensiv B2.2 (262-47025) 
LOCATION:vhs, Schulungsraum 109, Katharinenstraße 18, 72072 Tübingen
END:VEVENT
BEGIN:VEVENT
DTSTAMP:20260421T175809
DTSTART;TZID=Europe/Berlin:20261120T083000
DTEND;TZID=Europe/Berlin:20261120T120000
UID:262-47025-20261120T083000@VHSTÜBINGEN
SUMMARY:Deutsch intensiv B2.2 (262-47025) 
LOCATION:vhs, Schulungsraum 109, Katharinenstraße 18, 72072 Tübingen
END:VEVENT
BEGIN:VEVENT
DTSTAMP:20260421T175809
DTSTART;TZID=Europe/Berlin:20261123T083000
DTEND;TZID=Europe/Berlin:20261123T120000
UID:262-47025-20261123T083000@VHSTÜBINGEN
SUMMARY:Deutsch intensiv B2.2 (262-47025) 
LOCATION:vhs, Schulungsraum 109, Katharinenstraße 18, 72072 Tübingen
END:VEVENT
BEGIN:VEVENT
DTSTAMP:20260421T175809
DTSTART;TZID=Europe/Berlin:20261124T083000
DTEND;TZID=Europe/Berlin:20261124T120000
UID:262-47025-20261124T083000@VHSTÜBINGEN
SUMMARY:Deutsch intensiv B2.2 (262-47025) 
LOCATION:vhs, Schulungsraum 109, Katharinenstraße 18, 72072 Tübingen
END:VEVENT
BEGIN:VEVENT
DTSTAMP:20260421T175809
DTSTART;TZID=Europe/Berlin:20261125T083000
DTEND;TZID=Europe/Berlin:20261125T120000
UID:262-47025-20261125T083000@VHSTÜBINGEN
SUMMARY:Deutsch intensiv B2.2 (262-47025) 
LOCATION:vhs, Schulungsraum 109, Katharinenstraße 18, 72072 Tübingen
END:VEVENT
BEGIN:VEVENT
DTSTAMP:20260421T175809
DTSTART;TZID=Europe/Berlin:20261126T083000
DTEND;TZID=Europe/Berlin:20261126T120000
UID:262-47025-20261126T083000@VHSTÜBINGEN
SUMMARY:Deutsch intensiv B2.2 (262-47025) 
LOCATION:vhs, Schulungsraum 109, Katharinenstraße 18, 72072 Tübingen
END:VEVENT
BEGIN:VEVENT
DTSTAMP:20260421T175809
DTSTART;TZID=Europe/Berlin:20261127T083000
DTEND;TZID=Europe/Berlin:20261127T120000
UID:262-47025-20261127T083000@VHSTÜBINGEN
SUMMARY:Deutsch intensiv B2.2 (262-47025) 
LOCATION:vhs, Schulungsraum 109, Katharinenstraße 18, 72072 Tübingen
END:VEVENT
END:VCALENDAR