BEGIN:VCALENDAR
VERSION:2.0
PRODID:https://www.kufer.de/kuferweb / DE
METHOD:PUBLISH
CALSCALE:GREGORIAN
X-WR-TIMEZONE:Europe/Berlin
BEGIN:VTIMEZONE
TZID:Europe/Berlin
X-LIC-LOCATION:Europe/Berlin
BEGIN:DAYLIGHT
TZOFFSETFROM:+0100
TZOFFSETTO:+0200
TZNAME:CEST
DTSTART:19700329T020000
RRULE:FREQ=YEARLY;INTERVAL=1;BYDAY=-1SU;BYMONTH=3
END:DAYLIGHT
BEGIN:STANDARD
TZOFFSETFROM:+0200
TZOFFSETTO:+0100
TZNAME:CET
DTSTART:19701025T030000
RRULE:FREQ=YEARLY;INTERVAL=1;BYDAY=-1SU;BYMONTH=10
END:STANDARD
END:VTIMEZONE
BEGIN:VEVENT
DTSTAMP:20260421T175808
DTSTART;TZID=Europe/Berlin:20261117T180000
DTEND;TZID=Europe/Berlin:20261117T211500
UID:262-472317-20261117T180000@VHSTÜBINGEN
SUMMARY:Deutsch Intensiv A1.2 / Integrationskurs 317 (Abend) (262-472317) 
LOCATION:vhs, Schulungsraum 209, Katharinenstraße 18, 72072 Tübingen
END:VEVENT
BEGIN:VEVENT
DTSTAMP:20260421T175808
DTSTART;TZID=Europe/Berlin:20261119T180000
DTEND;TZID=Europe/Berlin:20261119T211500
UID:262-472317-20261119T180000@VHSTÜBINGEN
SUMMARY:Deutsch Intensiv A1.2 / Integrationskurs 317 (Abend) (262-472317) 
LOCATION:vhs, Schulungsraum 209, Katharinenstraße 18, 72072 Tübingen
END:VEVENT
BEGIN:VEVENT
DTSTAMP:20260421T175808
DTSTART;TZID=Europe/Berlin:20261123T180000
DTEND;TZID=Europe/Berlin:20261123T211500
UID:262-472317-20261123T180000@VHSTÜBINGEN
SUMMARY:Deutsch Intensiv A1.2 / Integrationskurs 317 (Abend) (262-472317) 
LOCATION:vhs, Schulungsraum 115, Katharinenstraße 18, 72072 Tübingen
END:VEVENT
BEGIN:VEVENT
DTSTAMP:20260421T175808
DTSTART;TZID=Europe/Berlin:20261124T180000
DTEND;TZID=Europe/Berlin:20261124T211500
UID:262-472317-20261124T180000@VHSTÜBINGEN
SUMMARY:Deutsch Intensiv A1.2 / Integrationskurs 317 (Abend) (262-472317) 
LOCATION:vhs, Schulungsraum 209, Katharinenstraße 18, 72072 Tübingen
END:VEVENT
BEGIN:VEVENT
DTSTAMP:20260421T175808
DTSTART;TZID=Europe/Berlin:20261126T180000
DTEND;TZID=Europe/Berlin:20261126T211500
UID:262-472317-20261126T180000@VHSTÜBINGEN
SUMMARY:Deutsch Intensiv A1.2 / Integrationskurs 317 (Abend) (262-472317) 
LOCATION:vhs, Schulungsraum 209, Katharinenstraße 18, 72072 Tübingen
END:VEVENT
BEGIN:VEVENT
DTSTAMP:20260421T175808
DTSTART;TZID=Europe/Berlin:20261130T180000
DTEND;TZID=Europe/Berlin:20261130T211500
UID:262-472317-20261130T180000@VHSTÜBINGEN
SUMMARY:Deutsch Intensiv A1.2 / Integrationskurs 317 (Abend) (262-472317) 
LOCATION:vhs, Schulungsraum 115, Katharinenstraße 18, 72072 Tübingen
END:VEVENT
BEGIN:VEVENT
DTSTAMP:20260421T175808
DTSTART;TZID=Europe/Berlin:20261201T180000
DTEND;TZID=Europe/Berlin:20261201T211500
UID:262-472317-20261201T180000@VHSTÜBINGEN
SUMMARY:Deutsch Intensiv A1.2 / Integrationskurs 317 (Abend) (262-472317) 
LOCATION:vhs, Schulungsraum 209, Katharinenstraße 18, 72072 Tübingen
END:VEVENT
BEGIN:VEVENT
DTSTAMP:20260421T175808
DTSTART;TZID=Europe/Berlin:20261203T180000
DTEND;TZID=Europe/Berlin:20261203T211500
UID:262-472317-20261203T180000@VHSTÜBINGEN
SUMMARY:Deutsch Intensiv A1.2 / Integrationskurs 317 (Abend) (262-472317) 
LOCATION:vhs, Schulungsraum 209, Katharinenstraße 18, 72072 Tübingen
END:VEVENT
BEGIN:VEVENT
DTSTAMP:20260421T175808
DTSTART;TZID=Europe/Berlin:20261207T180000
DTEND;TZID=Europe/Berlin:20261207T211500
UID:262-472317-20261207T180000@VHSTÜBINGEN
SUMMARY:Deutsch Intensiv A1.2 / Integrationskurs 317 (Abend) (262-472317) 
LOCATION:vhs, Schulungsraum 115, Katharinenstraße 18, 72072 Tübingen
END:VEVENT
BEGIN:VEVENT
DTSTAMP:20260421T175808
DTSTART;TZID=Europe/Berlin:20261208T180000
DTEND;TZID=Europe/Berlin:20261208T211500
UID:262-472317-20261208T180000@VHSTÜBINGEN
SUMMARY:Deutsch Intensiv A1.2 / Integrationskurs 317 (Abend) (262-472317) 
LOCATION:vhs, Schulungsraum 209, Katharinenstraße 18, 72072 Tübingen
END:VEVENT
BEGIN:VEVENT
DTSTAMP:20260421T175808
DTSTART;TZID=Europe/Berlin:20261210T180000
DTEND;TZID=Europe/Berlin:20261210T211500
UID:262-472317-20261210T180000@VHSTÜBINGEN
SUMMARY:Deutsch Intensiv A1.2 / Integrationskurs 317 (Abend) (262-472317) 
LOCATION:vhs, Schulungsraum 209, Katharinenstraße 18, 72072 Tübingen
END:VEVENT
BEGIN:VEVENT
DTSTAMP:20260421T175808
DTSTART;TZID=Europe/Berlin:20261214T180000
DTEND;TZID=Europe/Berlin:20261214T211500
UID:262-472317-20261214T180000@VHSTÜBINGEN
SUMMARY:Deutsch Intensiv A1.2 / Integrationskurs 317 (Abend) (262-472317) 
LOCATION:vhs, Schulungsraum 115, Katharinenstraße 18, 72072 Tübingen
END:VEVENT
BEGIN:VEVENT
DTSTAMP:20260421T175808
DTSTART;TZID=Europe/Berlin:20261215T180000
DTEND;TZID=Europe/Berlin:20261215T211500
UID:262-472317-20261215T180000@VHSTÜBINGEN
SUMMARY:Deutsch Intensiv A1.2 / Integrationskurs 317 (Abend) (262-472317) 
LOCATION:vhs, Schulungsraum 209, Katharinenstraße 18, 72072 Tübingen
END:VEVENT
BEGIN:VEVENT
DTSTAMP:20260421T175808
DTSTART;TZID=Europe/Berlin:20261217T180000
DTEND;TZID=Europe/Berlin:20261217T211500
UID:262-472317-20261217T180000@VHSTÜBINGEN
SUMMARY:Deutsch Intensiv A1.2 / Integrationskurs 317 (Abend) (262-472317) 
LOCATION:vhs, Schulungsraum 209, Katharinenstraße 18, 72072 Tübingen
END:VEVENT
BEGIN:VEVENT
DTSTAMP:20260421T175808
DTSTART;TZID=Europe/Berlin:20261221T180000
DTEND;TZID=Europe/Berlin:20261221T211500
UID:262-472317-20261221T180000@VHSTÜBINGEN
SUMMARY:Deutsch Intensiv A1.2 / Integrationskurs 317 (Abend) (262-472317) 
LOCATION:vhs, Schulungsraum 115, Katharinenstraße 18, 72072 Tübingen
END:VEVENT
BEGIN:VEVENT
DTSTAMP:20260421T175808
DTSTART;TZID=Europe/Berlin:20261222T180000
DTEND;TZID=Europe/Berlin:20261222T211500
UID:262-472317-20261222T180000@VHSTÜBINGEN
SUMMARY:Deutsch Intensiv A1.2 / Integrationskurs 317 (Abend) (262-472317) 
LOCATION:vhs, Schulungsraum 209, Katharinenstraße 18, 72072 Tübingen
END:VEVENT
BEGIN:VEVENT
DTSTAMP:20260421T175808
DTSTART;TZID=Europe/Berlin:20270111T180000
DTEND;TZID=Europe/Berlin:20270111T211500
UID:262-472317-20270111T180000@VHSTÜBINGEN
SUMMARY:Deutsch Intensiv A1.2 / Integrationskurs 317 (Abend) (262-472317) 
LOCATION:vhs, Schulungsraum 115, Katharinenstraße 18, 72072 Tübingen
END:VEVENT
BEGIN:VEVENT
DTSTAMP:20260421T175808
DTSTART;TZID=Europe/Berlin:20270112T180000
DTEND;TZID=Europe/Berlin:20270112T211500
UID:262-472317-20270112T180000@VHSTÜBINGEN
SUMMARY:Deutsch Intensiv A1.2 / Integrationskurs 317 (Abend) (262-472317) 
LOCATION:vhs, Schulungsraum 209, Katharinenstraße 18, 72072 Tübingen
END:VEVENT
BEGIN:VEVENT
DTSTAMP:20260421T175808
DTSTART;TZID=Europe/Berlin:20270114T180000
DTEND;TZID=Europe/Berlin:20270114T211500
UID:262-472317-20270114T180000@VHSTÜBINGEN
SUMMARY:Deutsch Intensiv A1.2 / Integrationskurs 317 (Abend) (262-472317) 
LOCATION:vhs, Schulungsraum 209, Katharinenstraße 18, 72072 Tübingen
END:VEVENT
BEGIN:VEVENT
DTSTAMP:20260421T175808
DTSTART;TZID=Europe/Berlin:20270118T180000
DTEND;TZID=Europe/Berlin:20270118T211500
UID:262-472317-20270118T180000@VHSTÜBINGEN
SUMMARY:Deutsch Intensiv A1.2 / Integrationskurs 317 (Abend) (262-472317) 
LOCATION:vhs, Schulungsraum 115, Katharinenstraße 18, 72072 Tübingen
END:VEVENT
BEGIN:VEVENT
DTSTAMP:20260421T175808
DTSTART;TZID=Europe/Berlin:20270119T180000
DTEND;TZID=Europe/Berlin:20270119T211500
UID:262-472317-20270119T180000@VHSTÜBINGEN
SUMMARY:Deutsch Intensiv A1.2 / Integrationskurs 317 (Abend) (262-472317) 
LOCATION:vhs, Schulungsraum 209, Katharinenstraße 18, 72072 Tübingen
END:VEVENT
BEGIN:VEVENT
DTSTAMP:20260421T175808
DTSTART;TZID=Europe/Berlin:20270121T180000
DTEND;TZID=Europe/Berlin:20270121T211500
UID:262-472317-20270121T180000@VHSTÜBINGEN
SUMMARY:Deutsch Intensiv A1.2 / Integrationskurs 317 (Abend) (262-472317) 
LOCATION:vhs, Schulungsraum 209, Katharinenstraße 18, 72072 Tübingen
END:VEVENT
BEGIN:VEVENT
DTSTAMP:20260421T175808
DTSTART;TZID=Europe/Berlin:20270125T180000
DTEND;TZID=Europe/Berlin:20270125T211500
UID:262-472317-20270125T180000@VHSTÜBINGEN
SUMMARY:Deutsch Intensiv A1.2 / Integrationskurs 317 (Abend) (262-472317) 
LOCATION:vhs, Schulungsraum 115, Katharinenstraße 18, 72072 Tübingen
END:VEVENT
BEGIN:VEVENT
DTSTAMP:20260421T175808
DTSTART;TZID=Europe/Berlin:20270126T180000
DTEND;TZID=Europe/Berlin:20270126T211500
UID:262-472317-20270126T180000@VHSTÜBINGEN
SUMMARY:Deutsch Intensiv A1.2 / Integrationskurs 317 (Abend) (262-472317) 
LOCATION:vhs, Schulungsraum 209, Katharinenstraße 18, 72072 Tübingen
END:VEVENT
BEGIN:VEVENT
DTSTAMP:20260421T175808
DTSTART;TZID=Europe/Berlin:20270128T180000
DTEND;TZID=Europe/Berlin:20270128T211500
UID:262-472317-20270128T180000@VHSTÜBINGEN
SUMMARY:Deutsch Intensiv A1.2 / Integrationskurs 317 (Abend) (262-472317) 
LOCATION:vhs, Schulungsraum 209, Katharinenstraße 18, 72072 Tübingen
END:VEVENT
END:VCALENDAR