BEGIN:VCALENDAR
VERSION:2.0
PRODID:https://www.kufer.de/kuferweb / DE
METHOD:PUBLISH
CALSCALE:GREGORIAN
X-WR-TIMEZONE:Europe/Berlin
BEGIN:VTIMEZONE
TZID:Europe/Berlin
X-LIC-LOCATION:Europe/Berlin
BEGIN:DAYLIGHT
TZOFFSETFROM:+0100
TZOFFSETTO:+0200
TZNAME:CEST
DTSTART:19700329T020000
RRULE:FREQ=YEARLY;INTERVAL=1;BYDAY=-1SU;BYMONTH=3
END:DAYLIGHT
BEGIN:STANDARD
TZOFFSETFROM:+0200
TZOFFSETTO:+0100
TZNAME:CET
DTSTART:19701025T030000
RRULE:FREQ=YEARLY;INTERVAL=1;BYDAY=-1SU;BYMONTH=10
END:STANDARD
END:VTIMEZONE
BEGIN:VEVENT
DTSTAMP:20260421T132151
DTSTART;TZID=Europe/Berlin:20260914T133000
DTEND;TZID=Europe/Berlin:20260914T164500
UID:262-473311-20260914T133000@VHSTÜBINGEN
SUMMARY:Alphabetisierungskurs Abschnitt 3 Kurs 311 (262-473311) 
LOCATION:vhs, Schulungsraum 201, Katharinenstraße 18, 72072 Tübingen
END:VEVENT
BEGIN:VEVENT
DTSTAMP:20260421T132151
DTSTART;TZID=Europe/Berlin:20260915T133000
DTEND;TZID=Europe/Berlin:20260915T164500
UID:262-473311-20260915T133000@VHSTÜBINGEN
SUMMARY:Alphabetisierungskurs Abschnitt 3 Kurs 311 (262-473311) 
LOCATION:vhs, Schulungsraum 201, Katharinenstraße 18, 72072 Tübingen
END:VEVENT
BEGIN:VEVENT
DTSTAMP:20260421T132151
DTSTART;TZID=Europe/Berlin:20260916T133000
DTEND;TZID=Europe/Berlin:20260916T164500
UID:262-473311-20260916T133000@VHSTÜBINGEN
SUMMARY:Alphabetisierungskurs Abschnitt 3 Kurs 311 (262-473311) 
LOCATION:vhs, Schulungsraum 201, Katharinenstraße 18, 72072 Tübingen
END:VEVENT
BEGIN:VEVENT
DTSTAMP:20260421T132151
DTSTART;TZID=Europe/Berlin:20260917T133000
DTEND;TZID=Europe/Berlin:20260917T164500
UID:262-473311-20260917T133000@VHSTÜBINGEN
SUMMARY:Alphabetisierungskurs Abschnitt 3 Kurs 311 (262-473311) 
LOCATION:vhs, Schulungsraum 201, Katharinenstraße 18, 72072 Tübingen
END:VEVENT
BEGIN:VEVENT
DTSTAMP:20260421T132151
DTSTART;TZID=Europe/Berlin:20260918T133000
DTEND;TZID=Europe/Berlin:20260918T164500
UID:262-473311-20260918T133000@VHSTÜBINGEN
SUMMARY:Alphabetisierungskurs Abschnitt 3 Kurs 311 (262-473311) 
LOCATION:vhs, Schulungsraum 201, Katharinenstraße 18, 72072 Tübingen
END:VEVENT
BEGIN:VEVENT
DTSTAMP:20260421T132151
DTSTART;TZID=Europe/Berlin:20260921T133000
DTEND;TZID=Europe/Berlin:20260921T164500
UID:262-473311-20260921T133000@VHSTÜBINGEN
SUMMARY:Alphabetisierungskurs Abschnitt 3 Kurs 311 (262-473311) 
LOCATION:vhs, Schulungsraum 201, Katharinenstraße 18, 72072 Tübingen
END:VEVENT
BEGIN:VEVENT
DTSTAMP:20260421T132151
DTSTART;TZID=Europe/Berlin:20260922T133000
DTEND;TZID=Europe/Berlin:20260922T164500
UID:262-473311-20260922T133000@VHSTÜBINGEN
SUMMARY:Alphabetisierungskurs Abschnitt 3 Kurs 311 (262-473311) 
LOCATION:vhs, Schulungsraum 201, Katharinenstraße 18, 72072 Tübingen
END:VEVENT
BEGIN:VEVENT
DTSTAMP:20260421T132151
DTSTART;TZID=Europe/Berlin:20260923T133000
DTEND;TZID=Europe/Berlin:20260923T164500
UID:262-473311-20260923T133000@VHSTÜBINGEN
SUMMARY:Alphabetisierungskurs Abschnitt 3 Kurs 311 (262-473311) 
LOCATION:vhs, Schulungsraum 201, Katharinenstraße 18, 72072 Tübingen
END:VEVENT
BEGIN:VEVENT
DTSTAMP:20260421T132151
DTSTART;TZID=Europe/Berlin:20260924T133000
DTEND;TZID=Europe/Berlin:20260924T164500
UID:262-473311-20260924T133000@VHSTÜBINGEN
SUMMARY:Alphabetisierungskurs Abschnitt 3 Kurs 311 (262-473311) 
LOCATION:vhs, Schulungsraum 201, Katharinenstraße 18, 72072 Tübingen
END:VEVENT
BEGIN:VEVENT
DTSTAMP:20260421T132151
DTSTART;TZID=Europe/Berlin:20260925T133000
DTEND;TZID=Europe/Berlin:20260925T164500
UID:262-473311-20260925T133000@VHSTÜBINGEN
SUMMARY:Alphabetisierungskurs Abschnitt 3 Kurs 311 (262-473311) 
LOCATION:vhs, Schulungsraum 201, Katharinenstraße 18, 72072 Tübingen
END:VEVENT
BEGIN:VEVENT
DTSTAMP:20260421T132151
DTSTART;TZID=Europe/Berlin:20260928T133000
DTEND;TZID=Europe/Berlin:20260928T164500
UID:262-473311-20260928T133000@VHSTÜBINGEN
SUMMARY:Alphabetisierungskurs Abschnitt 3 Kurs 311 (262-473311) 
LOCATION:vhs, Schulungsraum 201, Katharinenstraße 18, 72072 Tübingen
END:VEVENT
BEGIN:VEVENT
DTSTAMP:20260421T132151
DTSTART;TZID=Europe/Berlin:20260929T133000
DTEND;TZID=Europe/Berlin:20260929T164500
UID:262-473311-20260929T133000@VHSTÜBINGEN
SUMMARY:Alphabetisierungskurs Abschnitt 3 Kurs 311 (262-473311) 
LOCATION:vhs, Schulungsraum 201, Katharinenstraße 18, 72072 Tübingen
END:VEVENT
BEGIN:VEVENT
DTSTAMP:20260421T132151
DTSTART;TZID=Europe/Berlin:20260930T133000
DTEND;TZID=Europe/Berlin:20260930T164500
UID:262-473311-20260930T133000@VHSTÜBINGEN
SUMMARY:Alphabetisierungskurs Abschnitt 3 Kurs 311 (262-473311) 
LOCATION:vhs, Schulungsraum 201, Katharinenstraße 18, 72072 Tübingen
END:VEVENT
BEGIN:VEVENT
DTSTAMP:20260421T132151
DTSTART;TZID=Europe/Berlin:20261001T133000
DTEND;TZID=Europe/Berlin:20261001T164500
UID:262-473311-20261001T133000@VHSTÜBINGEN
SUMMARY:Alphabetisierungskurs Abschnitt 3 Kurs 311 (262-473311) 
LOCATION:vhs, Schulungsraum 201, Katharinenstraße 18, 72072 Tübingen
END:VEVENT
BEGIN:VEVENT
DTSTAMP:20260421T132151
DTSTART;TZID=Europe/Berlin:20261002T133000
DTEND;TZID=Europe/Berlin:20261002T164500
UID:262-473311-20261002T133000@VHSTÜBINGEN
SUMMARY:Alphabetisierungskurs Abschnitt 3 Kurs 311 (262-473311) 
LOCATION:vhs, Schulungsraum 201, Katharinenstraße 18, 72072 Tübingen
END:VEVENT
BEGIN:VEVENT
DTSTAMP:20260421T132151
DTSTART;TZID=Europe/Berlin:20261005T133000
DTEND;TZID=Europe/Berlin:20261005T164500
UID:262-473311-20261005T133000@VHSTÜBINGEN
SUMMARY:Alphabetisierungskurs Abschnitt 3 Kurs 311 (262-473311) 
LOCATION:vhs, Schulungsraum 201, Katharinenstraße 18, 72072 Tübingen
END:VEVENT
BEGIN:VEVENT
DTSTAMP:20260421T132151
DTSTART;TZID=Europe/Berlin:20261006T133000
DTEND;TZID=Europe/Berlin:20261006T164500
UID:262-473311-20261006T133000@VHSTÜBINGEN
SUMMARY:Alphabetisierungskurs Abschnitt 3 Kurs 311 (262-473311) 
LOCATION:vhs, Schulungsraum 201, Katharinenstraße 18, 72072 Tübingen
END:VEVENT
BEGIN:VEVENT
DTSTAMP:20260421T132151
DTSTART;TZID=Europe/Berlin:20261007T133000
DTEND;TZID=Europe/Berlin:20261007T164500
UID:262-473311-20261007T133000@VHSTÜBINGEN
SUMMARY:Alphabetisierungskurs Abschnitt 3 Kurs 311 (262-473311) 
LOCATION:vhs, Schulungsraum 201, Katharinenstraße 18, 72072 Tübingen
END:VEVENT
BEGIN:VEVENT
DTSTAMP:20260421T132151
DTSTART;TZID=Europe/Berlin:20261008T133000
DTEND;TZID=Europe/Berlin:20261008T164500
UID:262-473311-20261008T133000@VHSTÜBINGEN
SUMMARY:Alphabetisierungskurs Abschnitt 3 Kurs 311 (262-473311) 
LOCATION:vhs, Schulungsraum 201, Katharinenstraße 18, 72072 Tübingen
END:VEVENT
BEGIN:VEVENT
DTSTAMP:20260421T132151
DTSTART;TZID=Europe/Berlin:20261009T133000
DTEND;TZID=Europe/Berlin:20261009T164500
UID:262-473311-20261009T133000@VHSTÜBINGEN
SUMMARY:Alphabetisierungskurs Abschnitt 3 Kurs 311 (262-473311) 
LOCATION:vhs, Schulungsraum 201, Katharinenstraße 18, 72072 Tübingen
END:VEVENT
BEGIN:VEVENT
DTSTAMP:20260421T132151
DTSTART;TZID=Europe/Berlin:20261012T133000
DTEND;TZID=Europe/Berlin:20261012T164500
UID:262-473311-20261012T133000@VHSTÜBINGEN
SUMMARY:Alphabetisierungskurs Abschnitt 3 Kurs 311 (262-473311) 
LOCATION:vhs, Schulungsraum 201, Katharinenstraße 18, 72072 Tübingen
END:VEVENT
BEGIN:VEVENT
DTSTAMP:20260421T132151
DTSTART;TZID=Europe/Berlin:20261013T133000
DTEND;TZID=Europe/Berlin:20261013T164500
UID:262-473311-20261013T133000@VHSTÜBINGEN
SUMMARY:Alphabetisierungskurs Abschnitt 3 Kurs 311 (262-473311) 
LOCATION:vhs, Schulungsraum 201, Katharinenstraße 18, 72072 Tübingen
END:VEVENT
BEGIN:VEVENT
DTSTAMP:20260421T132151
DTSTART;TZID=Europe/Berlin:20261014T133000
DTEND;TZID=Europe/Berlin:20261014T164500
UID:262-473311-20261014T133000@VHSTÜBINGEN
SUMMARY:Alphabetisierungskurs Abschnitt 3 Kurs 311 (262-473311) 
LOCATION:vhs, Schulungsraum 201, Katharinenstraße 18, 72072 Tübingen
END:VEVENT
BEGIN:VEVENT
DTSTAMP:20260421T132151
DTSTART;TZID=Europe/Berlin:20261015T133000
DTEND;TZID=Europe/Berlin:20261015T164500
UID:262-473311-20261015T133000@VHSTÜBINGEN
SUMMARY:Alphabetisierungskurs Abschnitt 3 Kurs 311 (262-473311) 
LOCATION:vhs, Schulungsraum 201, Katharinenstraße 18, 72072 Tübingen
END:VEVENT
BEGIN:VEVENT
DTSTAMP:20260421T132151
DTSTART;TZID=Europe/Berlin:20261016T133000
DTEND;TZID=Europe/Berlin:20261016T164500
UID:262-473311-20261016T133000@VHSTÜBINGEN
SUMMARY:Alphabetisierungskurs Abschnitt 3 Kurs 311 (262-473311) 
LOCATION:vhs, Schulungsraum 201, Katharinenstraße 18, 72072 Tübingen
END:VEVENT
END:VCALENDAR