BEGIN:VCALENDAR
VERSION:2.0
PRODID:https://www.kufer.de/kuferweb / DE
METHOD:PUBLISH
CALSCALE:GREGORIAN
X-WR-TIMEZONE:Europe/Berlin
BEGIN:VTIMEZONE
TZID:Europe/Berlin
X-LIC-LOCATION:Europe/Berlin
BEGIN:DAYLIGHT
TZOFFSETFROM:+0100
TZOFFSETTO:+0200
TZNAME:CEST
DTSTART:19700329T020000
RRULE:FREQ=YEARLY;INTERVAL=1;BYDAY=-1SU;BYMONTH=3
END:DAYLIGHT
BEGIN:STANDARD
TZOFFSETFROM:+0200
TZOFFSETTO:+0100
TZNAME:CET
DTSTART:19701025T030000
RRULE:FREQ=YEARLY;INTERVAL=1;BYDAY=-1SU;BYMONTH=10
END:STANDARD
END:VTIMEZONE
BEGIN:VEVENT
DTSTAMP:20260421T132152
DTSTART;TZID=Europe/Berlin:20270121T083000
DTEND;TZID=Europe/Berlin:20270121T120000
UID:262-474295-20270121T083000@VHSTÜBINGEN
SUMMARY:Deutsch Intensiv A2.2/ Integrationskurs 316 (262-474295) 
LOCATION:vhs, Schulungsraum 215, Katharinenstraße 18, 72072 Tübingen
END:VEVENT
BEGIN:VEVENT
DTSTAMP:20260421T132152
DTSTART;TZID=Europe/Berlin:20270122T083000
DTEND;TZID=Europe/Berlin:20270122T120000
UID:262-474295-20270122T083000@VHSTÜBINGEN
SUMMARY:Deutsch Intensiv A2.2/ Integrationskurs 316 (262-474295) 
LOCATION:vhs, Schulungsraum 215, Katharinenstraße 18, 72072 Tübingen
END:VEVENT
BEGIN:VEVENT
DTSTAMP:20260421T132152
DTSTART;TZID=Europe/Berlin:20270125T083000
DTEND;TZID=Europe/Berlin:20270125T120000
UID:262-474295-20270125T083000@VHSTÜBINGEN
SUMMARY:Deutsch Intensiv A2.2/ Integrationskurs 316 (262-474295) 
LOCATION:vhs, Schulungsraum 215, Katharinenstraße 18, 72072 Tübingen
END:VEVENT
BEGIN:VEVENT
DTSTAMP:20260421T132152
DTSTART;TZID=Europe/Berlin:20270126T083000
DTEND;TZID=Europe/Berlin:20270126T120000
UID:262-474295-20270126T083000@VHSTÜBINGEN
SUMMARY:Deutsch Intensiv A2.2/ Integrationskurs 316 (262-474295) 
LOCATION:vhs, Schulungsraum 215, Katharinenstraße 18, 72072 Tübingen
END:VEVENT
BEGIN:VEVENT
DTSTAMP:20260421T132152
DTSTART;TZID=Europe/Berlin:20270127T083000
DTEND;TZID=Europe/Berlin:20270127T120000
UID:262-474295-20270127T083000@VHSTÜBINGEN
SUMMARY:Deutsch Intensiv A2.2/ Integrationskurs 316 (262-474295) 
LOCATION:vhs, Schulungsraum 215, Katharinenstraße 18, 72072 Tübingen
END:VEVENT
BEGIN:VEVENT
DTSTAMP:20260421T132152
DTSTART;TZID=Europe/Berlin:20270128T083000
DTEND;TZID=Europe/Berlin:20270128T120000
UID:262-474295-20270128T083000@VHSTÜBINGEN
SUMMARY:Deutsch Intensiv A2.2/ Integrationskurs 316 (262-474295) 
LOCATION:vhs, Schulungsraum 215, Katharinenstraße 18, 72072 Tübingen
END:VEVENT
BEGIN:VEVENT
DTSTAMP:20260421T132152
DTSTART;TZID=Europe/Berlin:20270129T083000
DTEND;TZID=Europe/Berlin:20270129T120000
UID:262-474295-20270129T083000@VHSTÜBINGEN
SUMMARY:Deutsch Intensiv A2.2/ Integrationskurs 316 (262-474295) 
LOCATION:vhs, Schulungsraum 215, Katharinenstraße 18, 72072 Tübingen
END:VEVENT
BEGIN:VEVENT
DTSTAMP:20260421T132152
DTSTART;TZID=Europe/Berlin:20270201T083000
DTEND;TZID=Europe/Berlin:20270201T120000
UID:262-474295-20270201T083000@VHSTÜBINGEN
SUMMARY:Deutsch Intensiv A2.2/ Integrationskurs 316 (262-474295) 
LOCATION:vhs, Schulungsraum 215, Katharinenstraße 18, 72072 Tübingen
END:VEVENT
BEGIN:VEVENT
DTSTAMP:20260421T132152
DTSTART;TZID=Europe/Berlin:20270202T083000
DTEND;TZID=Europe/Berlin:20270202T120000
UID:262-474295-20270202T083000@VHSTÜBINGEN
SUMMARY:Deutsch Intensiv A2.2/ Integrationskurs 316 (262-474295) 
LOCATION:vhs, Schulungsraum 215, Katharinenstraße 18, 72072 Tübingen
END:VEVENT
BEGIN:VEVENT
DTSTAMP:20260421T132152
DTSTART;TZID=Europe/Berlin:20270203T083000
DTEND;TZID=Europe/Berlin:20270203T120000
UID:262-474295-20270203T083000@VHSTÜBINGEN
SUMMARY:Deutsch Intensiv A2.2/ Integrationskurs 316 (262-474295) 
LOCATION:vhs, Schulungsraum 215, Katharinenstraße 18, 72072 Tübingen
END:VEVENT
BEGIN:VEVENT
DTSTAMP:20260421T132152
DTSTART;TZID=Europe/Berlin:20270204T083000
DTEND;TZID=Europe/Berlin:20270204T120000
UID:262-474295-20270204T083000@VHSTÜBINGEN
SUMMARY:Deutsch Intensiv A2.2/ Integrationskurs 316 (262-474295) 
LOCATION:vhs, Schulungsraum 215, Katharinenstraße 18, 72072 Tübingen
END:VEVENT
BEGIN:VEVENT
DTSTAMP:20260421T132152
DTSTART;TZID=Europe/Berlin:20270205T083000
DTEND;TZID=Europe/Berlin:20270205T120000
UID:262-474295-20270205T083000@VHSTÜBINGEN
SUMMARY:Deutsch Intensiv A2.2/ Integrationskurs 316 (262-474295) 
LOCATION:vhs, Schulungsraum 215, Katharinenstraße 18, 72072 Tübingen
END:VEVENT
BEGIN:VEVENT
DTSTAMP:20260421T132152
DTSTART;TZID=Europe/Berlin:20270215T083000
DTEND;TZID=Europe/Berlin:20270215T120000
UID:262-474295-20270215T083000@VHSTÜBINGEN
SUMMARY:Deutsch Intensiv A2.2/ Integrationskurs 316 (262-474295) 
LOCATION:vhs, Schulungsraum 215, Katharinenstraße 18, 72072 Tübingen
END:VEVENT
BEGIN:VEVENT
DTSTAMP:20260421T132152
DTSTART;TZID=Europe/Berlin:20270216T083000
DTEND;TZID=Europe/Berlin:20270216T120000
UID:262-474295-20270216T083000@VHSTÜBINGEN
SUMMARY:Deutsch Intensiv A2.2/ Integrationskurs 316 (262-474295) 
LOCATION:vhs, Schulungsraum 215, Katharinenstraße 18, 72072 Tübingen
END:VEVENT
BEGIN:VEVENT
DTSTAMP:20260421T132152
DTSTART;TZID=Europe/Berlin:20270217T083000
DTEND;TZID=Europe/Berlin:20270217T120000
UID:262-474295-20270217T083000@VHSTÜBINGEN
SUMMARY:Deutsch Intensiv A2.2/ Integrationskurs 316 (262-474295) 
LOCATION:vhs, Schulungsraum 215, Katharinenstraße 18, 72072 Tübingen
END:VEVENT
BEGIN:VEVENT
DTSTAMP:20260421T132152
DTSTART;TZID=Europe/Berlin:20270218T083000
DTEND;TZID=Europe/Berlin:20270218T120000
UID:262-474295-20270218T083000@VHSTÜBINGEN
SUMMARY:Deutsch Intensiv A2.2/ Integrationskurs 316 (262-474295) 
LOCATION:vhs, Schulungsraum 215, Katharinenstraße 18, 72072 Tübingen
END:VEVENT
BEGIN:VEVENT
DTSTAMP:20260421T132152
DTSTART;TZID=Europe/Berlin:20270219T083000
DTEND;TZID=Europe/Berlin:20270219T120000
UID:262-474295-20270219T083000@VHSTÜBINGEN
SUMMARY:Deutsch Intensiv A2.2/ Integrationskurs 316 (262-474295) 
LOCATION:vhs, Schulungsraum 215, Katharinenstraße 18, 72072 Tübingen
END:VEVENT
BEGIN:VEVENT
DTSTAMP:20260421T132152
DTSTART;TZID=Europe/Berlin:20270222T083000
DTEND;TZID=Europe/Berlin:20270222T120000
UID:262-474295-20270222T083000@VHSTÜBINGEN
SUMMARY:Deutsch Intensiv A2.2/ Integrationskurs 316 (262-474295) 
LOCATION:vhs, Schulungsraum 215, Katharinenstraße 18, 72072 Tübingen
END:VEVENT
BEGIN:VEVENT
DTSTAMP:20260421T132152
DTSTART;TZID=Europe/Berlin:20270223T083000
DTEND;TZID=Europe/Berlin:20270223T120000
UID:262-474295-20270223T083000@VHSTÜBINGEN
SUMMARY:Deutsch Intensiv A2.2/ Integrationskurs 316 (262-474295) 
LOCATION:vhs, Schulungsraum 215, Katharinenstraße 18, 72072 Tübingen
END:VEVENT
BEGIN:VEVENT
DTSTAMP:20260421T132152
DTSTART;TZID=Europe/Berlin:20270224T083000
DTEND;TZID=Europe/Berlin:20270224T120000
UID:262-474295-20270224T083000@VHSTÜBINGEN
SUMMARY:Deutsch Intensiv A2.2/ Integrationskurs 316 (262-474295) 
LOCATION:vhs, Schulungsraum 215, Katharinenstraße 18, 72072 Tübingen
END:VEVENT
BEGIN:VEVENT
DTSTAMP:20260421T132152
DTSTART;TZID=Europe/Berlin:20270225T083000
DTEND;TZID=Europe/Berlin:20270225T120000
UID:262-474295-20270225T083000@VHSTÜBINGEN
SUMMARY:Deutsch Intensiv A2.2/ Integrationskurs 316 (262-474295) 
LOCATION:vhs, Schulungsraum 215, Katharinenstraße 18, 72072 Tübingen
END:VEVENT
BEGIN:VEVENT
DTSTAMP:20260421T132152
DTSTART;TZID=Europe/Berlin:20270226T083000
DTEND;TZID=Europe/Berlin:20270226T120000
UID:262-474295-20270226T083000@VHSTÜBINGEN
SUMMARY:Deutsch Intensiv A2.2/ Integrationskurs 316 (262-474295) 
LOCATION:vhs, Schulungsraum 215, Katharinenstraße 18, 72072 Tübingen
END:VEVENT
BEGIN:VEVENT
DTSTAMP:20260421T132152
DTSTART;TZID=Europe/Berlin:20270301T083000
DTEND;TZID=Europe/Berlin:20270301T120000
UID:262-474295-20270301T083000@VHSTÜBINGEN
SUMMARY:Deutsch Intensiv A2.2/ Integrationskurs 316 (262-474295) 
LOCATION:vhs, Schulungsraum 215, Katharinenstraße 18, 72072 Tübingen
END:VEVENT
BEGIN:VEVENT
DTSTAMP:20260421T132152
DTSTART;TZID=Europe/Berlin:20270302T083000
DTEND;TZID=Europe/Berlin:20270302T120000
UID:262-474295-20270302T083000@VHSTÜBINGEN
SUMMARY:Deutsch Intensiv A2.2/ Integrationskurs 316 (262-474295) 
LOCATION:vhs, Schulungsraum 215, Katharinenstraße 18, 72072 Tübingen
END:VEVENT
BEGIN:VEVENT
DTSTAMP:20260421T132152
DTSTART;TZID=Europe/Berlin:20270303T083000
DTEND;TZID=Europe/Berlin:20270303T120000
UID:262-474295-20270303T083000@VHSTÜBINGEN
SUMMARY:Deutsch Intensiv A2.2/ Integrationskurs 316 (262-474295) 
LOCATION:vhs, Schulungsraum 215, Katharinenstraße 18, 72072 Tübingen
END:VEVENT
END:VCALENDAR