BEGIN:VCALENDAR
VERSION:2.0
PRODID:https://www.kufer.de/kuferweb / DE
METHOD:PUBLISH
CALSCALE:GREGORIAN
X-WR-TIMEZONE:Europe/Berlin
BEGIN:VTIMEZONE
TZID:Europe/Berlin
X-LIC-LOCATION:Europe/Berlin
BEGIN:DAYLIGHT
TZOFFSETFROM:+0100
TZOFFSETTO:+0200
TZNAME:CEST
DTSTART:19700329T020000
RRULE:FREQ=YEARLY;INTERVAL=1;BYDAY=-1SU;BYMONTH=3
END:DAYLIGHT
BEGIN:STANDARD
TZOFFSETFROM:+0200
TZOFFSETTO:+0100
TZNAME:CET
DTSTART:19701025T030000
RRULE:FREQ=YEARLY;INTERVAL=1;BYDAY=-1SU;BYMONTH=10
END:STANDARD
END:VTIMEZONE
BEGIN:VEVENT
DTSTAMP:20260421T143123
DTSTART;TZID=Europe/Berlin:20261013T083000
DTEND;TZID=Europe/Berlin:20261013T123000
UID:262-474310-20261013T083000@VHSTÜBINGEN
SUMMARY:Deutsch Intensiv A2.2/ Integrationskurs 310 (262-474310) 
LOCATION:15 Seminar Tübingen, Raum 100, Mathildenstraße 32, 72072 Tübingen
END:VEVENT
BEGIN:VEVENT
DTSTAMP:20260421T143123
DTSTART;TZID=Europe/Berlin:20261015T083000
DTEND;TZID=Europe/Berlin:20261015T123000
UID:262-474310-20261015T083000@VHSTÜBINGEN
SUMMARY:Deutsch Intensiv A2.2/ Integrationskurs 310 (262-474310) 
LOCATION:15 Seminar Tübingen, Raum 100, Mathildenstraße 32, 72072 Tübingen
END:VEVENT
BEGIN:VEVENT
DTSTAMP:20260421T143123
DTSTART;TZID=Europe/Berlin:20261016T083000
DTEND;TZID=Europe/Berlin:20261016T123000
UID:262-474310-20261016T083000@VHSTÜBINGEN
SUMMARY:Deutsch Intensiv A2.2/ Integrationskurs 310 (262-474310) 
LOCATION:15 Seminar Tübingen, Raum 100, Mathildenstraße 32, 72072 Tübingen
END:VEVENT
BEGIN:VEVENT
DTSTAMP:20260421T143123
DTSTART;TZID=Europe/Berlin:20261019T083000
DTEND;TZID=Europe/Berlin:20261019T123000
UID:262-474310-20261019T083000@VHSTÜBINGEN
SUMMARY:Deutsch Intensiv A2.2/ Integrationskurs 310 (262-474310) 
LOCATION:15 Seminar Tübingen, Raum 100, Mathildenstraße 32, 72072 Tübingen
END:VEVENT
BEGIN:VEVENT
DTSTAMP:20260421T143123
DTSTART;TZID=Europe/Berlin:20261020T083000
DTEND;TZID=Europe/Berlin:20261020T123000
UID:262-474310-20261020T083000@VHSTÜBINGEN
SUMMARY:Deutsch Intensiv A2.2/ Integrationskurs 310 (262-474310) 
LOCATION:15 Seminar Tübingen, Raum 100, Mathildenstraße 32, 72072 Tübingen
END:VEVENT
BEGIN:VEVENT
DTSTAMP:20260421T143123
DTSTART;TZID=Europe/Berlin:20261022T083000
DTEND;TZID=Europe/Berlin:20261022T123000
UID:262-474310-20261022T083000@VHSTÜBINGEN
SUMMARY:Deutsch Intensiv A2.2/ Integrationskurs 310 (262-474310) 
LOCATION:15 Seminar Tübingen, Raum 100, Mathildenstraße 32, 72072 Tübingen
END:VEVENT
BEGIN:VEVENT
DTSTAMP:20260421T143123
DTSTART;TZID=Europe/Berlin:20261023T083000
DTEND;TZID=Europe/Berlin:20261023T123000
UID:262-474310-20261023T083000@VHSTÜBINGEN
SUMMARY:Deutsch Intensiv A2.2/ Integrationskurs 310 (262-474310) 
LOCATION:15 Seminar Tübingen, Raum 100, Mathildenstraße 32, 72072 Tübingen
END:VEVENT
BEGIN:VEVENT
DTSTAMP:20260421T143123
DTSTART;TZID=Europe/Berlin:20261102T083000
DTEND;TZID=Europe/Berlin:20261102T123000
UID:262-474310-20261102T083000@VHSTÜBINGEN
SUMMARY:Deutsch Intensiv A2.2/ Integrationskurs 310 (262-474310) 
LOCATION:15 Seminar Tübingen, Raum 100, Mathildenstraße 32, 72072 Tübingen
END:VEVENT
BEGIN:VEVENT
DTSTAMP:20260421T143123
DTSTART;TZID=Europe/Berlin:20261103T083000
DTEND;TZID=Europe/Berlin:20261103T123000
UID:262-474310-20261103T083000@VHSTÜBINGEN
SUMMARY:Deutsch Intensiv A2.2/ Integrationskurs 310 (262-474310) 
LOCATION:15 Seminar Tübingen, Raum 100, Mathildenstraße 32, 72072 Tübingen
END:VEVENT
BEGIN:VEVENT
DTSTAMP:20260421T143123
DTSTART;TZID=Europe/Berlin:20261105T083000
DTEND;TZID=Europe/Berlin:20261105T123000
UID:262-474310-20261105T083000@VHSTÜBINGEN
SUMMARY:Deutsch Intensiv A2.2/ Integrationskurs 310 (262-474310) 
LOCATION:15 Seminar Tübingen, Raum 100, Mathildenstraße 32, 72072 Tübingen
END:VEVENT
BEGIN:VEVENT
DTSTAMP:20260421T143123
DTSTART;TZID=Europe/Berlin:20261106T083000
DTEND;TZID=Europe/Berlin:20261106T123000
UID:262-474310-20261106T083000@VHSTÜBINGEN
SUMMARY:Deutsch Intensiv A2.2/ Integrationskurs 310 (262-474310) 
LOCATION:15 Seminar Tübingen, Raum 100, Mathildenstraße 32, 72072 Tübingen
END:VEVENT
BEGIN:VEVENT
DTSTAMP:20260421T143123
DTSTART;TZID=Europe/Berlin:20261109T083000
DTEND;TZID=Europe/Berlin:20261109T123000
UID:262-474310-20261109T083000@VHSTÜBINGEN
SUMMARY:Deutsch Intensiv A2.2/ Integrationskurs 310 (262-474310) 
LOCATION:15 Seminar Tübingen, Raum 100, Mathildenstraße 32, 72072 Tübingen
END:VEVENT
BEGIN:VEVENT
DTSTAMP:20260421T143123
DTSTART;TZID=Europe/Berlin:20261110T083000
DTEND;TZID=Europe/Berlin:20261110T123000
UID:262-474310-20261110T083000@VHSTÜBINGEN
SUMMARY:Deutsch Intensiv A2.2/ Integrationskurs 310 (262-474310) 
LOCATION:15 Seminar Tübingen, Raum 100, Mathildenstraße 32, 72072 Tübingen
END:VEVENT
BEGIN:VEVENT
DTSTAMP:20260421T143123
DTSTART;TZID=Europe/Berlin:20261112T083000
DTEND;TZID=Europe/Berlin:20261112T123000
UID:262-474310-20261112T083000@VHSTÜBINGEN
SUMMARY:Deutsch Intensiv A2.2/ Integrationskurs 310 (262-474310) 
LOCATION:15 Seminar Tübingen, Raum 100, Mathildenstraße 32, 72072 Tübingen
END:VEVENT
BEGIN:VEVENT
DTSTAMP:20260421T143123
DTSTART;TZID=Europe/Berlin:20261113T083000
DTEND;TZID=Europe/Berlin:20261113T123000
UID:262-474310-20261113T083000@VHSTÜBINGEN
SUMMARY:Deutsch Intensiv A2.2/ Integrationskurs 310 (262-474310) 
LOCATION:15 Seminar Tübingen, Raum 100, Mathildenstraße 32, 72072 Tübingen
END:VEVENT
BEGIN:VEVENT
DTSTAMP:20260421T143123
DTSTART;TZID=Europe/Berlin:20261116T083000
DTEND;TZID=Europe/Berlin:20261116T123000
UID:262-474310-20261116T083000@VHSTÜBINGEN
SUMMARY:Deutsch Intensiv A2.2/ Integrationskurs 310 (262-474310) 
LOCATION:15 Seminar Tübingen, Raum 100, Mathildenstraße 32, 72072 Tübingen
END:VEVENT
BEGIN:VEVENT
DTSTAMP:20260421T143123
DTSTART;TZID=Europe/Berlin:20261117T083000
DTEND;TZID=Europe/Berlin:20261117T123000
UID:262-474310-20261117T083000@VHSTÜBINGEN
SUMMARY:Deutsch Intensiv A2.2/ Integrationskurs 310 (262-474310) 
LOCATION:15 Seminar Tübingen, Raum 100, Mathildenstraße 32, 72072 Tübingen
END:VEVENT
BEGIN:VEVENT
DTSTAMP:20260421T143123
DTSTART;TZID=Europe/Berlin:20261119T083000
DTEND;TZID=Europe/Berlin:20261119T123000
UID:262-474310-20261119T083000@VHSTÜBINGEN
SUMMARY:Deutsch Intensiv A2.2/ Integrationskurs 310 (262-474310) 
LOCATION:15 Seminar Tübingen, Raum 100, Mathildenstraße 32, 72072 Tübingen
END:VEVENT
BEGIN:VEVENT
DTSTAMP:20260421T143123
DTSTART;TZID=Europe/Berlin:20261120T083000
DTEND;TZID=Europe/Berlin:20261120T123000
UID:262-474310-20261120T083000@VHSTÜBINGEN
SUMMARY:Deutsch Intensiv A2.2/ Integrationskurs 310 (262-474310) 
LOCATION:15 Seminar Tübingen, Raum 100, Mathildenstraße 32, 72072 Tübingen
END:VEVENT
BEGIN:VEVENT
DTSTAMP:20260421T143123
DTSTART;TZID=Europe/Berlin:20261123T083000
DTEND;TZID=Europe/Berlin:20261123T123000
UID:262-474310-20261123T083000@VHSTÜBINGEN
SUMMARY:Deutsch Intensiv A2.2/ Integrationskurs 310 (262-474310) 
LOCATION:15 Seminar Tübingen, Raum 100, Mathildenstraße 32, 72072 Tübingen
END:VEVENT
END:VCALENDAR