BEGIN:VCALENDAR
VERSION:2.0
PRODID:https://www.kufer.de/kuferweb / DE
METHOD:PUBLISH
CALSCALE:GREGORIAN
X-WR-TIMEZONE:Europe/Berlin
BEGIN:VTIMEZONE
TZID:Europe/Berlin
X-LIC-LOCATION:Europe/Berlin
BEGIN:DAYLIGHT
TZOFFSETFROM:+0100
TZOFFSETTO:+0200
TZNAME:CEST
DTSTART:19700329T020000
RRULE:FREQ=YEARLY;INTERVAL=1;BYDAY=-1SU;BYMONTH=3
END:DAYLIGHT
BEGIN:STANDARD
TZOFFSETFROM:+0200
TZOFFSETTO:+0100
TZNAME:CET
DTSTART:19701025T030000
RRULE:FREQ=YEARLY;INTERVAL=1;BYDAY=-1SU;BYMONTH=10
END:STANDARD
END:VTIMEZONE
BEGIN:VEVENT
DTSTAMP:20260421T134003
DTSTART;TZID=Europe/Berlin:20261124T083000
DTEND;TZID=Europe/Berlin:20261124T120000
UID:262-474312-20261124T083000@VHSTÜBINGEN
SUMMARY:Deutsch Intensiv A2.2/ Integrationskurs 312 (262-474312) 
LOCATION:15 Seminar Tübingen, Raum 101, Mathildenstraße 32, 72072 Tübingen
END:VEVENT
BEGIN:VEVENT
DTSTAMP:20260421T134003
DTSTART;TZID=Europe/Berlin:20261125T083000
DTEND;TZID=Europe/Berlin:20261125T120000
UID:262-474312-20261125T083000@VHSTÜBINGEN
SUMMARY:Deutsch Intensiv A2.2/ Integrationskurs 312 (262-474312) 
LOCATION:vhs, Schulungsraum 112, Katharinenstraße 18, 72072 Tübingen
END:VEVENT
BEGIN:VEVENT
DTSTAMP:20260421T134003
DTSTART;TZID=Europe/Berlin:20261126T083000
DTEND;TZID=Europe/Berlin:20261126T120000
UID:262-474312-20261126T083000@VHSTÜBINGEN
SUMMARY:Deutsch Intensiv A2.2/ Integrationskurs 312 (262-474312) 
LOCATION:15 Seminar Tübingen, Raum 101, Mathildenstraße 32, 72072 Tübingen
END:VEVENT
BEGIN:VEVENT
DTSTAMP:20260421T134003
DTSTART;TZID=Europe/Berlin:20261127T083000
DTEND;TZID=Europe/Berlin:20261127T120000
UID:262-474312-20261127T083000@VHSTÜBINGEN
SUMMARY:Deutsch Intensiv A2.2/ Integrationskurs 312 (262-474312) 
LOCATION:15 Seminar Tübingen, Raum 101, Mathildenstraße 32, 72072 Tübingen
END:VEVENT
BEGIN:VEVENT
DTSTAMP:20260421T134003
DTSTART;TZID=Europe/Berlin:20261130T083000
DTEND;TZID=Europe/Berlin:20261130T120000
UID:262-474312-20261130T083000@VHSTÜBINGEN
SUMMARY:Deutsch Intensiv A2.2/ Integrationskurs 312 (262-474312) 
LOCATION:15 Seminar Tübingen, Raum 101, Mathildenstraße 32, 72072 Tübingen
END:VEVENT
BEGIN:VEVENT
DTSTAMP:20260421T134003
DTSTART;TZID=Europe/Berlin:20261201T083000
DTEND;TZID=Europe/Berlin:20261201T120000
UID:262-474312-20261201T083000@VHSTÜBINGEN
SUMMARY:Deutsch Intensiv A2.2/ Integrationskurs 312 (262-474312) 
LOCATION:15 Seminar Tübingen, Raum 101, Mathildenstraße 32, 72072 Tübingen
END:VEVENT
BEGIN:VEVENT
DTSTAMP:20260421T134003
DTSTART;TZID=Europe/Berlin:20261202T083000
DTEND;TZID=Europe/Berlin:20261202T120000
UID:262-474312-20261202T083000@VHSTÜBINGEN
SUMMARY:Deutsch Intensiv A2.2/ Integrationskurs 312 (262-474312) 
LOCATION:vhs, Schulungsraum 112, Katharinenstraße 18, 72072 Tübingen
END:VEVENT
BEGIN:VEVENT
DTSTAMP:20260421T134003
DTSTART;TZID=Europe/Berlin:20261203T083000
DTEND;TZID=Europe/Berlin:20261203T120000
UID:262-474312-20261203T083000@VHSTÜBINGEN
SUMMARY:Deutsch Intensiv A2.2/ Integrationskurs 312 (262-474312) 
LOCATION:15 Seminar Tübingen, Raum 101, Mathildenstraße 32, 72072 Tübingen
END:VEVENT
BEGIN:VEVENT
DTSTAMP:20260421T134003
DTSTART;TZID=Europe/Berlin:20261204T083000
DTEND;TZID=Europe/Berlin:20261204T120000
UID:262-474312-20261204T083000@VHSTÜBINGEN
SUMMARY:Deutsch Intensiv A2.2/ Integrationskurs 312 (262-474312) 
LOCATION:15 Seminar Tübingen, Raum 101, Mathildenstraße 32, 72072 Tübingen
END:VEVENT
BEGIN:VEVENT
DTSTAMP:20260421T134003
DTSTART;TZID=Europe/Berlin:20261207T083000
DTEND;TZID=Europe/Berlin:20261207T120000
UID:262-474312-20261207T083000@VHSTÜBINGEN
SUMMARY:Deutsch Intensiv A2.2/ Integrationskurs 312 (262-474312) 
LOCATION:15 Seminar Tübingen, Raum 101, Mathildenstraße 32, 72072 Tübingen
END:VEVENT
BEGIN:VEVENT
DTSTAMP:20260421T134003
DTSTART;TZID=Europe/Berlin:20261208T083000
DTEND;TZID=Europe/Berlin:20261208T120000
UID:262-474312-20261208T083000@VHSTÜBINGEN
SUMMARY:Deutsch Intensiv A2.2/ Integrationskurs 312 (262-474312) 
LOCATION:15 Seminar Tübingen, Raum 101, Mathildenstraße 32, 72072 Tübingen
END:VEVENT
BEGIN:VEVENT
DTSTAMP:20260421T134003
DTSTART;TZID=Europe/Berlin:20261209T083000
DTEND;TZID=Europe/Berlin:20261209T120000
UID:262-474312-20261209T083000@VHSTÜBINGEN
SUMMARY:Deutsch Intensiv A2.2/ Integrationskurs 312 (262-474312) 
LOCATION:vhs, Schulungsraum 112, Katharinenstraße 18, 72072 Tübingen
END:VEVENT
BEGIN:VEVENT
DTSTAMP:20260421T134003
DTSTART;TZID=Europe/Berlin:20261210T083000
DTEND;TZID=Europe/Berlin:20261210T120000
UID:262-474312-20261210T083000@VHSTÜBINGEN
SUMMARY:Deutsch Intensiv A2.2/ Integrationskurs 312 (262-474312) 
LOCATION:15 Seminar Tübingen, Raum 101, Mathildenstraße 32, 72072 Tübingen
END:VEVENT
BEGIN:VEVENT
DTSTAMP:20260421T134003
DTSTART;TZID=Europe/Berlin:20261211T083000
DTEND;TZID=Europe/Berlin:20261211T120000
UID:262-474312-20261211T083000@VHSTÜBINGEN
SUMMARY:Deutsch Intensiv A2.2/ Integrationskurs 312 (262-474312) 
LOCATION:15 Seminar Tübingen, Raum 101, Mathildenstraße 32, 72072 Tübingen
END:VEVENT
BEGIN:VEVENT
DTSTAMP:20260421T134003
DTSTART;TZID=Europe/Berlin:20261214T083000
DTEND;TZID=Europe/Berlin:20261214T120000
UID:262-474312-20261214T083000@VHSTÜBINGEN
SUMMARY:Deutsch Intensiv A2.2/ Integrationskurs 312 (262-474312) 
LOCATION:15 Seminar Tübingen, Raum 101, Mathildenstraße 32, 72072 Tübingen
END:VEVENT
BEGIN:VEVENT
DTSTAMP:20260421T134003
DTSTART;TZID=Europe/Berlin:20261215T083000
DTEND;TZID=Europe/Berlin:20261215T120000
UID:262-474312-20261215T083000@VHSTÜBINGEN
SUMMARY:Deutsch Intensiv A2.2/ Integrationskurs 312 (262-474312) 
LOCATION:15 Seminar Tübingen, Raum 101, Mathildenstraße 32, 72072 Tübingen
END:VEVENT
BEGIN:VEVENT
DTSTAMP:20260421T134003
DTSTART;TZID=Europe/Berlin:20261216T083000
DTEND;TZID=Europe/Berlin:20261216T120000
UID:262-474312-20261216T083000@VHSTÜBINGEN
SUMMARY:Deutsch Intensiv A2.2/ Integrationskurs 312 (262-474312) 
LOCATION:vhs, Schulungsraum 112, Katharinenstraße 18, 72072 Tübingen
END:VEVENT
BEGIN:VEVENT
DTSTAMP:20260421T134003
DTSTART;TZID=Europe/Berlin:20261217T083000
DTEND;TZID=Europe/Berlin:20261217T120000
UID:262-474312-20261217T083000@VHSTÜBINGEN
SUMMARY:Deutsch Intensiv A2.2/ Integrationskurs 312 (262-474312) 
LOCATION:15 Seminar Tübingen, Raum 101, Mathildenstraße 32, 72072 Tübingen
END:VEVENT
BEGIN:VEVENT
DTSTAMP:20260421T134003
DTSTART;TZID=Europe/Berlin:20261218T083000
DTEND;TZID=Europe/Berlin:20261218T120000
UID:262-474312-20261218T083000@VHSTÜBINGEN
SUMMARY:Deutsch Intensiv A2.2/ Integrationskurs 312 (262-474312) 
LOCATION:15 Seminar Tübingen, Raum 101, Mathildenstraße 32, 72072 Tübingen
END:VEVENT
BEGIN:VEVENT
DTSTAMP:20260421T134003
DTSTART;TZID=Europe/Berlin:20261221T083000
DTEND;TZID=Europe/Berlin:20261221T120000
UID:262-474312-20261221T083000@VHSTÜBINGEN
SUMMARY:Deutsch Intensiv A2.2/ Integrationskurs 312 (262-474312) 
LOCATION:15 Seminar Tübingen, Raum 101, Mathildenstraße 32, 72072 Tübingen
END:VEVENT
BEGIN:VEVENT
DTSTAMP:20260421T134003
DTSTART;TZID=Europe/Berlin:20261222T083000
DTEND;TZID=Europe/Berlin:20261222T120000
UID:262-474312-20261222T083000@VHSTÜBINGEN
SUMMARY:Deutsch Intensiv A2.2/ Integrationskurs 312 (262-474312) 
LOCATION:15 Seminar Tübingen, Raum 101, Mathildenstraße 32, 72072 Tübingen
END:VEVENT
BEGIN:VEVENT
DTSTAMP:20260421T134003
DTSTART;TZID=Europe/Berlin:20270111T083000
DTEND;TZID=Europe/Berlin:20270111T120000
UID:262-474312-20270111T083000@VHSTÜBINGEN
SUMMARY:Deutsch Intensiv A2.2/ Integrationskurs 312 (262-474312) 
LOCATION:15 Seminar Tübingen, Raum 101, Mathildenstraße 32, 72072 Tübingen
END:VEVENT
BEGIN:VEVENT
DTSTAMP:20260421T134003
DTSTART;TZID=Europe/Berlin:20270112T083000
DTEND;TZID=Europe/Berlin:20270112T120000
UID:262-474312-20270112T083000@VHSTÜBINGEN
SUMMARY:Deutsch Intensiv A2.2/ Integrationskurs 312 (262-474312) 
LOCATION:15 Seminar Tübingen, Raum 101, Mathildenstraße 32, 72072 Tübingen
END:VEVENT
BEGIN:VEVENT
DTSTAMP:20260421T134003
DTSTART;TZID=Europe/Berlin:20270113T083000
DTEND;TZID=Europe/Berlin:20270113T120000
UID:262-474312-20270113T083000@VHSTÜBINGEN
SUMMARY:Deutsch Intensiv A2.2/ Integrationskurs 312 (262-474312) 
LOCATION:vhs, Schulungsraum 112, Katharinenstraße 18, 72072 Tübingen
END:VEVENT
BEGIN:VEVENT
DTSTAMP:20260421T134003
DTSTART;TZID=Europe/Berlin:20270114T083000
DTEND;TZID=Europe/Berlin:20270114T120000
UID:262-474312-20270114T083000@VHSTÜBINGEN
SUMMARY:Deutsch Intensiv A2.2/ Integrationskurs 312 (262-474312) 
LOCATION:15 Seminar Tübingen, Raum 101, Mathildenstraße 32, 72072 Tübingen
END:VEVENT
END:VCALENDAR