BEGIN:VCALENDAR
VERSION:2.0
PRODID:https://www.kufer.de/kuferweb / DE
METHOD:PUBLISH
CALSCALE:GREGORIAN
X-WR-TIMEZONE:Europe/Berlin
BEGIN:VTIMEZONE
TZID:Europe/Berlin
X-LIC-LOCATION:Europe/Berlin
BEGIN:DAYLIGHT
TZOFFSETFROM:+0100
TZOFFSETTO:+0200
TZNAME:CEST
DTSTART:19700329T020000
RRULE:FREQ=YEARLY;INTERVAL=1;BYDAY=-1SU;BYMONTH=3
END:DAYLIGHT
BEGIN:STANDARD
TZOFFSETFROM:+0200
TZOFFSETTO:+0100
TZNAME:CET
DTSTART:19701025T030000
RRULE:FREQ=YEARLY;INTERVAL=1;BYDAY=-1SU;BYMONTH=10
END:STANDARD
END:VTIMEZONE
BEGIN:VEVENT
DTSTAMP:20260421T132151
DTSTART;TZID=Europe/Berlin:20270121T133000
DTEND;TZID=Europe/Berlin:20270121T164500
UID:262-474315-20270121T133000@VHSTÜBINGEN
SUMMARY:Deutsch Intensiv A2.2 / Integrationskurs 315 (262-474315) 
LOCATION:vhs, Schulungsraum 208, Katharinenstraße 18, 72072 Tübingen
END:VEVENT
BEGIN:VEVENT
DTSTAMP:20260421T132151
DTSTART;TZID=Europe/Berlin:20270122T133000
DTEND;TZID=Europe/Berlin:20270122T164500
UID:262-474315-20270122T133000@VHSTÜBINGEN
SUMMARY:Deutsch Intensiv A2.2 / Integrationskurs 315 (262-474315) 
LOCATION:vhs, Schulungsraum 208, Katharinenstraße 18, 72072 Tübingen
END:VEVENT
BEGIN:VEVENT
DTSTAMP:20260421T132151
DTSTART;TZID=Europe/Berlin:20270125T133000
DTEND;TZID=Europe/Berlin:20270125T164500
UID:262-474315-20270125T133000@VHSTÜBINGEN
SUMMARY:Deutsch Intensiv A2.2 / Integrationskurs 315 (262-474315) 
LOCATION:vhs, Schulungsraum 208, Katharinenstraße 18, 72072 Tübingen
END:VEVENT
BEGIN:VEVENT
DTSTAMP:20260421T132151
DTSTART;TZID=Europe/Berlin:20270126T133000
DTEND;TZID=Europe/Berlin:20270126T164500
UID:262-474315-20270126T133000@VHSTÜBINGEN
SUMMARY:Deutsch Intensiv A2.2 / Integrationskurs 315 (262-474315) 
LOCATION:vhs, Schulungsraum 208, Katharinenstraße 18, 72072 Tübingen
END:VEVENT
BEGIN:VEVENT
DTSTAMP:20260421T132151
DTSTART;TZID=Europe/Berlin:20270127T133000
DTEND;TZID=Europe/Berlin:20270127T164500
UID:262-474315-20270127T133000@VHSTÜBINGEN
SUMMARY:Deutsch Intensiv A2.2 / Integrationskurs 315 (262-474315) 
LOCATION:vhs, Schulungsraum 208, Katharinenstraße 18, 72072 Tübingen
END:VEVENT
BEGIN:VEVENT
DTSTAMP:20260421T132151
DTSTART;TZID=Europe/Berlin:20270128T133000
DTEND;TZID=Europe/Berlin:20270128T164500
UID:262-474315-20270128T133000@VHSTÜBINGEN
SUMMARY:Deutsch Intensiv A2.2 / Integrationskurs 315 (262-474315) 
LOCATION:vhs, Schulungsraum 208, Katharinenstraße 18, 72072 Tübingen
END:VEVENT
BEGIN:VEVENT
DTSTAMP:20260421T132151
DTSTART;TZID=Europe/Berlin:20270129T133000
DTEND;TZID=Europe/Berlin:20270129T164500
UID:262-474315-20270129T133000@VHSTÜBINGEN
SUMMARY:Deutsch Intensiv A2.2 / Integrationskurs 315 (262-474315) 
LOCATION:vhs, Schulungsraum 208, Katharinenstraße 18, 72072 Tübingen
END:VEVENT
BEGIN:VEVENT
DTSTAMP:20260421T132151
DTSTART;TZID=Europe/Berlin:20270201T133000
DTEND;TZID=Europe/Berlin:20270201T164500
UID:262-474315-20270201T133000@VHSTÜBINGEN
SUMMARY:Deutsch Intensiv A2.2 / Integrationskurs 315 (262-474315) 
LOCATION:vhs, Schulungsraum 208, Katharinenstraße 18, 72072 Tübingen
END:VEVENT
BEGIN:VEVENT
DTSTAMP:20260421T132151
DTSTART;TZID=Europe/Berlin:20270202T133000
DTEND;TZID=Europe/Berlin:20270202T164500
UID:262-474315-20270202T133000@VHSTÜBINGEN
SUMMARY:Deutsch Intensiv A2.2 / Integrationskurs 315 (262-474315) 
LOCATION:vhs, Schulungsraum 208, Katharinenstraße 18, 72072 Tübingen
END:VEVENT
BEGIN:VEVENT
DTSTAMP:20260421T132151
DTSTART;TZID=Europe/Berlin:20270203T133000
DTEND;TZID=Europe/Berlin:20270203T164500
UID:262-474315-20270203T133000@VHSTÜBINGEN
SUMMARY:Deutsch Intensiv A2.2 / Integrationskurs 315 (262-474315) 
LOCATION:vhs, Schulungsraum 208, Katharinenstraße 18, 72072 Tübingen
END:VEVENT
BEGIN:VEVENT
DTSTAMP:20260421T132151
DTSTART;TZID=Europe/Berlin:20270204T133000
DTEND;TZID=Europe/Berlin:20270204T164500
UID:262-474315-20270204T133000@VHSTÜBINGEN
SUMMARY:Deutsch Intensiv A2.2 / Integrationskurs 315 (262-474315) 
LOCATION:vhs, Schulungsraum 208, Katharinenstraße 18, 72072 Tübingen
END:VEVENT
BEGIN:VEVENT
DTSTAMP:20260421T132151
DTSTART;TZID=Europe/Berlin:20270205T133000
DTEND;TZID=Europe/Berlin:20270205T164500
UID:262-474315-20270205T133000@VHSTÜBINGEN
SUMMARY:Deutsch Intensiv A2.2 / Integrationskurs 315 (262-474315) 
LOCATION:vhs, Schulungsraum 208, Katharinenstraße 18, 72072 Tübingen
END:VEVENT
BEGIN:VEVENT
DTSTAMP:20260421T132151
DTSTART;TZID=Europe/Berlin:20270215T133000
DTEND;TZID=Europe/Berlin:20270215T164500
UID:262-474315-20270215T133000@VHSTÜBINGEN
SUMMARY:Deutsch Intensiv A2.2 / Integrationskurs 315 (262-474315) 
LOCATION:vhs, Schulungsraum 208, Katharinenstraße 18, 72072 Tübingen
END:VEVENT
BEGIN:VEVENT
DTSTAMP:20260421T132151
DTSTART;TZID=Europe/Berlin:20270216T133000
DTEND;TZID=Europe/Berlin:20270216T164500
UID:262-474315-20270216T133000@VHSTÜBINGEN
SUMMARY:Deutsch Intensiv A2.2 / Integrationskurs 315 (262-474315) 
LOCATION:vhs, Schulungsraum 208, Katharinenstraße 18, 72072 Tübingen
END:VEVENT
BEGIN:VEVENT
DTSTAMP:20260421T132151
DTSTART;TZID=Europe/Berlin:20270217T133000
DTEND;TZID=Europe/Berlin:20270217T164500
UID:262-474315-20270217T133000@VHSTÜBINGEN
SUMMARY:Deutsch Intensiv A2.2 / Integrationskurs 315 (262-474315) 
LOCATION:vhs, Schulungsraum 208, Katharinenstraße 18, 72072 Tübingen
END:VEVENT
BEGIN:VEVENT
DTSTAMP:20260421T132151
DTSTART;TZID=Europe/Berlin:20270218T133000
DTEND;TZID=Europe/Berlin:20270218T164500
UID:262-474315-20270218T133000@VHSTÜBINGEN
SUMMARY:Deutsch Intensiv A2.2 / Integrationskurs 315 (262-474315) 
LOCATION:vhs, Schulungsraum 208, Katharinenstraße 18, 72072 Tübingen
END:VEVENT
BEGIN:VEVENT
DTSTAMP:20260421T132151
DTSTART;TZID=Europe/Berlin:20270219T133000
DTEND;TZID=Europe/Berlin:20270219T164500
UID:262-474315-20270219T133000@VHSTÜBINGEN
SUMMARY:Deutsch Intensiv A2.2 / Integrationskurs 315 (262-474315) 
LOCATION:vhs, Schulungsraum 208, Katharinenstraße 18, 72072 Tübingen
END:VEVENT
BEGIN:VEVENT
DTSTAMP:20260421T132151
DTSTART;TZID=Europe/Berlin:20270222T133000
DTEND;TZID=Europe/Berlin:20270222T164500
UID:262-474315-20270222T133000@VHSTÜBINGEN
SUMMARY:Deutsch Intensiv A2.2 / Integrationskurs 315 (262-474315) 
LOCATION:vhs, Schulungsraum 208, Katharinenstraße 18, 72072 Tübingen
END:VEVENT
BEGIN:VEVENT
DTSTAMP:20260421T132151
DTSTART;TZID=Europe/Berlin:20270223T133000
DTEND;TZID=Europe/Berlin:20270223T164500
UID:262-474315-20270223T133000@VHSTÜBINGEN
SUMMARY:Deutsch Intensiv A2.2 / Integrationskurs 315 (262-474315) 
LOCATION:vhs, Schulungsraum 208, Katharinenstraße 18, 72072 Tübingen
END:VEVENT
BEGIN:VEVENT
DTSTAMP:20260421T132151
DTSTART;TZID=Europe/Berlin:20270224T133000
DTEND;TZID=Europe/Berlin:20270224T164500
UID:262-474315-20270224T133000@VHSTÜBINGEN
SUMMARY:Deutsch Intensiv A2.2 / Integrationskurs 315 (262-474315) 
LOCATION:vhs, Schulungsraum 208, Katharinenstraße 18, 72072 Tübingen
END:VEVENT
BEGIN:VEVENT
DTSTAMP:20260421T132151
DTSTART;TZID=Europe/Berlin:20270225T133000
DTEND;TZID=Europe/Berlin:20270225T164500
UID:262-474315-20270225T133000@VHSTÜBINGEN
SUMMARY:Deutsch Intensiv A2.2 / Integrationskurs 315 (262-474315) 
LOCATION:vhs, Schulungsraum 208, Katharinenstraße 18, 72072 Tübingen
END:VEVENT
BEGIN:VEVENT
DTSTAMP:20260421T132151
DTSTART;TZID=Europe/Berlin:20270226T133000
DTEND;TZID=Europe/Berlin:20270226T164500
UID:262-474315-20270226T133000@VHSTÜBINGEN
SUMMARY:Deutsch Intensiv A2.2 / Integrationskurs 315 (262-474315) 
LOCATION:vhs, Schulungsraum 208, Katharinenstraße 18, 72072 Tübingen
END:VEVENT
BEGIN:VEVENT
DTSTAMP:20260421T132151
DTSTART;TZID=Europe/Berlin:20270301T133000
DTEND;TZID=Europe/Berlin:20270301T164500
UID:262-474315-20270301T133000@VHSTÜBINGEN
SUMMARY:Deutsch Intensiv A2.2 / Integrationskurs 315 (262-474315) 
LOCATION:vhs, Schulungsraum 208, Katharinenstraße 18, 72072 Tübingen
END:VEVENT
BEGIN:VEVENT
DTSTAMP:20260421T132151
DTSTART;TZID=Europe/Berlin:20270302T133000
DTEND;TZID=Europe/Berlin:20270302T164500
UID:262-474315-20270302T133000@VHSTÜBINGEN
SUMMARY:Deutsch Intensiv A2.2 / Integrationskurs 315 (262-474315) 
LOCATION:vhs, Schulungsraum 208, Katharinenstraße 18, 72072 Tübingen
END:VEVENT
BEGIN:VEVENT
DTSTAMP:20260421T132151
DTSTART;TZID=Europe/Berlin:20270303T133000
DTEND;TZID=Europe/Berlin:20270303T164500
UID:262-474315-20270303T133000@VHSTÜBINGEN
SUMMARY:Deutsch Intensiv A2.2 / Integrationskurs 315 (262-474315) 
LOCATION:vhs, Schulungsraum 208, Katharinenstraße 18, 72072 Tübingen
END:VEVENT
END:VCALENDAR