BEGIN:VCALENDAR
VERSION:2.0
PRODID:https://www.kufer.de/kuferweb / DE
METHOD:PUBLISH
CALSCALE:GREGORIAN
X-WR-TIMEZONE:Europe/Berlin
BEGIN:VTIMEZONE
TZID:Europe/Berlin
X-LIC-LOCATION:Europe/Berlin
BEGIN:DAYLIGHT
TZOFFSETFROM:+0100
TZOFFSETTO:+0200
TZNAME:CEST
DTSTART:19700329T020000
RRULE:FREQ=YEARLY;INTERVAL=1;BYDAY=-1SU;BYMONTH=3
END:DAYLIGHT
BEGIN:STANDARD
TZOFFSETFROM:+0200
TZOFFSETTO:+0100
TZNAME:CET
DTSTART:19701025T030000
RRULE:FREQ=YEARLY;INTERVAL=1;BYDAY=-1SU;BYMONTH=10
END:STANDARD
END:VTIMEZONE
BEGIN:VEVENT
DTSTAMP:20260421T132123
DTSTART;TZID=Europe/Berlin:20261124T083000
DTEND;TZID=Europe/Berlin:20261124T123000
UID:262-475310-20261124T083000@VHSTÜBINGEN
SUMMARY:Deutsch Intensiv B1.1/ Integrationskurs 310 (262-475310) 
LOCATION:15 Seminar Tübingen, Raum 100, Mathildenstraße 32, 72072 Tübingen
END:VEVENT
BEGIN:VEVENT
DTSTAMP:20260421T132123
DTSTART;TZID=Europe/Berlin:20261126T083000
DTEND;TZID=Europe/Berlin:20261126T123000
UID:262-475310-20261126T083000@VHSTÜBINGEN
SUMMARY:Deutsch Intensiv B1.1/ Integrationskurs 310 (262-475310) 
LOCATION:15 Seminar Tübingen, Raum 100, Mathildenstraße 32, 72072 Tübingen
END:VEVENT
BEGIN:VEVENT
DTSTAMP:20260421T132123
DTSTART;TZID=Europe/Berlin:20261127T083000
DTEND;TZID=Europe/Berlin:20261127T123000
UID:262-475310-20261127T083000@VHSTÜBINGEN
SUMMARY:Deutsch Intensiv B1.1/ Integrationskurs 310 (262-475310) 
LOCATION:15 Seminar Tübingen, Raum 100, Mathildenstraße 32, 72072 Tübingen
END:VEVENT
BEGIN:VEVENT
DTSTAMP:20260421T132123
DTSTART;TZID=Europe/Berlin:20261130T083000
DTEND;TZID=Europe/Berlin:20261130T123000
UID:262-475310-20261130T083000@VHSTÜBINGEN
SUMMARY:Deutsch Intensiv B1.1/ Integrationskurs 310 (262-475310) 
LOCATION:15 Seminar Tübingen, Raum 100, Mathildenstraße 32, 72072 Tübingen
END:VEVENT
BEGIN:VEVENT
DTSTAMP:20260421T132123
DTSTART;TZID=Europe/Berlin:20261201T083000
DTEND;TZID=Europe/Berlin:20261201T123000
UID:262-475310-20261201T083000@VHSTÜBINGEN
SUMMARY:Deutsch Intensiv B1.1/ Integrationskurs 310 (262-475310) 
LOCATION:15 Seminar Tübingen, Raum 100, Mathildenstraße 32, 72072 Tübingen
END:VEVENT
BEGIN:VEVENT
DTSTAMP:20260421T132123
DTSTART;TZID=Europe/Berlin:20261203T083000
DTEND;TZID=Europe/Berlin:20261203T123000
UID:262-475310-20261203T083000@VHSTÜBINGEN
SUMMARY:Deutsch Intensiv B1.1/ Integrationskurs 310 (262-475310) 
LOCATION:15 Seminar Tübingen, Raum 100, Mathildenstraße 32, 72072 Tübingen
END:VEVENT
BEGIN:VEVENT
DTSTAMP:20260421T132123
DTSTART;TZID=Europe/Berlin:20261204T083000
DTEND;TZID=Europe/Berlin:20261204T123000
UID:262-475310-20261204T083000@VHSTÜBINGEN
SUMMARY:Deutsch Intensiv B1.1/ Integrationskurs 310 (262-475310) 
LOCATION:15 Seminar Tübingen, Raum 100, Mathildenstraße 32, 72072 Tübingen
END:VEVENT
BEGIN:VEVENT
DTSTAMP:20260421T132123
DTSTART;TZID=Europe/Berlin:20261207T083000
DTEND;TZID=Europe/Berlin:20261207T123000
UID:262-475310-20261207T083000@VHSTÜBINGEN
SUMMARY:Deutsch Intensiv B1.1/ Integrationskurs 310 (262-475310) 
LOCATION:15 Seminar Tübingen, Raum 100, Mathildenstraße 32, 72072 Tübingen
END:VEVENT
BEGIN:VEVENT
DTSTAMP:20260421T132123
DTSTART;TZID=Europe/Berlin:20261208T083000
DTEND;TZID=Europe/Berlin:20261208T123000
UID:262-475310-20261208T083000@VHSTÜBINGEN
SUMMARY:Deutsch Intensiv B1.1/ Integrationskurs 310 (262-475310) 
LOCATION:15 Seminar Tübingen, Raum 100, Mathildenstraße 32, 72072 Tübingen
END:VEVENT
BEGIN:VEVENT
DTSTAMP:20260421T132123
DTSTART;TZID=Europe/Berlin:20261210T083000
DTEND;TZID=Europe/Berlin:20261210T123000
UID:262-475310-20261210T083000@VHSTÜBINGEN
SUMMARY:Deutsch Intensiv B1.1/ Integrationskurs 310 (262-475310) 
LOCATION:15 Seminar Tübingen, Raum 100, Mathildenstraße 32, 72072 Tübingen
END:VEVENT
BEGIN:VEVENT
DTSTAMP:20260421T132123
DTSTART;TZID=Europe/Berlin:20261211T083000
DTEND;TZID=Europe/Berlin:20261211T123000
UID:262-475310-20261211T083000@VHSTÜBINGEN
SUMMARY:Deutsch Intensiv B1.1/ Integrationskurs 310 (262-475310) 
LOCATION:15 Seminar Tübingen, Raum 100, Mathildenstraße 32, 72072 Tübingen
END:VEVENT
BEGIN:VEVENT
DTSTAMP:20260421T132123
DTSTART;TZID=Europe/Berlin:20261214T083000
DTEND;TZID=Europe/Berlin:20261214T123000
UID:262-475310-20261214T083000@VHSTÜBINGEN
SUMMARY:Deutsch Intensiv B1.1/ Integrationskurs 310 (262-475310) 
LOCATION:15 Seminar Tübingen, Raum 100, Mathildenstraße 32, 72072 Tübingen
END:VEVENT
BEGIN:VEVENT
DTSTAMP:20260421T132123
DTSTART;TZID=Europe/Berlin:20261215T083000
DTEND;TZID=Europe/Berlin:20261215T123000
UID:262-475310-20261215T083000@VHSTÜBINGEN
SUMMARY:Deutsch Intensiv B1.1/ Integrationskurs 310 (262-475310) 
LOCATION:15 Seminar Tübingen, Raum 100, Mathildenstraße 32, 72072 Tübingen
END:VEVENT
BEGIN:VEVENT
DTSTAMP:20260421T132123
DTSTART;TZID=Europe/Berlin:20261217T083000
DTEND;TZID=Europe/Berlin:20261217T123000
UID:262-475310-20261217T083000@VHSTÜBINGEN
SUMMARY:Deutsch Intensiv B1.1/ Integrationskurs 310 (262-475310) 
LOCATION:15 Seminar Tübingen, Raum 100, Mathildenstraße 32, 72072 Tübingen
END:VEVENT
BEGIN:VEVENT
DTSTAMP:20260421T132123
DTSTART;TZID=Europe/Berlin:20261218T083000
DTEND;TZID=Europe/Berlin:20261218T123000
UID:262-475310-20261218T083000@VHSTÜBINGEN
SUMMARY:Deutsch Intensiv B1.1/ Integrationskurs 310 (262-475310) 
LOCATION:15 Seminar Tübingen, Raum 100, Mathildenstraße 32, 72072 Tübingen
END:VEVENT
BEGIN:VEVENT
DTSTAMP:20260421T132123
DTSTART;TZID=Europe/Berlin:20261221T083000
DTEND;TZID=Europe/Berlin:20261221T123000
UID:262-475310-20261221T083000@VHSTÜBINGEN
SUMMARY:Deutsch Intensiv B1.1/ Integrationskurs 310 (262-475310) 
LOCATION:15 Seminar Tübingen, Raum 100, Mathildenstraße 32, 72072 Tübingen
END:VEVENT
BEGIN:VEVENT
DTSTAMP:20260421T132123
DTSTART;TZID=Europe/Berlin:20261222T083000
DTEND;TZID=Europe/Berlin:20261222T123000
UID:262-475310-20261222T083000@VHSTÜBINGEN
SUMMARY:Deutsch Intensiv B1.1/ Integrationskurs 310 (262-475310) 
LOCATION:15 Seminar Tübingen, Raum 100, Mathildenstraße 32, 72072 Tübingen
END:VEVENT
BEGIN:VEVENT
DTSTAMP:20260421T132123
DTSTART;TZID=Europe/Berlin:20270111T083000
DTEND;TZID=Europe/Berlin:20270111T123000
UID:262-475310-20270111T083000@VHSTÜBINGEN
SUMMARY:Deutsch Intensiv B1.1/ Integrationskurs 310 (262-475310) 
LOCATION:15 Seminar Tübingen, Raum 100, Mathildenstraße 32, 72072 Tübingen
END:VEVENT
BEGIN:VEVENT
DTSTAMP:20260421T132123
DTSTART;TZID=Europe/Berlin:20270112T083000
DTEND;TZID=Europe/Berlin:20270112T123000
UID:262-475310-20270112T083000@VHSTÜBINGEN
SUMMARY:Deutsch Intensiv B1.1/ Integrationskurs 310 (262-475310) 
LOCATION:15 Seminar Tübingen, Raum 100, Mathildenstraße 32, 72072 Tübingen
END:VEVENT
BEGIN:VEVENT
DTSTAMP:20260421T132123
DTSTART;TZID=Europe/Berlin:20270114T083000
DTEND;TZID=Europe/Berlin:20270114T123000
UID:262-475310-20270114T083000@VHSTÜBINGEN
SUMMARY:Deutsch Intensiv B1.1/ Integrationskurs 310 (262-475310) 
LOCATION:15 Seminar Tübingen, Raum 100, Mathildenstraße 32, 72072 Tübingen
END:VEVENT
END:VCALENDAR