BEGIN:VCALENDAR
VERSION:2.0
PRODID:https://www.kufer.de/kuferweb / DE
METHOD:PUBLISH
CALSCALE:GREGORIAN
X-WR-TIMEZONE:Europe/Berlin
BEGIN:VTIMEZONE
TZID:Europe/Berlin
X-LIC-LOCATION:Europe/Berlin
BEGIN:DAYLIGHT
TZOFFSETFROM:+0100
TZOFFSETTO:+0200
TZNAME:CEST
DTSTART:19700329T020000
RRULE:FREQ=YEARLY;INTERVAL=1;BYDAY=-1SU;BYMONTH=3
END:DAYLIGHT
BEGIN:STANDARD
TZOFFSETFROM:+0200
TZOFFSETTO:+0100
TZNAME:CET
DTSTART:19701025T030000
RRULE:FREQ=YEARLY;INTERVAL=1;BYDAY=-1SU;BYMONTH=10
END:STANDARD
END:VTIMEZONE
BEGIN:VEVENT
DTSTAMP:20260421T132151
DTSTART;TZID=Europe/Berlin:20270115T083000
DTEND;TZID=Europe/Berlin:20270115T120000
UID:262-475312-20270115T083000@VHSTÜBINGEN
SUMMARY:Deutsch Intensiv B1.1/ Integrationskurs 312 (262-475312) 
LOCATION:15 Seminar Tübingen, Raum 101, Mathildenstraße 32, 72072 Tübingen
END:VEVENT
BEGIN:VEVENT
DTSTAMP:20260421T132151
DTSTART;TZID=Europe/Berlin:20270118T083000
DTEND;TZID=Europe/Berlin:20270118T120000
UID:262-475312-20270118T083000@VHSTÜBINGEN
SUMMARY:Deutsch Intensiv B1.1/ Integrationskurs 312 (262-475312) 
LOCATION:15 Seminar Tübingen, Raum 101, Mathildenstraße 32, 72072 Tübingen
END:VEVENT
BEGIN:VEVENT
DTSTAMP:20260421T132151
DTSTART;TZID=Europe/Berlin:20270119T083000
DTEND;TZID=Europe/Berlin:20270119T120000
UID:262-475312-20270119T083000@VHSTÜBINGEN
SUMMARY:Deutsch Intensiv B1.1/ Integrationskurs 312 (262-475312) 
LOCATION:15 Seminar Tübingen, Raum 101, Mathildenstraße 32, 72072 Tübingen
END:VEVENT
BEGIN:VEVENT
DTSTAMP:20260421T132151
DTSTART;TZID=Europe/Berlin:20270120T083000
DTEND;TZID=Europe/Berlin:20270120T120000
UID:262-475312-20270120T083000@VHSTÜBINGEN
SUMMARY:Deutsch Intensiv B1.1/ Integrationskurs 312 (262-475312) 
LOCATION:vhs, Schulungsraum 112, Katharinenstraße 18, 72072 Tübingen
END:VEVENT
BEGIN:VEVENT
DTSTAMP:20260421T132151
DTSTART;TZID=Europe/Berlin:20270121T083000
DTEND;TZID=Europe/Berlin:20270121T120000
UID:262-475312-20270121T083000@VHSTÜBINGEN
SUMMARY:Deutsch Intensiv B1.1/ Integrationskurs 312 (262-475312) 
LOCATION:15 Seminar Tübingen, Raum 101, Mathildenstraße 32, 72072 Tübingen
END:VEVENT
BEGIN:VEVENT
DTSTAMP:20260421T132151
DTSTART;TZID=Europe/Berlin:20270122T083000
DTEND;TZID=Europe/Berlin:20270122T120000
UID:262-475312-20270122T083000@VHSTÜBINGEN
SUMMARY:Deutsch Intensiv B1.1/ Integrationskurs 312 (262-475312) 
LOCATION:15 Seminar Tübingen, Raum 101, Mathildenstraße 32, 72072 Tübingen
END:VEVENT
BEGIN:VEVENT
DTSTAMP:20260421T132151
DTSTART;TZID=Europe/Berlin:20270125T083000
DTEND;TZID=Europe/Berlin:20270125T120000
UID:262-475312-20270125T083000@VHSTÜBINGEN
SUMMARY:Deutsch Intensiv B1.1/ Integrationskurs 312 (262-475312) 
LOCATION:15 Seminar Tübingen, Raum 101, Mathildenstraße 32, 72072 Tübingen
END:VEVENT
BEGIN:VEVENT
DTSTAMP:20260421T132151
DTSTART;TZID=Europe/Berlin:20270126T083000
DTEND;TZID=Europe/Berlin:20270126T120000
UID:262-475312-20270126T083000@VHSTÜBINGEN
SUMMARY:Deutsch Intensiv B1.1/ Integrationskurs 312 (262-475312) 
LOCATION:15 Seminar Tübingen, Raum 101, Mathildenstraße 32, 72072 Tübingen
END:VEVENT
BEGIN:VEVENT
DTSTAMP:20260421T132151
DTSTART;TZID=Europe/Berlin:20270127T083000
DTEND;TZID=Europe/Berlin:20270127T120000
UID:262-475312-20270127T083000@VHSTÜBINGEN
SUMMARY:Deutsch Intensiv B1.1/ Integrationskurs 312 (262-475312) 
LOCATION:vhs, Schulungsraum 112, Katharinenstraße 18, 72072 Tübingen
END:VEVENT
BEGIN:VEVENT
DTSTAMP:20260421T132151
DTSTART;TZID=Europe/Berlin:20270128T083000
DTEND;TZID=Europe/Berlin:20270128T120000
UID:262-475312-20270128T083000@VHSTÜBINGEN
SUMMARY:Deutsch Intensiv B1.1/ Integrationskurs 312 (262-475312) 
LOCATION:15 Seminar Tübingen, Raum 101, Mathildenstraße 32, 72072 Tübingen
END:VEVENT
BEGIN:VEVENT
DTSTAMP:20260421T132151
DTSTART;TZID=Europe/Berlin:20270129T083000
DTEND;TZID=Europe/Berlin:20270129T120000
UID:262-475312-20270129T083000@VHSTÜBINGEN
SUMMARY:Deutsch Intensiv B1.1/ Integrationskurs 312 (262-475312) 
LOCATION:15 Seminar Tübingen, Raum 101, Mathildenstraße 32, 72072 Tübingen
END:VEVENT
BEGIN:VEVENT
DTSTAMP:20260421T132151
DTSTART;TZID=Europe/Berlin:20270201T083000
DTEND;TZID=Europe/Berlin:20270201T120000
UID:262-475312-20270201T083000@VHSTÜBINGEN
SUMMARY:Deutsch Intensiv B1.1/ Integrationskurs 312 (262-475312) 
LOCATION:15 Seminar Tübingen, Raum 101, Mathildenstraße 32, 72072 Tübingen
END:VEVENT
BEGIN:VEVENT
DTSTAMP:20260421T132151
DTSTART;TZID=Europe/Berlin:20270202T083000
DTEND;TZID=Europe/Berlin:20270202T120000
UID:262-475312-20270202T083000@VHSTÜBINGEN
SUMMARY:Deutsch Intensiv B1.1/ Integrationskurs 312 (262-475312) 
LOCATION:15 Seminar Tübingen, Raum 101, Mathildenstraße 32, 72072 Tübingen
END:VEVENT
BEGIN:VEVENT
DTSTAMP:20260421T132151
DTSTART;TZID=Europe/Berlin:20270203T083000
DTEND;TZID=Europe/Berlin:20270203T120000
UID:262-475312-20270203T083000@VHSTÜBINGEN
SUMMARY:Deutsch Intensiv B1.1/ Integrationskurs 312 (262-475312) 
LOCATION:vhs, Schulungsraum 112, Katharinenstraße 18, 72072 Tübingen
END:VEVENT
BEGIN:VEVENT
DTSTAMP:20260421T132151
DTSTART;TZID=Europe/Berlin:20270204T083000
DTEND;TZID=Europe/Berlin:20270204T120000
UID:262-475312-20270204T083000@VHSTÜBINGEN
SUMMARY:Deutsch Intensiv B1.1/ Integrationskurs 312 (262-475312) 
LOCATION:15 Seminar Tübingen, Raum 101, Mathildenstraße 32, 72072 Tübingen
END:VEVENT
BEGIN:VEVENT
DTSTAMP:20260421T132151
DTSTART;TZID=Europe/Berlin:20270205T083000
DTEND;TZID=Europe/Berlin:20270205T120000
UID:262-475312-20270205T083000@VHSTÜBINGEN
SUMMARY:Deutsch Intensiv B1.1/ Integrationskurs 312 (262-475312) 
LOCATION:15 Seminar Tübingen, Raum 101, Mathildenstraße 32, 72072 Tübingen
END:VEVENT
BEGIN:VEVENT
DTSTAMP:20260421T132151
DTSTART;TZID=Europe/Berlin:20270208T083000
DTEND;TZID=Europe/Berlin:20270208T120000
UID:262-475312-20270208T083000@VHSTÜBINGEN
SUMMARY:Deutsch Intensiv B1.1/ Integrationskurs 312 (262-475312) 
LOCATION:15 Seminar Tübingen, Raum 101, Mathildenstraße 32, 72072 Tübingen
END:VEVENT
BEGIN:VEVENT
DTSTAMP:20260421T132151
DTSTART;TZID=Europe/Berlin:20270209T083000
DTEND;TZID=Europe/Berlin:20270209T120000
UID:262-475312-20270209T083000@VHSTÜBINGEN
SUMMARY:Deutsch Intensiv B1.1/ Integrationskurs 312 (262-475312) 
LOCATION:15 Seminar Tübingen, Raum 101, Mathildenstraße 32, 72072 Tübingen
END:VEVENT
BEGIN:VEVENT
DTSTAMP:20260421T132151
DTSTART;TZID=Europe/Berlin:20270210T083000
DTEND;TZID=Europe/Berlin:20270210T120000
UID:262-475312-20270210T083000@VHSTÜBINGEN
SUMMARY:Deutsch Intensiv B1.1/ Integrationskurs 312 (262-475312) 
LOCATION:vhs, Schulungsraum 112, Katharinenstraße 18, 72072 Tübingen
END:VEVENT
BEGIN:VEVENT
DTSTAMP:20260421T132151
DTSTART;TZID=Europe/Berlin:20270211T083000
DTEND;TZID=Europe/Berlin:20270211T120000
UID:262-475312-20270211T083000@VHSTÜBINGEN
SUMMARY:Deutsch Intensiv B1.1/ Integrationskurs 312 (262-475312) 
LOCATION:15 Seminar Tübingen, Raum 101, Mathildenstraße 32, 72072 Tübingen
END:VEVENT
BEGIN:VEVENT
DTSTAMP:20260421T132151
DTSTART;TZID=Europe/Berlin:20270212T083000
DTEND;TZID=Europe/Berlin:20270212T120000
UID:262-475312-20270212T083000@VHSTÜBINGEN
SUMMARY:Deutsch Intensiv B1.1/ Integrationskurs 312 (262-475312) 
LOCATION:15 Seminar Tübingen, Raum 101, Mathildenstraße 32, 72072 Tübingen
END:VEVENT
BEGIN:VEVENT
DTSTAMP:20260421T132151
DTSTART;TZID=Europe/Berlin:20270215T083000
DTEND;TZID=Europe/Berlin:20270215T120000
UID:262-475312-20270215T083000@VHSTÜBINGEN
SUMMARY:Deutsch Intensiv B1.1/ Integrationskurs 312 (262-475312) 
LOCATION:15 Seminar Tübingen, Raum 101, Mathildenstraße 32, 72072 Tübingen
END:VEVENT
BEGIN:VEVENT
DTSTAMP:20260421T132151
DTSTART;TZID=Europe/Berlin:20270216T083000
DTEND;TZID=Europe/Berlin:20270216T120000
UID:262-475312-20270216T083000@VHSTÜBINGEN
SUMMARY:Deutsch Intensiv B1.1/ Integrationskurs 312 (262-475312) 
LOCATION:15 Seminar Tübingen, Raum 101, Mathildenstraße 32, 72072 Tübingen
END:VEVENT
BEGIN:VEVENT
DTSTAMP:20260421T132151
DTSTART;TZID=Europe/Berlin:20270217T083000
DTEND;TZID=Europe/Berlin:20270217T120000
UID:262-475312-20270217T083000@VHSTÜBINGEN
SUMMARY:Deutsch Intensiv B1.1/ Integrationskurs 312 (262-475312) 
LOCATION:vhs, Schulungsraum 112, Katharinenstraße 18, 72072 Tübingen
END:VEVENT
BEGIN:VEVENT
DTSTAMP:20260421T132151
DTSTART;TZID=Europe/Berlin:20270218T083000
DTEND;TZID=Europe/Berlin:20270218T120000
UID:262-475312-20270218T083000@VHSTÜBINGEN
SUMMARY:Deutsch Intensiv B1.1/ Integrationskurs 312 (262-475312) 
LOCATION:15 Seminar Tübingen, Raum 101, Mathildenstraße 32, 72072 Tübingen
END:VEVENT
END:VCALENDAR