BEGIN:VCALENDAR
VERSION:2.0
PRODID:https://www.kufer.de/kuferweb / DE
METHOD:PUBLISH
CALSCALE:GREGORIAN
X-WR-TIMEZONE:Europe/Berlin
BEGIN:VTIMEZONE
TZID:Europe/Berlin
X-LIC-LOCATION:Europe/Berlin
BEGIN:DAYLIGHT
TZOFFSETFROM:+0100
TZOFFSETTO:+0200
TZNAME:CEST
DTSTART:19700329T020000
RRULE:FREQ=YEARLY;INTERVAL=1;BYDAY=-1SU;BYMONTH=3
END:DAYLIGHT
BEGIN:STANDARD
TZOFFSETFROM:+0200
TZOFFSETTO:+0100
TZNAME:CET
DTSTART:19701025T030000
RRULE:FREQ=YEARLY;INTERVAL=1;BYDAY=-1SU;BYMONTH=10
END:STANDARD
END:VTIMEZONE
BEGIN:VEVENT
DTSTAMP:20260421T132123
DTSTART;TZID=Europe/Berlin:20270209T180000
DTEND;TZID=Europe/Berlin:20270209T211500
UID:262-476302-20270209T180000@VHSTÜBINGEN
SUMMARY:Deutsch Intensiv B1.2/ Integrationskurs 302 (Abend) (262-476302) 
LOCATION:vhs, Schulungsraum 015, Katharinenstraße 18, 72072 Tübingen
END:VEVENT
BEGIN:VEVENT
DTSTAMP:20260421T132123
DTSTART;TZID=Europe/Berlin:20270211T180000
DTEND;TZID=Europe/Berlin:20270211T211500
UID:262-476302-20270211T180000@VHSTÜBINGEN
SUMMARY:Deutsch Intensiv B1.2/ Integrationskurs 302 (Abend) (262-476302) 
LOCATION:vhs, Schulungsraum 015, Katharinenstraße 18, 72072 Tübingen
END:VEVENT
BEGIN:VEVENT
DTSTAMP:20260421T132123
DTSTART;TZID=Europe/Berlin:20270215T180000
DTEND;TZID=Europe/Berlin:20270215T211500
UID:262-476302-20270215T180000@VHSTÜBINGEN
SUMMARY:Deutsch Intensiv B1.2/ Integrationskurs 302 (Abend) (262-476302) 
LOCATION:vhs, Schulungsraum 015, Katharinenstraße 18, 72072 Tübingen
END:VEVENT
BEGIN:VEVENT
DTSTAMP:20260421T132123
DTSTART;TZID=Europe/Berlin:20270216T180000
DTEND;TZID=Europe/Berlin:20270216T211500
UID:262-476302-20270216T180000@VHSTÜBINGEN
SUMMARY:Deutsch Intensiv B1.2/ Integrationskurs 302 (Abend) (262-476302) 
LOCATION:vhs, Schulungsraum 015, Katharinenstraße 18, 72072 Tübingen
END:VEVENT
BEGIN:VEVENT
DTSTAMP:20260421T132123
DTSTART;TZID=Europe/Berlin:20270218T180000
DTEND;TZID=Europe/Berlin:20270218T211500
UID:262-476302-20270218T180000@VHSTÜBINGEN
SUMMARY:Deutsch Intensiv B1.2/ Integrationskurs 302 (Abend) (262-476302) 
LOCATION:vhs, Schulungsraum 015, Katharinenstraße 18, 72072 Tübingen
END:VEVENT
BEGIN:VEVENT
DTSTAMP:20260421T132123
DTSTART;TZID=Europe/Berlin:20270222T180000
DTEND;TZID=Europe/Berlin:20270222T211500
UID:262-476302-20270222T180000@VHSTÜBINGEN
SUMMARY:Deutsch Intensiv B1.2/ Integrationskurs 302 (Abend) (262-476302) 
LOCATION:vhs, Schulungsraum 015, Katharinenstraße 18, 72072 Tübingen
END:VEVENT
BEGIN:VEVENT
DTSTAMP:20260421T132123
DTSTART;TZID=Europe/Berlin:20270223T180000
DTEND;TZID=Europe/Berlin:20270223T211500
UID:262-476302-20270223T180000@VHSTÜBINGEN
SUMMARY:Deutsch Intensiv B1.2/ Integrationskurs 302 (Abend) (262-476302) 
LOCATION:vhs, Schulungsraum 015, Katharinenstraße 18, 72072 Tübingen
END:VEVENT
BEGIN:VEVENT
DTSTAMP:20260421T132123
DTSTART;TZID=Europe/Berlin:20270225T180000
DTEND;TZID=Europe/Berlin:20270225T211500
UID:262-476302-20270225T180000@VHSTÜBINGEN
SUMMARY:Deutsch Intensiv B1.2/ Integrationskurs 302 (Abend) (262-476302) 
LOCATION:vhs, Schulungsraum 015, Katharinenstraße 18, 72072 Tübingen
END:VEVENT
BEGIN:VEVENT
DTSTAMP:20260421T132123
DTSTART;TZID=Europe/Berlin:20270301T180000
DTEND;TZID=Europe/Berlin:20270301T211500
UID:262-476302-20270301T180000@VHSTÜBINGEN
SUMMARY:Deutsch Intensiv B1.2/ Integrationskurs 302 (Abend) (262-476302) 
LOCATION:vhs, Schulungsraum 015, Katharinenstraße 18, 72072 Tübingen
END:VEVENT
BEGIN:VEVENT
DTSTAMP:20260421T132123
DTSTART;TZID=Europe/Berlin:20270302T180000
DTEND;TZID=Europe/Berlin:20270302T211500
UID:262-476302-20270302T180000@VHSTÜBINGEN
SUMMARY:Deutsch Intensiv B1.2/ Integrationskurs 302 (Abend) (262-476302) 
LOCATION:vhs, Schulungsraum 015, Katharinenstraße 18, 72072 Tübingen
END:VEVENT
BEGIN:VEVENT
DTSTAMP:20260421T132123
DTSTART;TZID=Europe/Berlin:20270304T180000
DTEND;TZID=Europe/Berlin:20270304T211500
UID:262-476302-20270304T180000@VHSTÜBINGEN
SUMMARY:Deutsch Intensiv B1.2/ Integrationskurs 302 (Abend) (262-476302) 
LOCATION:vhs, Schulungsraum 015, Katharinenstraße 18, 72072 Tübingen
END:VEVENT
BEGIN:VEVENT
DTSTAMP:20260421T132123
DTSTART;TZID=Europe/Berlin:20270308T180000
DTEND;TZID=Europe/Berlin:20270308T211500
UID:262-476302-20270308T180000@VHSTÜBINGEN
SUMMARY:Deutsch Intensiv B1.2/ Integrationskurs 302 (Abend) (262-476302) 
LOCATION:vhs, Schulungsraum 015, Katharinenstraße 18, 72072 Tübingen
END:VEVENT
BEGIN:VEVENT
DTSTAMP:20260421T132123
DTSTART;TZID=Europe/Berlin:20270309T180000
DTEND;TZID=Europe/Berlin:20270309T211500
UID:262-476302-20270309T180000@VHSTÜBINGEN
SUMMARY:Deutsch Intensiv B1.2/ Integrationskurs 302 (Abend) (262-476302) 
LOCATION:vhs, Schulungsraum 015, Katharinenstraße 18, 72072 Tübingen
END:VEVENT
BEGIN:VEVENT
DTSTAMP:20260421T132123
DTSTART;TZID=Europe/Berlin:20270311T180000
DTEND;TZID=Europe/Berlin:20270311T211500
UID:262-476302-20270311T180000@VHSTÜBINGEN
SUMMARY:Deutsch Intensiv B1.2/ Integrationskurs 302 (Abend) (262-476302) 
LOCATION:vhs, Schulungsraum 015, Katharinenstraße 18, 72072 Tübingen
END:VEVENT
BEGIN:VEVENT
DTSTAMP:20260421T132123
DTSTART;TZID=Europe/Berlin:20270315T180000
DTEND;TZID=Europe/Berlin:20270315T211500
UID:262-476302-20270315T180000@VHSTÜBINGEN
SUMMARY:Deutsch Intensiv B1.2/ Integrationskurs 302 (Abend) (262-476302) 
LOCATION:vhs, Schulungsraum 015, Katharinenstraße 18, 72072 Tübingen
END:VEVENT
BEGIN:VEVENT
DTSTAMP:20260421T132123
DTSTART;TZID=Europe/Berlin:20270316T180000
DTEND;TZID=Europe/Berlin:20270316T211500
UID:262-476302-20270316T180000@VHSTÜBINGEN
SUMMARY:Deutsch Intensiv B1.2/ Integrationskurs 302 (Abend) (262-476302) 
LOCATION:vhs, Schulungsraum 015, Katharinenstraße 18, 72072 Tübingen
END:VEVENT
BEGIN:VEVENT
DTSTAMP:20260421T132123
DTSTART;TZID=Europe/Berlin:20270318T180000
DTEND;TZID=Europe/Berlin:20270318T211500
UID:262-476302-20270318T180000@VHSTÜBINGEN
SUMMARY:Deutsch Intensiv B1.2/ Integrationskurs 302 (Abend) (262-476302) 
LOCATION:vhs, Schulungsraum 015, Katharinenstraße 18, 72072 Tübingen
END:VEVENT
BEGIN:VEVENT
DTSTAMP:20260421T132123
DTSTART;TZID=Europe/Berlin:20270322T180000
DTEND;TZID=Europe/Berlin:20270322T211500
UID:262-476302-20270322T180000@VHSTÜBINGEN
SUMMARY:Deutsch Intensiv B1.2/ Integrationskurs 302 (Abend) (262-476302) 
LOCATION:vhs, Schulungsraum 015, Katharinenstraße 18, 72072 Tübingen
END:VEVENT
BEGIN:VEVENT
DTSTAMP:20260421T132123
DTSTART;TZID=Europe/Berlin:20270323T180000
DTEND;TZID=Europe/Berlin:20270323T211500
UID:262-476302-20270323T180000@VHSTÜBINGEN
SUMMARY:Deutsch Intensiv B1.2/ Integrationskurs 302 (Abend) (262-476302) 
LOCATION:vhs, Schulungsraum 015, Katharinenstraße 18, 72072 Tübingen
END:VEVENT
BEGIN:VEVENT
DTSTAMP:20260421T132123
DTSTART;TZID=Europe/Berlin:20270405T180000
DTEND;TZID=Europe/Berlin:20270405T211500
UID:262-476302-20270405T180000@VHSTÜBINGEN
SUMMARY:Deutsch Intensiv B1.2/ Integrationskurs 302 (Abend) (262-476302) 
LOCATION:vhs, Schulungsraum 015, Katharinenstraße 18, 72072 Tübingen
END:VEVENT
BEGIN:VEVENT
DTSTAMP:20260421T132123
DTSTART;TZID=Europe/Berlin:20270406T180000
DTEND;TZID=Europe/Berlin:20270406T211500
UID:262-476302-20270406T180000@VHSTÜBINGEN
SUMMARY:Deutsch Intensiv B1.2/ Integrationskurs 302 (Abend) (262-476302) 
LOCATION:vhs, Schulungsraum 015, Katharinenstraße 18, 72072 Tübingen
END:VEVENT
BEGIN:VEVENT
DTSTAMP:20260421T132123
DTSTART;TZID=Europe/Berlin:20270408T180000
DTEND;TZID=Europe/Berlin:20270408T211500
UID:262-476302-20270408T180000@VHSTÜBINGEN
SUMMARY:Deutsch Intensiv B1.2/ Integrationskurs 302 (Abend) (262-476302) 
LOCATION:vhs, Schulungsraum 015, Katharinenstraße 18, 72072 Tübingen
END:VEVENT
BEGIN:VEVENT
DTSTAMP:20260421T132123
DTSTART;TZID=Europe/Berlin:20270412T180000
DTEND;TZID=Europe/Berlin:20270412T211500
UID:262-476302-20270412T180000@VHSTÜBINGEN
SUMMARY:Deutsch Intensiv B1.2/ Integrationskurs 302 (Abend) (262-476302) 
LOCATION:vhs, Schulungsraum 015, Katharinenstraße 18, 72072 Tübingen
END:VEVENT
BEGIN:VEVENT
DTSTAMP:20260421T132123
DTSTART;TZID=Europe/Berlin:20270413T180000
DTEND;TZID=Europe/Berlin:20270413T211500
UID:262-476302-20270413T180000@VHSTÜBINGEN
SUMMARY:Deutsch Intensiv B1.2/ Integrationskurs 302 (Abend) (262-476302) 
LOCATION:vhs, Schulungsraum 015, Katharinenstraße 18, 72072 Tübingen
END:VEVENT
BEGIN:VEVENT
DTSTAMP:20260421T132123
DTSTART;TZID=Europe/Berlin:20270415T180000
DTEND;TZID=Europe/Berlin:20270415T211500
UID:262-476302-20270415T180000@VHSTÜBINGEN
SUMMARY:Deutsch Intensiv B1.2/ Integrationskurs 302 (Abend) (262-476302) 
LOCATION:vhs, Schulungsraum 015, Katharinenstraße 18, 72072 Tübingen
END:VEVENT
END:VCALENDAR