BEGIN:VCALENDAR
VERSION:2.0
PRODID:https://www.kufer.de/kuferweb / DE
METHOD:PUBLISH
CALSCALE:GREGORIAN
X-WR-TIMEZONE:Europe/Berlin
BEGIN:VTIMEZONE
TZID:Europe/Berlin
X-LIC-LOCATION:Europe/Berlin
BEGIN:DAYLIGHT
TZOFFSETFROM:+0100
TZOFFSETTO:+0200
TZNAME:CEST
DTSTART:19700329T020000
RRULE:FREQ=YEARLY;INTERVAL=1;BYDAY=-1SU;BYMONTH=3
END:DAYLIGHT
BEGIN:STANDARD
TZOFFSETFROM:+0200
TZOFFSETTO:+0100
TZNAME:CET
DTSTART:19701025T030000
RRULE:FREQ=YEARLY;INTERVAL=1;BYDAY=-1SU;BYMONTH=10
END:STANDARD
END:VTIMEZONE
BEGIN:VEVENT
DTSTAMP:20260421T134004
DTSTART;TZID=Europe/Berlin:20260928T133000
DTEND;TZID=Europe/Berlin:20260928T174500
UID:262-476303-20260928T133000@VHSTÜBINGEN
SUMMARY:Deutsch Intensiv B1.2/ Integrationskurs 303 (262-476303) 
LOCATION:vhs, Schulungsraum 215, Katharinenstraße 18, 72072 Tübingen
END:VEVENT
BEGIN:VEVENT
DTSTAMP:20260421T134004
DTSTART;TZID=Europe/Berlin:20260929T133000
DTEND;TZID=Europe/Berlin:20260929T174500
UID:262-476303-20260929T133000@VHSTÜBINGEN
SUMMARY:Deutsch Intensiv B1.2/ Integrationskurs 303 (262-476303) 
LOCATION:vhs, Schulungsraum 215, Katharinenstraße 18, 72072 Tübingen
END:VEVENT
BEGIN:VEVENT
DTSTAMP:20260421T134004
DTSTART;TZID=Europe/Berlin:20261001T140000
DTEND;TZID=Europe/Berlin:20261001T181500
UID:262-476303-20261001T140000@VHSTÜBINGEN
SUMMARY:Deutsch Intensiv B1.2/ Integrationskurs 303 (262-476303) 
LOCATION:vhs, Schulungsraum 215, Katharinenstraße 18, 72072 Tübingen
END:VEVENT
BEGIN:VEVENT
DTSTAMP:20260421T134004
DTSTART;TZID=Europe/Berlin:20261002T140000
DTEND;TZID=Europe/Berlin:20261002T181500
UID:262-476303-20261002T140000@VHSTÜBINGEN
SUMMARY:Deutsch Intensiv B1.2/ Integrationskurs 303 (262-476303) 
LOCATION:vhs, Schulungsraum 215, Katharinenstraße 18, 72072 Tübingen
END:VEVENT
BEGIN:VEVENT
DTSTAMP:20260421T134004
DTSTART;TZID=Europe/Berlin:20261005T133000
DTEND;TZID=Europe/Berlin:20261005T174500
UID:262-476303-20261005T133000@VHSTÜBINGEN
SUMMARY:Deutsch Intensiv B1.2/ Integrationskurs 303 (262-476303) 
LOCATION:vhs, Schulungsraum 215, Katharinenstraße 18, 72072 Tübingen
END:VEVENT
BEGIN:VEVENT
DTSTAMP:20260421T134004
DTSTART;TZID=Europe/Berlin:20261006T133000
DTEND;TZID=Europe/Berlin:20261006T174500
UID:262-476303-20261006T133000@VHSTÜBINGEN
SUMMARY:Deutsch Intensiv B1.2/ Integrationskurs 303 (262-476303) 
LOCATION:vhs, Schulungsraum 215, Katharinenstraße 18, 72072 Tübingen
END:VEVENT
BEGIN:VEVENT
DTSTAMP:20260421T134004
DTSTART;TZID=Europe/Berlin:20261008T140000
DTEND;TZID=Europe/Berlin:20261008T181500
UID:262-476303-20261008T140000@VHSTÜBINGEN
SUMMARY:Deutsch Intensiv B1.2/ Integrationskurs 303 (262-476303) 
LOCATION:vhs, Schulungsraum 215, Katharinenstraße 18, 72072 Tübingen
END:VEVENT
BEGIN:VEVENT
DTSTAMP:20260421T134004
DTSTART;TZID=Europe/Berlin:20261009T140000
DTEND;TZID=Europe/Berlin:20261009T181500
UID:262-476303-20261009T140000@VHSTÜBINGEN
SUMMARY:Deutsch Intensiv B1.2/ Integrationskurs 303 (262-476303) 
LOCATION:vhs, Schulungsraum 215, Katharinenstraße 18, 72072 Tübingen
END:VEVENT
BEGIN:VEVENT
DTSTAMP:20260421T134004
DTSTART;TZID=Europe/Berlin:20261012T133000
DTEND;TZID=Europe/Berlin:20261012T174500
UID:262-476303-20261012T133000@VHSTÜBINGEN
SUMMARY:Deutsch Intensiv B1.2/ Integrationskurs 303 (262-476303) 
LOCATION:vhs, Schulungsraum 215, Katharinenstraße 18, 72072 Tübingen
END:VEVENT
BEGIN:VEVENT
DTSTAMP:20260421T134004
DTSTART;TZID=Europe/Berlin:20261013T133000
DTEND;TZID=Europe/Berlin:20261013T174500
UID:262-476303-20261013T133000@VHSTÜBINGEN
SUMMARY:Deutsch Intensiv B1.2/ Integrationskurs 303 (262-476303) 
LOCATION:vhs, Schulungsraum 215, Katharinenstraße 18, 72072 Tübingen
END:VEVENT
BEGIN:VEVENT
DTSTAMP:20260421T134004
DTSTART;TZID=Europe/Berlin:20261015T140000
DTEND;TZID=Europe/Berlin:20261015T181500
UID:262-476303-20261015T140000@VHSTÜBINGEN
SUMMARY:Deutsch Intensiv B1.2/ Integrationskurs 303 (262-476303) 
LOCATION:vhs, Schulungsraum 215, Katharinenstraße 18, 72072 Tübingen
END:VEVENT
BEGIN:VEVENT
DTSTAMP:20260421T134004
DTSTART;TZID=Europe/Berlin:20261016T140000
DTEND;TZID=Europe/Berlin:20261016T181500
UID:262-476303-20261016T140000@VHSTÜBINGEN
SUMMARY:Deutsch Intensiv B1.2/ Integrationskurs 303 (262-476303) 
LOCATION:vhs, Schulungsraum 215, Katharinenstraße 18, 72072 Tübingen
END:VEVENT
BEGIN:VEVENT
DTSTAMP:20260421T134004
DTSTART;TZID=Europe/Berlin:20261019T133000
DTEND;TZID=Europe/Berlin:20261019T174500
UID:262-476303-20261019T133000@VHSTÜBINGEN
SUMMARY:Deutsch Intensiv B1.2/ Integrationskurs 303 (262-476303) 
LOCATION:vhs, Schulungsraum 215, Katharinenstraße 18, 72072 Tübingen
END:VEVENT
BEGIN:VEVENT
DTSTAMP:20260421T134004
DTSTART;TZID=Europe/Berlin:20261020T133000
DTEND;TZID=Europe/Berlin:20261020T174500
UID:262-476303-20261020T133000@VHSTÜBINGEN
SUMMARY:Deutsch Intensiv B1.2/ Integrationskurs 303 (262-476303) 
LOCATION:vhs, Schulungsraum 215, Katharinenstraße 18, 72072 Tübingen
END:VEVENT
BEGIN:VEVENT
DTSTAMP:20260421T134004
DTSTART;TZID=Europe/Berlin:20261022T140000
DTEND;TZID=Europe/Berlin:20261022T181500
UID:262-476303-20261022T140000@VHSTÜBINGEN
SUMMARY:Deutsch Intensiv B1.2/ Integrationskurs 303 (262-476303) 
LOCATION:vhs, Schulungsraum 215, Katharinenstraße 18, 72072 Tübingen
END:VEVENT
BEGIN:VEVENT
DTSTAMP:20260421T134004
DTSTART;TZID=Europe/Berlin:20261023T140000
DTEND;TZID=Europe/Berlin:20261023T181500
UID:262-476303-20261023T140000@VHSTÜBINGEN
SUMMARY:Deutsch Intensiv B1.2/ Integrationskurs 303 (262-476303) 
LOCATION:vhs, Schulungsraum 215, Katharinenstraße 18, 72072 Tübingen
END:VEVENT
BEGIN:VEVENT
DTSTAMP:20260421T134004
DTSTART;TZID=Europe/Berlin:20261102T133000
DTEND;TZID=Europe/Berlin:20261102T174500
UID:262-476303-20261102T133000@VHSTÜBINGEN
SUMMARY:Deutsch Intensiv B1.2/ Integrationskurs 303 (262-476303) 
LOCATION:vhs, Schulungsraum 215, Katharinenstraße 18, 72072 Tübingen
END:VEVENT
BEGIN:VEVENT
DTSTAMP:20260421T134004
DTSTART;TZID=Europe/Berlin:20261103T133000
DTEND;TZID=Europe/Berlin:20261103T174500
UID:262-476303-20261103T133000@VHSTÜBINGEN
SUMMARY:Deutsch Intensiv B1.2/ Integrationskurs 303 (262-476303) 
LOCATION:vhs, Schulungsraum 215, Katharinenstraße 18, 72072 Tübingen
END:VEVENT
BEGIN:VEVENT
DTSTAMP:20260421T134004
DTSTART;TZID=Europe/Berlin:20261105T140000
DTEND;TZID=Europe/Berlin:20261105T181500
UID:262-476303-20261105T140000@VHSTÜBINGEN
SUMMARY:Deutsch Intensiv B1.2/ Integrationskurs 303 (262-476303) 
LOCATION:vhs, Schulungsraum 215, Katharinenstraße 18, 72072 Tübingen
END:VEVENT
BEGIN:VEVENT
DTSTAMP:20260421T134004
DTSTART;TZID=Europe/Berlin:20261106T140000
DTEND;TZID=Europe/Berlin:20261106T181500
UID:262-476303-20261106T140000@VHSTÜBINGEN
SUMMARY:Deutsch Intensiv B1.2/ Integrationskurs 303 (262-476303) 
LOCATION:vhs, Schulungsraum 215, Katharinenstraße 18, 72072 Tübingen
END:VEVENT
END:VCALENDAR