BEGIN:VCALENDAR
VERSION:2.0
PRODID:https://www.kufer.de/kuferweb / DE
METHOD:PUBLISH
CALSCALE:GREGORIAN
X-WR-TIMEZONE:Europe/Berlin
BEGIN:VTIMEZONE
TZID:Europe/Berlin
X-LIC-LOCATION:Europe/Berlin
BEGIN:DAYLIGHT
TZOFFSETFROM:+0100
TZOFFSETTO:+0200
TZNAME:CEST
DTSTART:19700329T020000
RRULE:FREQ=YEARLY;INTERVAL=1;BYDAY=-1SU;BYMONTH=3
END:DAYLIGHT
BEGIN:STANDARD
TZOFFSETFROM:+0200
TZOFFSETTO:+0100
TZNAME:CET
DTSTART:19701025T030000
RRULE:FREQ=YEARLY;INTERVAL=1;BYDAY=-1SU;BYMONTH=10
END:STANDARD
END:VTIMEZONE
BEGIN:VEVENT
DTSTAMP:20260421T132152
DTSTART;TZID=Europe/Berlin:20261124T083000
DTEND;TZID=Europe/Berlin:20261124T124500
UID:262-476309-20261124T083000@VHSTÜBINGEN
SUMMARY:Deutsch Intensiv B1.2/ Integrationskurs 309 (262-476309) 
LOCATION:vhs, Schulungsraum 213, Katharinenstraße 18, 72072 Tübingen
END:VEVENT
BEGIN:VEVENT
DTSTAMP:20260421T132152
DTSTART;TZID=Europe/Berlin:20261125T083000
DTEND;TZID=Europe/Berlin:20261125T124500
UID:262-476309-20261125T083000@VHSTÜBINGEN
SUMMARY:Deutsch Intensiv B1.2/ Integrationskurs 309 (262-476309) 
LOCATION:vhs, Schulungsraum 213, Katharinenstraße 18, 72072 Tübingen
END:VEVENT
BEGIN:VEVENT
DTSTAMP:20260421T132152
DTSTART;TZID=Europe/Berlin:20261126T083000
DTEND;TZID=Europe/Berlin:20261126T124500
UID:262-476309-20261126T083000@VHSTÜBINGEN
SUMMARY:Deutsch Intensiv B1.2/ Integrationskurs 309 (262-476309) 
LOCATION:vhs, Schulungsraum 213, Katharinenstraße 18, 72072 Tübingen
END:VEVENT
BEGIN:VEVENT
DTSTAMP:20260421T132152
DTSTART;TZID=Europe/Berlin:20261127T083000
DTEND;TZID=Europe/Berlin:20261127T124500
UID:262-476309-20261127T083000@VHSTÜBINGEN
SUMMARY:Deutsch Intensiv B1.2/ Integrationskurs 309 (262-476309) 
LOCATION:vhs, Schulungsraum 213, Katharinenstraße 18, 72072 Tübingen
END:VEVENT
BEGIN:VEVENT
DTSTAMP:20260421T132152
DTSTART;TZID=Europe/Berlin:20261201T083000
DTEND;TZID=Europe/Berlin:20261201T124500
UID:262-476309-20261201T083000@VHSTÜBINGEN
SUMMARY:Deutsch Intensiv B1.2/ Integrationskurs 309 (262-476309) 
LOCATION:vhs, Schulungsraum 213, Katharinenstraße 18, 72072 Tübingen
END:VEVENT
BEGIN:VEVENT
DTSTAMP:20260421T132152
DTSTART;TZID=Europe/Berlin:20261202T083000
DTEND;TZID=Europe/Berlin:20261202T124500
UID:262-476309-20261202T083000@VHSTÜBINGEN
SUMMARY:Deutsch Intensiv B1.2/ Integrationskurs 309 (262-476309) 
LOCATION:vhs, Schulungsraum 213, Katharinenstraße 18, 72072 Tübingen
END:VEVENT
BEGIN:VEVENT
DTSTAMP:20260421T132152
DTSTART;TZID=Europe/Berlin:20261203T083000
DTEND;TZID=Europe/Berlin:20261203T124500
UID:262-476309-20261203T083000@VHSTÜBINGEN
SUMMARY:Deutsch Intensiv B1.2/ Integrationskurs 309 (262-476309) 
LOCATION:vhs, Schulungsraum 213, Katharinenstraße 18, 72072 Tübingen
END:VEVENT
BEGIN:VEVENT
DTSTAMP:20260421T132152
DTSTART;TZID=Europe/Berlin:20261204T083000
DTEND;TZID=Europe/Berlin:20261204T124500
UID:262-476309-20261204T083000@VHSTÜBINGEN
SUMMARY:Deutsch Intensiv B1.2/ Integrationskurs 309 (262-476309) 
LOCATION:vhs, Schulungsraum 213, Katharinenstraße 18, 72072 Tübingen
END:VEVENT
BEGIN:VEVENT
DTSTAMP:20260421T132152
DTSTART;TZID=Europe/Berlin:20261208T083000
DTEND;TZID=Europe/Berlin:20261208T124500
UID:262-476309-20261208T083000@VHSTÜBINGEN
SUMMARY:Deutsch Intensiv B1.2/ Integrationskurs 309 (262-476309) 
LOCATION:vhs, Schulungsraum 213, Katharinenstraße 18, 72072 Tübingen
END:VEVENT
BEGIN:VEVENT
DTSTAMP:20260421T132152
DTSTART;TZID=Europe/Berlin:20261209T083000
DTEND;TZID=Europe/Berlin:20261209T124500
UID:262-476309-20261209T083000@VHSTÜBINGEN
SUMMARY:Deutsch Intensiv B1.2/ Integrationskurs 309 (262-476309) 
LOCATION:vhs, Schulungsraum 213, Katharinenstraße 18, 72072 Tübingen
END:VEVENT
BEGIN:VEVENT
DTSTAMP:20260421T132152
DTSTART;TZID=Europe/Berlin:20261210T083000
DTEND;TZID=Europe/Berlin:20261210T124500
UID:262-476309-20261210T083000@VHSTÜBINGEN
SUMMARY:Deutsch Intensiv B1.2/ Integrationskurs 309 (262-476309) 
LOCATION:vhs, Schulungsraum 213, Katharinenstraße 18, 72072 Tübingen
END:VEVENT
BEGIN:VEVENT
DTSTAMP:20260421T132152
DTSTART;TZID=Europe/Berlin:20261211T083000
DTEND;TZID=Europe/Berlin:20261211T124500
UID:262-476309-20261211T083000@VHSTÜBINGEN
SUMMARY:Deutsch Intensiv B1.2/ Integrationskurs 309 (262-476309) 
LOCATION:vhs, Schulungsraum 213, Katharinenstraße 18, 72072 Tübingen
END:VEVENT
BEGIN:VEVENT
DTSTAMP:20260421T132152
DTSTART;TZID=Europe/Berlin:20261215T083000
DTEND;TZID=Europe/Berlin:20261215T124500
UID:262-476309-20261215T083000@VHSTÜBINGEN
SUMMARY:Deutsch Intensiv B1.2/ Integrationskurs 309 (262-476309) 
LOCATION:vhs, Schulungsraum 213, Katharinenstraße 18, 72072 Tübingen
END:VEVENT
BEGIN:VEVENT
DTSTAMP:20260421T132152
DTSTART;TZID=Europe/Berlin:20261216T083000
DTEND;TZID=Europe/Berlin:20261216T124500
UID:262-476309-20261216T083000@VHSTÜBINGEN
SUMMARY:Deutsch Intensiv B1.2/ Integrationskurs 309 (262-476309) 
LOCATION:vhs, Schulungsraum 213, Katharinenstraße 18, 72072 Tübingen
END:VEVENT
BEGIN:VEVENT
DTSTAMP:20260421T132152
DTSTART;TZID=Europe/Berlin:20261217T083000
DTEND;TZID=Europe/Berlin:20261217T124500
UID:262-476309-20261217T083000@VHSTÜBINGEN
SUMMARY:Deutsch Intensiv B1.2/ Integrationskurs 309 (262-476309) 
LOCATION:vhs, Schulungsraum 213, Katharinenstraße 18, 72072 Tübingen
END:VEVENT
BEGIN:VEVENT
DTSTAMP:20260421T132152
DTSTART;TZID=Europe/Berlin:20261218T083000
DTEND;TZID=Europe/Berlin:20261218T124500
UID:262-476309-20261218T083000@VHSTÜBINGEN
SUMMARY:Deutsch Intensiv B1.2/ Integrationskurs 309 (262-476309) 
LOCATION:vhs, Schulungsraum 213, Katharinenstraße 18, 72072 Tübingen
END:VEVENT
BEGIN:VEVENT
DTSTAMP:20260421T132152
DTSTART;TZID=Europe/Berlin:20261221T083000
DTEND;TZID=Europe/Berlin:20261221T124500
UID:262-476309-20261221T083000@VHSTÜBINGEN
SUMMARY:Deutsch Intensiv B1.2/ Integrationskurs 309 (262-476309) 
LOCATION:vhs, Schulungsraum 213, Katharinenstraße 18, 72072 Tübingen
END:VEVENT
BEGIN:VEVENT
DTSTAMP:20260421T132152
DTSTART;TZID=Europe/Berlin:20261222T083000
DTEND;TZID=Europe/Berlin:20261222T124500
UID:262-476309-20261222T083000@VHSTÜBINGEN
SUMMARY:Deutsch Intensiv B1.2/ Integrationskurs 309 (262-476309) 
LOCATION:vhs, Schulungsraum 213, Katharinenstraße 18, 72072 Tübingen
END:VEVENT
BEGIN:VEVENT
DTSTAMP:20260421T132152
DTSTART;TZID=Europe/Berlin:20270112T083000
DTEND;TZID=Europe/Berlin:20270112T124500
UID:262-476309-20270112T083000@VHSTÜBINGEN
SUMMARY:Deutsch Intensiv B1.2/ Integrationskurs 309 (262-476309) 
LOCATION:vhs, Schulungsraum 213, Katharinenstraße 18, 72072 Tübingen
END:VEVENT
BEGIN:VEVENT
DTSTAMP:20260421T132152
DTSTART;TZID=Europe/Berlin:20270113T083000
DTEND;TZID=Europe/Berlin:20270113T124500
UID:262-476309-20270113T083000@VHSTÜBINGEN
SUMMARY:Deutsch Intensiv B1.2/ Integrationskurs 309 (262-476309) 
LOCATION:vhs, Schulungsraum 213, Katharinenstraße 18, 72072 Tübingen
END:VEVENT
END:VCALENDAR