BEGIN:VCALENDAR
VERSION:2.0
PRODID:https://www.kufer.de/kuferweb / DE
METHOD:PUBLISH
CALSCALE:GREGORIAN
X-WR-TIMEZONE:Europe/Berlin
BEGIN:VTIMEZONE
TZID:Europe/Berlin
X-LIC-LOCATION:Europe/Berlin
BEGIN:DAYLIGHT
TZOFFSETFROM:+0100
TZOFFSETTO:+0200
TZNAME:CEST
DTSTART:19700329T020000
RRULE:FREQ=YEARLY;INTERVAL=1;BYDAY=-1SU;BYMONTH=3
END:DAYLIGHT
BEGIN:STANDARD
TZOFFSETFROM:+0200
TZOFFSETTO:+0100
TZNAME:CET
DTSTART:19701025T030000
RRULE:FREQ=YEARLY;INTERVAL=1;BYDAY=-1SU;BYMONTH=10
END:STANDARD
END:VTIMEZONE
BEGIN:VEVENT
DTSTAMP:20260421T132123
DTSTART;TZID=Europe/Berlin:20270115T083000
DTEND;TZID=Europe/Berlin:20270115T123000
UID:262-476310-20270115T083000@VHSTÜBINGEN
SUMMARY:Deutsch Intensiv B1.2/ Integrationskurs 310 (262-476310) 
LOCATION:15 Seminar Tübingen, Raum 100, Mathildenstraße 32, 72072 Tübingen
END:VEVENT
BEGIN:VEVENT
DTSTAMP:20260421T132123
DTSTART;TZID=Europe/Berlin:20270118T083000
DTEND;TZID=Europe/Berlin:20270118T123000
UID:262-476310-20270118T083000@VHSTÜBINGEN
SUMMARY:Deutsch Intensiv B1.2/ Integrationskurs 310 (262-476310) 
LOCATION:15 Seminar Tübingen, Raum 100, Mathildenstraße 32, 72072 Tübingen
END:VEVENT
BEGIN:VEVENT
DTSTAMP:20260421T132123
DTSTART;TZID=Europe/Berlin:20270119T083000
DTEND;TZID=Europe/Berlin:20270119T123000
UID:262-476310-20270119T083000@VHSTÜBINGEN
SUMMARY:Deutsch Intensiv B1.2/ Integrationskurs 310 (262-476310) 
LOCATION:15 Seminar Tübingen, Raum 100, Mathildenstraße 32, 72072 Tübingen
END:VEVENT
BEGIN:VEVENT
DTSTAMP:20260421T132123
DTSTART;TZID=Europe/Berlin:20270121T083000
DTEND;TZID=Europe/Berlin:20270121T123000
UID:262-476310-20270121T083000@VHSTÜBINGEN
SUMMARY:Deutsch Intensiv B1.2/ Integrationskurs 310 (262-476310) 
LOCATION:15 Seminar Tübingen, Raum 100, Mathildenstraße 32, 72072 Tübingen
END:VEVENT
BEGIN:VEVENT
DTSTAMP:20260421T132123
DTSTART;TZID=Europe/Berlin:20270122T083000
DTEND;TZID=Europe/Berlin:20270122T123000
UID:262-476310-20270122T083000@VHSTÜBINGEN
SUMMARY:Deutsch Intensiv B1.2/ Integrationskurs 310 (262-476310) 
LOCATION:15 Seminar Tübingen, Raum 100, Mathildenstraße 32, 72072 Tübingen
END:VEVENT
BEGIN:VEVENT
DTSTAMP:20260421T132123
DTSTART;TZID=Europe/Berlin:20270125T083000
DTEND;TZID=Europe/Berlin:20270125T123000
UID:262-476310-20270125T083000@VHSTÜBINGEN
SUMMARY:Deutsch Intensiv B1.2/ Integrationskurs 310 (262-476310) 
LOCATION:15 Seminar Tübingen, Raum 100, Mathildenstraße 32, 72072 Tübingen
END:VEVENT
BEGIN:VEVENT
DTSTAMP:20260421T132123
DTSTART;TZID=Europe/Berlin:20270126T083000
DTEND;TZID=Europe/Berlin:20270126T123000
UID:262-476310-20270126T083000@VHSTÜBINGEN
SUMMARY:Deutsch Intensiv B1.2/ Integrationskurs 310 (262-476310) 
LOCATION:15 Seminar Tübingen, Raum 100, Mathildenstraße 32, 72072 Tübingen
END:VEVENT
BEGIN:VEVENT
DTSTAMP:20260421T132123
DTSTART;TZID=Europe/Berlin:20270128T083000
DTEND;TZID=Europe/Berlin:20270128T123000
UID:262-476310-20270128T083000@VHSTÜBINGEN
SUMMARY:Deutsch Intensiv B1.2/ Integrationskurs 310 (262-476310) 
LOCATION:15 Seminar Tübingen, Raum 100, Mathildenstraße 32, 72072 Tübingen
END:VEVENT
BEGIN:VEVENT
DTSTAMP:20260421T132123
DTSTART;TZID=Europe/Berlin:20270129T083000
DTEND;TZID=Europe/Berlin:20270129T123000
UID:262-476310-20270129T083000@VHSTÜBINGEN
SUMMARY:Deutsch Intensiv B1.2/ Integrationskurs 310 (262-476310) 
LOCATION:15 Seminar Tübingen, Raum 100, Mathildenstraße 32, 72072 Tübingen
END:VEVENT
BEGIN:VEVENT
DTSTAMP:20260421T132123
DTSTART;TZID=Europe/Berlin:20270201T083000
DTEND;TZID=Europe/Berlin:20270201T123000
UID:262-476310-20270201T083000@VHSTÜBINGEN
SUMMARY:Deutsch Intensiv B1.2/ Integrationskurs 310 (262-476310) 
LOCATION:15 Seminar Tübingen, Raum 100, Mathildenstraße 32, 72072 Tübingen
END:VEVENT
BEGIN:VEVENT
DTSTAMP:20260421T132123
DTSTART;TZID=Europe/Berlin:20270202T083000
DTEND;TZID=Europe/Berlin:20270202T123000
UID:262-476310-20270202T083000@VHSTÜBINGEN
SUMMARY:Deutsch Intensiv B1.2/ Integrationskurs 310 (262-476310) 
LOCATION:15 Seminar Tübingen, Raum 100, Mathildenstraße 32, 72072 Tübingen
END:VEVENT
BEGIN:VEVENT
DTSTAMP:20260421T132123
DTSTART;TZID=Europe/Berlin:20270204T083000
DTEND;TZID=Europe/Berlin:20270204T123000
UID:262-476310-20270204T083000@VHSTÜBINGEN
SUMMARY:Deutsch Intensiv B1.2/ Integrationskurs 310 (262-476310) 
LOCATION:15 Seminar Tübingen, Raum 100, Mathildenstraße 32, 72072 Tübingen
END:VEVENT
BEGIN:VEVENT
DTSTAMP:20260421T132123
DTSTART;TZID=Europe/Berlin:20270205T083000
DTEND;TZID=Europe/Berlin:20270205T123000
UID:262-476310-20270205T083000@VHSTÜBINGEN
SUMMARY:Deutsch Intensiv B1.2/ Integrationskurs 310 (262-476310) 
LOCATION:15 Seminar Tübingen, Raum 100, Mathildenstraße 32, 72072 Tübingen
END:VEVENT
BEGIN:VEVENT
DTSTAMP:20260421T132123
DTSTART;TZID=Europe/Berlin:20270215T083000
DTEND;TZID=Europe/Berlin:20270215T123000
UID:262-476310-20270215T083000@VHSTÜBINGEN
SUMMARY:Deutsch Intensiv B1.2/ Integrationskurs 310 (262-476310) 
LOCATION:15 Seminar Tübingen, Raum 100, Mathildenstraße 32, 72072 Tübingen
END:VEVENT
BEGIN:VEVENT
DTSTAMP:20260421T132123
DTSTART;TZID=Europe/Berlin:20270216T083000
DTEND;TZID=Europe/Berlin:20270216T123000
UID:262-476310-20270216T083000@VHSTÜBINGEN
SUMMARY:Deutsch Intensiv B1.2/ Integrationskurs 310 (262-476310) 
LOCATION:15 Seminar Tübingen, Raum 100, Mathildenstraße 32, 72072 Tübingen
END:VEVENT
BEGIN:VEVENT
DTSTAMP:20260421T132123
DTSTART;TZID=Europe/Berlin:20270218T083000
DTEND;TZID=Europe/Berlin:20270218T123000
UID:262-476310-20270218T083000@VHSTÜBINGEN
SUMMARY:Deutsch Intensiv B1.2/ Integrationskurs 310 (262-476310) 
LOCATION:15 Seminar Tübingen, Raum 100, Mathildenstraße 32, 72072 Tübingen
END:VEVENT
BEGIN:VEVENT
DTSTAMP:20260421T132123
DTSTART;TZID=Europe/Berlin:20270219T083000
DTEND;TZID=Europe/Berlin:20270219T123000
UID:262-476310-20270219T083000@VHSTÜBINGEN
SUMMARY:Deutsch Intensiv B1.2/ Integrationskurs 310 (262-476310) 
LOCATION:15 Seminar Tübingen, Raum 100, Mathildenstraße 32, 72072 Tübingen
END:VEVENT
BEGIN:VEVENT
DTSTAMP:20260421T132123
DTSTART;TZID=Europe/Berlin:20270222T083000
DTEND;TZID=Europe/Berlin:20270222T123000
UID:262-476310-20270222T083000@VHSTÜBINGEN
SUMMARY:Deutsch Intensiv B1.2/ Integrationskurs 310 (262-476310) 
LOCATION:15 Seminar Tübingen, Raum 100, Mathildenstraße 32, 72072 Tübingen
END:VEVENT
BEGIN:VEVENT
DTSTAMP:20260421T132123
DTSTART;TZID=Europe/Berlin:20270223T083000
DTEND;TZID=Europe/Berlin:20270223T123000
UID:262-476310-20270223T083000@VHSTÜBINGEN
SUMMARY:Deutsch Intensiv B1.2/ Integrationskurs 310 (262-476310) 
LOCATION:15 Seminar Tübingen, Raum 100, Mathildenstraße 32, 72072 Tübingen
END:VEVENT
BEGIN:VEVENT
DTSTAMP:20260421T132123
DTSTART;TZID=Europe/Berlin:20270225T083000
DTEND;TZID=Europe/Berlin:20270225T123000
UID:262-476310-20270225T083000@VHSTÜBINGEN
SUMMARY:Deutsch Intensiv B1.2/ Integrationskurs 310 (262-476310) 
LOCATION:15 Seminar Tübingen, Raum 100, Mathildenstraße 32, 72072 Tübingen
END:VEVENT
END:VCALENDAR