BEGIN:VCALENDAR
VERSION:2.0
PRODID:https://www.kufer.de/kuferweb / DE
METHOD:PUBLISH
CALSCALE:GREGORIAN
X-WR-TIMEZONE:Europe/Berlin
BEGIN:VTIMEZONE
TZID:Europe/Berlin
X-LIC-LOCATION:Europe/Berlin
BEGIN:DAYLIGHT
TZOFFSETFROM:+0100
TZOFFSETTO:+0200
TZNAME:CEST
DTSTART:19700329T020000
RRULE:FREQ=YEARLY;INTERVAL=1;BYDAY=-1SU;BYMONTH=3
END:DAYLIGHT
BEGIN:STANDARD
TZOFFSETFROM:+0200
TZOFFSETTO:+0100
TZNAME:CET
DTSTART:19701025T030000
RRULE:FREQ=YEARLY;INTERVAL=1;BYDAY=-1SU;BYMONTH=10
END:STANDARD
END:VTIMEZONE
BEGIN:VEVENT
DTSTAMP:20260421T132123
DTSTART;TZID=Europe/Berlin:20270219T083000
DTEND;TZID=Europe/Berlin:20270219T120000
UID:262-476312-20270219T083000@VHSTÜBINGEN
SUMMARY:Deutsch Intensiv B1.2/ Integrationskurs 312 (262-476312) 
LOCATION:15 Seminar Tübingen, Raum 101, Mathildenstraße 32, 72072 Tübingen
END:VEVENT
BEGIN:VEVENT
DTSTAMP:20260421T132123
DTSTART;TZID=Europe/Berlin:20270222T083000
DTEND;TZID=Europe/Berlin:20270222T120000
UID:262-476312-20270222T083000@VHSTÜBINGEN
SUMMARY:Deutsch Intensiv B1.2/ Integrationskurs 312 (262-476312) 
LOCATION:15 Seminar Tübingen, Raum 101, Mathildenstraße 32, 72072 Tübingen
END:VEVENT
BEGIN:VEVENT
DTSTAMP:20260421T132123
DTSTART;TZID=Europe/Berlin:20270223T083000
DTEND;TZID=Europe/Berlin:20270223T120000
UID:262-476312-20270223T083000@VHSTÜBINGEN
SUMMARY:Deutsch Intensiv B1.2/ Integrationskurs 312 (262-476312) 
LOCATION:15 Seminar Tübingen, Raum 101, Mathildenstraße 32, 72072 Tübingen
END:VEVENT
BEGIN:VEVENT
DTSTAMP:20260421T132123
DTSTART;TZID=Europe/Berlin:20270224T083000
DTEND;TZID=Europe/Berlin:20270224T120000
UID:262-476312-20270224T083000@VHSTÜBINGEN
SUMMARY:Deutsch Intensiv B1.2/ Integrationskurs 312 (262-476312) 
LOCATION:vhs, Schulungsraum 112, Katharinenstraße 18, 72072 Tübingen
END:VEVENT
BEGIN:VEVENT
DTSTAMP:20260421T132123
DTSTART;TZID=Europe/Berlin:20270225T083000
DTEND;TZID=Europe/Berlin:20270225T120000
UID:262-476312-20270225T083000@VHSTÜBINGEN
SUMMARY:Deutsch Intensiv B1.2/ Integrationskurs 312 (262-476312) 
LOCATION:15 Seminar Tübingen, Raum 101, Mathildenstraße 32, 72072 Tübingen
END:VEVENT
BEGIN:VEVENT
DTSTAMP:20260421T132123
DTSTART;TZID=Europe/Berlin:20270226T083000
DTEND;TZID=Europe/Berlin:20270226T120000
UID:262-476312-20270226T083000@VHSTÜBINGEN
SUMMARY:Deutsch Intensiv B1.2/ Integrationskurs 312 (262-476312) 
LOCATION:15 Seminar Tübingen, Raum 101, Mathildenstraße 32, 72072 Tübingen
END:VEVENT
BEGIN:VEVENT
DTSTAMP:20260421T132123
DTSTART;TZID=Europe/Berlin:20270301T083000
DTEND;TZID=Europe/Berlin:20270301T120000
UID:262-476312-20270301T083000@VHSTÜBINGEN
SUMMARY:Deutsch Intensiv B1.2/ Integrationskurs 312 (262-476312) 
LOCATION:15 Seminar Tübingen, Raum 101, Mathildenstraße 32, 72072 Tübingen
END:VEVENT
BEGIN:VEVENT
DTSTAMP:20260421T132123
DTSTART;TZID=Europe/Berlin:20270302T083000
DTEND;TZID=Europe/Berlin:20270302T120000
UID:262-476312-20270302T083000@VHSTÜBINGEN
SUMMARY:Deutsch Intensiv B1.2/ Integrationskurs 312 (262-476312) 
LOCATION:15 Seminar Tübingen, Raum 101, Mathildenstraße 32, 72072 Tübingen
END:VEVENT
BEGIN:VEVENT
DTSTAMP:20260421T132123
DTSTART;TZID=Europe/Berlin:20270303T083000
DTEND;TZID=Europe/Berlin:20270303T120000
UID:262-476312-20270303T083000@VHSTÜBINGEN
SUMMARY:Deutsch Intensiv B1.2/ Integrationskurs 312 (262-476312) 
LOCATION:vhs, Schulungsraum 112, Katharinenstraße 18, 72072 Tübingen
END:VEVENT
BEGIN:VEVENT
DTSTAMP:20260421T132123
DTSTART;TZID=Europe/Berlin:20270304T083000
DTEND;TZID=Europe/Berlin:20270304T120000
UID:262-476312-20270304T083000@VHSTÜBINGEN
SUMMARY:Deutsch Intensiv B1.2/ Integrationskurs 312 (262-476312) 
LOCATION:15 Seminar Tübingen, Raum 101, Mathildenstraße 32, 72072 Tübingen
END:VEVENT
BEGIN:VEVENT
DTSTAMP:20260421T132123
DTSTART;TZID=Europe/Berlin:20270305T083000
DTEND;TZID=Europe/Berlin:20270305T120000
UID:262-476312-20270305T083000@VHSTÜBINGEN
SUMMARY:Deutsch Intensiv B1.2/ Integrationskurs 312 (262-476312) 
LOCATION:15 Seminar Tübingen, Raum 101, Mathildenstraße 32, 72072 Tübingen
END:VEVENT
BEGIN:VEVENT
DTSTAMP:20260421T132123
DTSTART;TZID=Europe/Berlin:20270308T083000
DTEND;TZID=Europe/Berlin:20270308T120000
UID:262-476312-20270308T083000@VHSTÜBINGEN
SUMMARY:Deutsch Intensiv B1.2/ Integrationskurs 312 (262-476312) 
LOCATION:15 Seminar Tübingen, Raum 101, Mathildenstraße 32, 72072 Tübingen
END:VEVENT
BEGIN:VEVENT
DTSTAMP:20260421T132123
DTSTART;TZID=Europe/Berlin:20270309T083000
DTEND;TZID=Europe/Berlin:20270309T120000
UID:262-476312-20270309T083000@VHSTÜBINGEN
SUMMARY:Deutsch Intensiv B1.2/ Integrationskurs 312 (262-476312) 
LOCATION:15 Seminar Tübingen, Raum 101, Mathildenstraße 32, 72072 Tübingen
END:VEVENT
BEGIN:VEVENT
DTSTAMP:20260421T132123
DTSTART;TZID=Europe/Berlin:20270310T083000
DTEND;TZID=Europe/Berlin:20270310T120000
UID:262-476312-20270310T083000@VHSTÜBINGEN
SUMMARY:Deutsch Intensiv B1.2/ Integrationskurs 312 (262-476312) 
LOCATION:vhs, Schulungsraum 112, Katharinenstraße 18, 72072 Tübingen
END:VEVENT
BEGIN:VEVENT
DTSTAMP:20260421T132123
DTSTART;TZID=Europe/Berlin:20270311T083000
DTEND;TZID=Europe/Berlin:20270311T120000
UID:262-476312-20270311T083000@VHSTÜBINGEN
SUMMARY:Deutsch Intensiv B1.2/ Integrationskurs 312 (262-476312) 
LOCATION:15 Seminar Tübingen, Raum 101, Mathildenstraße 32, 72072 Tübingen
END:VEVENT
BEGIN:VEVENT
DTSTAMP:20260421T132123
DTSTART;TZID=Europe/Berlin:20270312T083000
DTEND;TZID=Europe/Berlin:20270312T120000
UID:262-476312-20270312T083000@VHSTÜBINGEN
SUMMARY:Deutsch Intensiv B1.2/ Integrationskurs 312 (262-476312) 
LOCATION:15 Seminar Tübingen, Raum 101, Mathildenstraße 32, 72072 Tübingen
END:VEVENT
BEGIN:VEVENT
DTSTAMP:20260421T132123
DTSTART;TZID=Europe/Berlin:20270315T083000
DTEND;TZID=Europe/Berlin:20270315T120000
UID:262-476312-20270315T083000@VHSTÜBINGEN
SUMMARY:Deutsch Intensiv B1.2/ Integrationskurs 312 (262-476312) 
LOCATION:15 Seminar Tübingen, Raum 101, Mathildenstraße 32, 72072 Tübingen
END:VEVENT
BEGIN:VEVENT
DTSTAMP:20260421T132123
DTSTART;TZID=Europe/Berlin:20270316T083000
DTEND;TZID=Europe/Berlin:20270316T120000
UID:262-476312-20270316T083000@VHSTÜBINGEN
SUMMARY:Deutsch Intensiv B1.2/ Integrationskurs 312 (262-476312) 
LOCATION:15 Seminar Tübingen, Raum 101, Mathildenstraße 32, 72072 Tübingen
END:VEVENT
BEGIN:VEVENT
DTSTAMP:20260421T132123
DTSTART;TZID=Europe/Berlin:20270317T083000
DTEND;TZID=Europe/Berlin:20270317T120000
UID:262-476312-20270317T083000@VHSTÜBINGEN
SUMMARY:Deutsch Intensiv B1.2/ Integrationskurs 312 (262-476312) 
LOCATION:vhs, Schulungsraum 112, Katharinenstraße 18, 72072 Tübingen
END:VEVENT
BEGIN:VEVENT
DTSTAMP:20260421T132123
DTSTART;TZID=Europe/Berlin:20270318T083000
DTEND;TZID=Europe/Berlin:20270318T120000
UID:262-476312-20270318T083000@VHSTÜBINGEN
SUMMARY:Deutsch Intensiv B1.2/ Integrationskurs 312 (262-476312) 
LOCATION:15 Seminar Tübingen, Raum 101, Mathildenstraße 32, 72072 Tübingen
END:VEVENT
BEGIN:VEVENT
DTSTAMP:20260421T132123
DTSTART;TZID=Europe/Berlin:20270319T083000
DTEND;TZID=Europe/Berlin:20270319T120000
UID:262-476312-20270319T083000@VHSTÜBINGEN
SUMMARY:Deutsch Intensiv B1.2/ Integrationskurs 312 (262-476312) 
LOCATION:15 Seminar Tübingen, Raum 101, Mathildenstraße 32, 72072 Tübingen
END:VEVENT
BEGIN:VEVENT
DTSTAMP:20260421T132123
DTSTART;TZID=Europe/Berlin:20270322T083000
DTEND;TZID=Europe/Berlin:20270322T120000
UID:262-476312-20270322T083000@VHSTÜBINGEN
SUMMARY:Deutsch Intensiv B1.2/ Integrationskurs 312 (262-476312) 
LOCATION:15 Seminar Tübingen, Raum 101, Mathildenstraße 32, 72072 Tübingen
END:VEVENT
BEGIN:VEVENT
DTSTAMP:20260421T132123
DTSTART;TZID=Europe/Berlin:20270323T083000
DTEND;TZID=Europe/Berlin:20270323T120000
UID:262-476312-20270323T083000@VHSTÜBINGEN
SUMMARY:Deutsch Intensiv B1.2/ Integrationskurs 312 (262-476312) 
LOCATION:15 Seminar Tübingen, Raum 101, Mathildenstraße 32, 72072 Tübingen
END:VEVENT
BEGIN:VEVENT
DTSTAMP:20260421T132123
DTSTART;TZID=Europe/Berlin:20270324T083000
DTEND;TZID=Europe/Berlin:20270324T120000
UID:262-476312-20270324T083000@VHSTÜBINGEN
SUMMARY:Deutsch Intensiv B1.2/ Integrationskurs 312 (262-476312) 
LOCATION:vhs, Schulungsraum 112, Katharinenstraße 18, 72072 Tübingen
END:VEVENT
BEGIN:VEVENT
DTSTAMP:20260421T132123
DTSTART;TZID=Europe/Berlin:20270325T083000
DTEND;TZID=Europe/Berlin:20270325T120000
UID:262-476312-20270325T083000@VHSTÜBINGEN
SUMMARY:Deutsch Intensiv B1.2/ Integrationskurs 312 (262-476312) 
LOCATION:15 Seminar Tübingen, Raum 101, Mathildenstraße 32, 72072 Tübingen
END:VEVENT
END:VCALENDAR