BEGIN:VCALENDAR
VERSION:2.0
PRODID:https://www.kufer.de/kuferweb / DE
METHOD:PUBLISH
CALSCALE:GREGORIAN
X-WR-TIMEZONE:Europe/Berlin
BEGIN:VTIMEZONE
TZID:Europe/Berlin
X-LIC-LOCATION:Europe/Berlin
BEGIN:DAYLIGHT
TZOFFSETFROM:+0100
TZOFFSETTO:+0200
TZNAME:CEST
DTSTART:19700329T020000
RRULE:FREQ=YEARLY;INTERVAL=1;BYDAY=-1SU;BYMONTH=3
END:DAYLIGHT
BEGIN:STANDARD
TZOFFSETFROM:+0200
TZOFFSETTO:+0100
TZNAME:CET
DTSTART:19701025T030000
RRULE:FREQ=YEARLY;INTERVAL=1;BYDAY=-1SU;BYMONTH=10
END:STANDARD
END:VTIMEZONE
BEGIN:VEVENT
DTSTAMP:20260420T211247
DTSTART;TZID=Europe/Berlin:20261001T190000
DTEND;TZID=Europe/Berlin:20261001T200000
UID:262-84201-20261001T190000@VHSTÜBINGEN
SUMMARY:Islandpullover stricken von der ersten Masche zum individuellen Lieblingsstück (262-84201) 
LOCATION:84 Graf-Eberhard-Schule Kirchentellinsfurt, TW Raum, Kirchfeldstraße 15, 72138 Kirchentellinsfurt
END:VEVENT
BEGIN:VEVENT
DTSTAMP:20260420T211247
DTSTART;TZID=Europe/Berlin:20261022T190000
DTEND;TZID=Europe/Berlin:20261022T210000
UID:262-84201-20261022T190000@VHSTÜBINGEN
SUMMARY:Islandpullover stricken von der ersten Masche zum individuellen Lieblingsstück (262-84201) 
LOCATION:84 Graf-Eberhard-Schule Kirchentellinsfurt, TW Raum, Kirchfeldstraße 15, 72138 Kirchentellinsfurt
END:VEVENT
BEGIN:VEVENT
DTSTAMP:20260420T211247
DTSTART;TZID=Europe/Berlin:20261105T190000
DTEND;TZID=Europe/Berlin:20261105T210000
UID:262-84201-20261105T190000@VHSTÜBINGEN
SUMMARY:Islandpullover stricken von der ersten Masche zum individuellen Lieblingsstück (262-84201) 
LOCATION:84 Graf-Eberhard-Schule Kirchentellinsfurt, TW Raum, Kirchfeldstraße 15, 72138 Kirchentellinsfurt
END:VEVENT
BEGIN:VEVENT
DTSTAMP:20260420T211247
DTSTART;TZID=Europe/Berlin:20261119T190000
DTEND;TZID=Europe/Berlin:20261119T210000
UID:262-84201-20261119T190000@VHSTÜBINGEN
SUMMARY:Islandpullover stricken von der ersten Masche zum individuellen Lieblingsstück (262-84201) 
LOCATION:84 Graf-Eberhard-Schule Kirchentellinsfurt, TW Raum, Kirchfeldstraße 15, 72138 Kirchentellinsfurt
END:VEVENT
BEGIN:VEVENT
DTSTAMP:20260420T211247
DTSTART;TZID=Europe/Berlin:20261210T190000
DTEND;TZID=Europe/Berlin:20261210T200000
UID:262-84201-20261210T190000@VHSTÜBINGEN
SUMMARY:Islandpullover stricken von der ersten Masche zum individuellen Lieblingsstück (262-84201) 
LOCATION:84 Graf-Eberhard-Schule Kirchentellinsfurt, TW Raum, Kirchfeldstraße 15, 72138 Kirchentellinsfurt
END:VEVENT
END:VCALENDAR